BEGIN:VCALENDAR
VERSION:2.0
PRODID:-//Kids on Tour - ECPv6.2.6//NONSGML v1.0//EN
CALSCALE:GREGORIAN
METHOD:PUBLISH
X-WR-CALNAME:Kids on Tour
X-ORIGINAL-URL:https://kids-on-tour.net
X-WR-CALDESC:Events for Kids on Tour
REFRESH-INTERVAL;VALUE=DURATION:PT1H
X-Robots-Tag:noindex
X-PUBLISHED-TTL:PT1H
BEGIN:VTIMEZONE
TZID:America/Chicago
BEGIN:DAYLIGHT
TZOFFSETFROM:-0600
TZOFFSETTO:-0500
TZNAME:CDT
DTSTART:20250309T080000
END:DAYLIGHT
BEGIN:STANDARD
TZOFFSETFROM:-0500
TZOFFSETTO:-0600
TZNAME:CST
DTSTART:20251102T070000
END:STANDARD
BEGIN:DAYLIGHT
TZOFFSETFROM:-0600
TZOFFSETTO:-0500
TZNAME:CDT
DTSTART:20260308T080000
END:DAYLIGHT
BEGIN:STANDARD
TZOFFSETFROM:-0500
TZOFFSETTO:-0600
TZNAME:CST
DTSTART:20261101T070000
END:STANDARD
TZID:America/New_York
BEGIN:DAYLIGHT
TZOFFSETFROM:-0500
TZOFFSETTO:-0400
TZNAME:EDT
DTSTART:20250309T070000
END:DAYLIGHT
BEGIN:STANDARD
TZOFFSETFROM:-0400
TZOFFSETTO:-0500
TZNAME:EST
DTSTART:20251102T060000
END:STANDARD
BEGIN:DAYLIGHT
TZOFFSETFROM:-0500
TZOFFSETTO:-0400
TZNAME:EDT
DTSTART:20260308T070000
END:DAYLIGHT
BEGIN:STANDARD
TZOFFSETFROM:-0400
TZOFFSETTO:-0500
TZNAME:EST
DTSTART:20261101T060000
END:STANDARD
TZID:America/Los_Angeles
BEGIN:DAYLIGHT
TZOFFSETFROM:-0800
TZOFFSETTO:-0700
TZNAME:PDT
DTSTART:20250309T100000
END:DAYLIGHT
BEGIN:STANDARD
TZOFFSETFROM:-0700
TZOFFSETTO:-0800
TZNAME:PST
DTSTART:20251102T090000
END:STANDARD
TZID:America/Denver
BEGIN:DAYLIGHT
TZOFFSETFROM:-0700
TZOFFSETTO:-0600
TZNAME:MDT
DTSTART:20250309T090000
END:DAYLIGHT
BEGIN:STANDARD
TZOFFSETFROM:-0600
TZOFFSETTO:-0700
TZNAME:MST
DTSTART:20251102T080000
END:STANDARD
BEGIN:DAYLIGHT
TZOFFSETFROM:-0700
TZOFFSETTO:-0600
TZNAME:MDT
DTSTART:20260308T090000
END:DAYLIGHT
BEGIN:STANDARD
TZOFFSETFROM:-0600
TZOFFSETTO:-0700
TZNAME:MST
DTSTART:20261101T080000
END:STANDARD
TZID:America/New_York
BEGIN:DAYLIGHT
TZOFFSETFROM:-0500
TZOFFSETTO:-0400
TZNAME:EDT
DTSTART:20250309T070000
END:DAYLIGHT
BEGIN:STANDARD
TZOFFSETFROM:-0400
TZOFFSETTO:-0500
TZNAME:EST
DTSTART:20251102T060000
END:STANDARD
END:VTIMEZONE
BEGIN:VEVENT
DTSTART;VALUE=DATE:20250926
DTEND;VALUE=DATE:20251203
DTSTAMP:20260419T060903
CREATED:20250919T185843Z
LAST-MODIFIED:20250919T185843Z
UID:24916-1758844800-1764719999@kids-on-tour.net
SUMMARY:In the Land of Oz - Columbus Children's Theatre
DESCRIPTION:TICKETS  \n\n\n\nOwen Suarez\n(Peter Pan)\nas Tip  \n 
URL:https://kids-on-tour.net/event/in-the-land-of-oz-cct/
LOCATION:Columbus Children’s Theater\, 1165 Dublin Road\, Columbus\, OH\, United States
CATEGORIES:Regional
ATTACH;FMTTYPE=image/png:https://kids-on-tour.net/wp-content/uploads/2025/09/in-the-land-of-oz-banner.png
END:VEVENT
BEGIN:VEVENT
DTSTART;VALUE=DATE:20251011
DTEND;VALUE=DATE:20260105
DTSTAMP:20260419T060903
CREATED:20250925T183741Z
LAST-MODIFIED:20250925T183741Z
UID:24938-1760140800-1767571199@kids-on-tour.net
SUMMARY:Finding Nemo - Marriott Theatre
DESCRIPTION:TICKETS  \n\n\n\nAvelyn Lena Choi\n(Frozen)\nas Nemo  \n 
URL:https://kids-on-tour.net/event/finding-nemo-marriott-theatre/
LOCATION:Marriott Theatre\, 10 Marriott Dr\, Lincolnshire\, IL\, 60069\, United States
CATEGORIES:Regional
ATTACH;FMTTYPE=image/png:https://kids-on-tour.net/wp-content/uploads/2025/09/finding-nemo-banner.png
END:VEVENT
BEGIN:VEVENT
DTSTART;VALUE=DATE:20251016
DTEND;VALUE=DATE:20251102
DTSTAMP:20260419T060903
CREATED:20251021T211442Z
LAST-MODIFIED:20251021T211442Z
UID:25037-1760572800-1762041599@kids-on-tour.net
SUMMARY:Parade - Ephrata Performing Arts Center
DESCRIPTION:TICKETS  \n\n\n\nJack Ryan Packer\n(Finding Neverland)\nas Frankie  \n 
URL:https://kids-on-tour.net/event/parade-ephrata-performing-arts-center/
LOCATION:Ephrata Performing Arts Center\, 320 Cocalico St\, Ephrata\, PA\, 17522\, United States
CATEGORIES:Regional
ATTACH;FMTTYPE=image/jpeg:https://kids-on-tour.net/wp-content/uploads/2025/10/parade-epac.jpg
END:VEVENT
BEGIN:VEVENT
DTSTART;VALUE=DATE:20251023
DTEND;VALUE=DATE:20251103
DTSTAMP:20260419T060903
CREATED:20251021T061507Z
LAST-MODIFIED:20251021T061507Z
UID:25033-1761177600-1762127999@kids-on-tour.net
SUMMARY:Crazy For You - New Day Children's Theatre
DESCRIPTION:TICKETS  \n\n\n\nCaleb Alexander Thompson\n(Kinky Boots)\nas Pete  \n 
URL:https://kids-on-tour.net/event/crazy-for-you-new-day-childrens-theatre/
LOCATION:The Harrell Theatre\, 1 Railroad Plz\, Whippany\, NJ\, 07981\, United States
CATEGORIES:Regional
ATTACH;FMTTYPE=image/png:https://kids-on-tour.net/wp-content/uploads/2025/10/crazy-for-you-banner.png
END:VEVENT
BEGIN:VEVENT
DTSTART;VALUE=DATE:20251101
DTEND;VALUE=DATE:20251110
DTSTAMP:20260419T060903
CREATED:20250924T223116Z
LAST-MODIFIED:20250924T223116Z
UID:24933-1761955200-1762732799@kids-on-tour.net
SUMMARY:Perfect World - El Portal Theater
DESCRIPTION:TICKETS  \n\n\n\nCatherine Last\n(Waitress)\nas u/s Young Barbara\, Anne\, Sophia  \n  \n  \n\n\nElizabeth Last\n(Waitress)\nas Young Anne  \n  \n 
URL:https://kids-on-tour.net/event/perfect-world-el-portal-theater/
LOCATION:El Portal Theater\, 5269 Lankershim Blvd\, North Hollywood\, CA\, 91601\, United States
CATEGORIES:Regional
ATTACH;FMTTYPE=image/png:https://kids-on-tour.net/wp-content/uploads/2025/09/perfect-world-banner.png
END:VEVENT
BEGIN:VEVENT
DTSTART;TZID=America/Chicago:20251101T140000
DTEND;TZID=America/Chicago:20251101T163000
DTSTAMP:20260419T060903
CREATED:20250702T225914Z
LAST-MODIFIED:20250729T223937Z
UID:24703-1762005600-1762014600@kids-on-tour.net
SUMMARY:ELF First Performance
DESCRIPTION:GET TICKETS
URL:https://kids-on-tour.net/event/elf-first-performance-2025/
LOCATION:Clark State Performing Arts Center\, 300 S Fountain Ave\, Springfield\, OH\, 45506\, United States
CATEGORIES:Calendar
ATTACH;FMTTYPE=image/jpeg:https://kids-on-tour.net/wp-content/uploads/2021/12/elf-musical-logo-banner.jpg
END:VEVENT
BEGIN:VEVENT
DTSTART;TZID=America/Los_Angeles:20251101T190000
DTEND;TZID=America/Los_Angeles:20251101T203000
DTSTAMP:20260419T060903
CREATED:20251021T060559Z
LAST-MODIFIED:20251021T060559Z
UID:25025-1762023600-1762029000@kids-on-tour.net
SUMMARY:Broadway Star Project's Halloween Party Concert (In-Person and Livestream)
DESCRIPTION:PURCHASE IN-PERSON AND LIVESTREAM TICKETS \nCo-music direction by Joshua Turchin (A Christmas Story). \nBroadway Star Project’s Halloween Party at The Green Room 42 \nJoin us for a ghoulishly good night of fun\, laughter\, and music at The Broadway Star Project’s Halloween Party! \nDress up as your favorite character and get ready for a thrilling evening featuring performances by rising stars from The Broadway Star Project alongside special Broadway guest artists. \nExpect a spellbinding mix of talent\, creativity\, and Halloween spirit — all in one unforgettable celebration! \nCostumes encouraged. Surprises guaranteed. Magic inevitable. \nOne night only — don’t miss it!
URL:https://kids-on-tour.net/event/broadway-star-projects-halloween-party-concert-in-person-and-livestream/
LOCATION:The Green Room 42\, 570 10th Ave\, New York\, NY\, 10036\, United States
CATEGORIES:Calendar,Livestreams
ATTACH;FMTTYPE=image/jpeg:https://kids-on-tour.net/wp-content/uploads/2025/10/halloween-party-graphic-kot.jpeg
END:VEVENT
BEGIN:VEVENT
DTSTART;TZID=America/Los_Angeles:20251102T130000
DTEND;TZID=America/Los_Angeles:20251102T143000
DTSTAMP:20260419T060903
CREATED:20251017T224918Z
LAST-MODIFIED:20251017T224918Z
UID:25001-1762088400-1762093800@kids-on-tour.net
SUMMARY:HOW THE GRINCH STOLE CHRISTMAS Old Max First Performance
DESCRIPTION:GET TICKETS
URL:https://kids-on-tour.net/event/how-the-grinch-stole-christmas-old-max-first-performance-2025/
LOCATION:McCallum Theatre\, 73000 Fred Waring Dr\, Palm Desert\, CA\, 92260\, United States
CATEGORIES:Calendar
ATTACH;FMTTYPE=image/jpeg:https://kids-on-tour.net/wp-content/uploads/2020/08/grinch-banner-large.jpg
END:VEVENT
BEGIN:VEVENT
DTSTART;VALUE=DATE:20251107
DTEND;VALUE=DATE:20251108
DTSTAMP:20260419T060903
CREATED:20250630T210141Z
LAST-MODIFIED:20250630T210141Z
UID:24686-1762473600-1762559999@kids-on-tour.net
SUMMARY:"I Wish You All The Best" Release Date
DESCRIPTION:MORE INFO \nFeaturing Lexi Underwood (The Lion King Broadway and tour productions\, Freeform’s “Cruel Summer”)!
URL:https://kids-on-tour.net/event/i-wish-you-all-the-best-release-date/
LOCATION:Movie Theaters
CATEGORIES:Calendar
ATTACH;FMTTYPE=image/jpeg:https://kids-on-tour.net/wp-content/uploads/2025/06/i-wish-you-all-the-best-banner.jpg
END:VEVENT
BEGIN:VEVENT
DTSTART;VALUE=DATE:20251107
DTEND;VALUE=DATE:20251222
DTSTAMP:20260419T060903
CREATED:20250926T224119Z
LAST-MODIFIED:20250926T224119Z
UID:24951-1762473600-1766361599@kids-on-tour.net
SUMMARY:Annie - Berkeley Playhouse
DESCRIPTION:TICKETS  \n\n\n\nCara Impallomeni\n(How the Grinch Stole Christmas)\nas Annie  \n 
URL:https://kids-on-tour.net/event/annie-berkeley-playhouse/
LOCATION:Julia Morgan Theater at Berkeley Playhouse\, 2640 College Avenue\, Berkeley\, CA\, 94704\, United States
CATEGORIES:Regional
ATTACH;FMTTYPE=image/jpeg:https://kids-on-tour.net/wp-content/uploads/2025/09/annie-berkeley-playhouse.jpg
END:VEVENT
BEGIN:VEVENT
DTSTART;VALUE=DATE:20251107
DTEND;VALUE=DATE:20251109
DTSTAMP:20260419T060903
CREATED:20251006T210450Z
LAST-MODIFIED:20251006T210450Z
UID:24986-1762473600-1762646399@kids-on-tour.net
SUMMARY:How the Grinch Stole Christmas The Musical Jr - Musical Mayhem Productions
DESCRIPTION:TICKETS  \n\n\n\nZoey Lack\n(Waitress)\nas Punky/Who Child  \n 
URL:https://kids-on-tour.net/event/grinch-musical-mayhem-productions/
LOCATION:Cosumnes Oaks High School Performing Arts Center\, 8350 Lotz Parkway\, Elk Grove\, CA\, 95757\, United States
CATEGORIES:Regional
ATTACH;FMTTYPE=image/png:https://kids-on-tour.net/wp-content/uploads/2025/10/grinch-jr-banner.png
END:VEVENT
BEGIN:VEVENT
DTSTART;TZID=America/Chicago:20251107T190000
DTEND;TZID=America/Chicago:20251107T203000
DTSTAMP:20260419T060903
CREATED:20251017T225211Z
LAST-MODIFIED:20251017T225211Z
UID:25007-1762542000-1762547400@kids-on-tour.net
SUMMARY:HOW THE GRINCH STOLE CHRISTMAS Young Max First Performance
DESCRIPTION:GET TICKETS
URL:https://kids-on-tour.net/event/how-the-grinch-stole-christmas-young-max-first-performance-2025/
LOCATION:Miller Auditorium\, 2200 Auditorium Dr\, Kalamazoo\, MI\, 49008\, United States
CATEGORIES:Calendar
ATTACH;FMTTYPE=image/jpeg:https://kids-on-tour.net/wp-content/uploads/2020/08/grinch-banner-large.jpg
END:VEVENT
BEGIN:VEVENT
DTSTART;VALUE=DATE:20251108
DTEND;VALUE=DATE:20251110
DTSTAMP:20260419T060903
CREATED:20251021T061028Z
LAST-MODIFIED:20251021T061028Z
UID:25028-1762560000-1762732799@kids-on-tour.net
SUMMARY:Breakfast with the Birds - Florida Children's Theatre
DESCRIPTION:TICKETS  \n\n\n\nSunny Lauren Hoder\n(Mrs. Doubtfire)\nas Molly  \n 
URL:https://kids-on-tour.net/event/breakfast-with-the-birds-florida-childrens-theatre/
LOCATION:Florida Children’s Theatre\, 3501 Davie Rd Bldg. 5-101\, Davie\, FL\, 33314\, United States
CATEGORIES:Regional
ATTACH;FMTTYPE=image/png:https://kids-on-tour.net/wp-content/uploads/2025/10/breakfast-with-the-birds-banner.png
END:VEVENT
BEGIN:VEVENT
DTSTART;TZID=America/New_York:20251109T130000
DTEND;TZID=America/New_York:20251109T143000
DTSTAMP:20260419T060903
CREATED:20251029T210832Z
LAST-MODIFIED:20251029T210832Z
UID:25135-1762693200-1762698600@kids-on-tour.net
SUMMARY:Broadway Dreams Cabaret
DESCRIPTION:PURCHASE TICKETS \nFeaturing Natalia Artigas (Frozen)\, Iris Davies (The Sound of Music)\, and Addie Jaymes (Annie)!  \nFeaturing performers from Broadway\, national tours\, television and film\, appearing alongside rising stars. All proceeds benefit KOTA’s 501(c)3 Scholarship Fund\, which expands access to professional training and performance opportunities for emerging artists.
URL:https://kids-on-tour.net/event/broadway-dreams-cabaret/
LOCATION:Laurie Beechman Theater\, 407 W. 42nd Street\, New York\, NY\, 10036\, United States
CATEGORIES:Calendar
ATTACH;FMTTYPE=image/png:https://kids-on-tour.net/wp-content/uploads/2025/10/broadway-dreams-cabaret-banner.png
END:VEVENT
BEGIN:VEVENT
DTSTART;TZID=America/New_York:20251111T193000
DTEND;TZID=America/New_York:20251111T220000
DTSTAMP:20260419T060903
CREATED:20250702T231106Z
LAST-MODIFIED:20250729T223845Z
UID:24717-1762889400-1762898400@kids-on-tour.net
SUMMARY:A CHRISTMAS STORY First Performance
DESCRIPTION:GET TICKETS
URL:https://kids-on-tour.net/event/a-christmas-story-first-performance-2025/
LOCATION:Stanley Theater\, 259 Genesee St\, Utica\, NY\, 13501\, United States
CATEGORIES:Calendar
ATTACH;FMTTYPE=image/jpeg:https://kids-on-tour.net/wp-content/uploads/2020/08/a-christmas-story-banner-large.jpg
END:VEVENT
BEGIN:VEVENT
DTSTART;VALUE=DATE:20251114
DTEND;VALUE=DATE:20251116
DTSTAMP:20260419T060903
CREATED:20251006T210257Z
LAST-MODIFIED:20251006T210257Z
UID:24982-1763078400-1763251199@kids-on-tour.net
SUMMARY:Frozen Jr - Musical Mayhem Productions
DESCRIPTION:TICKETS  \n\n\n\nZoey Lack\n(Waitress)\nas Olaf  \n 
URL:https://kids-on-tour.net/event/frozen-jr-musical-mayhem-productions/
LOCATION:Cosumnes Oaks High School Performing Arts Center\, 8350 Lotz Parkway\, Elk Grove\, CA\, 95757\, United States
CATEGORIES:Regional
ATTACH;FMTTYPE=image/png:https://kids-on-tour.net/wp-content/uploads/2025/10/frozen-jr-mmp.png
END:VEVENT
BEGIN:VEVENT
DTSTART;VALUE=DATE:20251114
DTEND;VALUE=DATE:20251229
DTSTAMP:20260419T060903
CREATED:20251021T054411Z
LAST-MODIFIED:20251021T054411Z
UID:25012-1763078400-1766966399@kids-on-tour.net
SUMMARY:White Christmas - Goodspeed Musicals
DESCRIPTION:TICKETS  \n\n\n\nSofie Nesanelis\n(Les Miserables\, How the Grinch Stole Christmas)\nas Susan Waverly  \n  \n 
URL:https://kids-on-tour.net/event/white-christmas-goodspeed-musicals/
LOCATION:Goodspeed Opera House\, 6 Main St\, East Haddam\, CT\, 06423\, United States
CATEGORIES:Regional
ATTACH;FMTTYPE=image/jpeg:https://kids-on-tour.net/wp-content/uploads/2025/10/white-christmas-goodspeed-banner.jpg
END:VEVENT
BEGIN:VEVENT
DTSTART;TZID=America/Chicago:20251115T193000
DTEND;TZID=America/Chicago:20251115T220000
DTSTAMP:20260419T060903
CREATED:20250729T223234Z
LAST-MODIFIED:20250729T223234Z
UID:24776-1763235000-1763244000@kids-on-tour.net
SUMMARY:DOLLY PARTON'S SMOKY MOUNTAIN CHRISTMAS CAROL First Performance
DESCRIPTION:GET TICKETS
URL:https://kids-on-tour.net/event/the-music-man-first-performance-duplicate-1/
LOCATION:RiverPark Center\, 101 Daviess St.\, Owensboro\, KY\, 42303\, United States
CATEGORIES:Calendar
ATTACH;FMTTYPE=image/jpeg:https://kids-on-tour.net/wp-content/uploads/2025/07/dolly-partons-smoky-mountain-christmas-carol-banner.jpeg
END:VEVENT
BEGIN:VEVENT
DTSTART;VALUE=DATE:20251117
DTEND;VALUE=DATE:20260215
DTSTAMP:20260419T060903
CREATED:20250623T214808Z
LAST-MODIFIED:20250926T223134Z
UID:24660-1763337600-1771113599@kids-on-tour.net
SUMMARY:Frozen - Hale Centre Theatre
DESCRIPTION:TICKETS  \n\n\n\nHailey Burnham\n(How the Grinch Stole Christmas)\nas Young Elsa  \n  \n\n\nPenny Hodson\n(The Sound of Music)\nas Young Elsa  \n 
URL:https://kids-on-tour.net/event/frozen-hale-centre-theatre/
LOCATION:Hale Centre Theatre\, 9900 Monroe St\, Sandy\, UT\, 84070\, United States
CATEGORIES:Regional
ATTACH;FMTTYPE=image/jpeg:https://kids-on-tour.net/wp-content/uploads/2025/06/frozen-musical-banner-2025.jpg
END:VEVENT
BEGIN:VEVENT
DTSTART;VALUE=DATE:20251121
DTEND;VALUE=DATE:20251223
DTSTAMP:20260419T060903
CREATED:20250926T223758Z
LAST-MODIFIED:20250926T223758Z
UID:24946-1763683200-1766447999@kids-on-tour.net
SUMMARY:Annie - Wheelock Family Theatre
DESCRIPTION:TICKETS  \n\n\n\nSky Vaux Fuller\n(Les Miserables)\nas Annie  \n 
URL:https://kids-on-tour.net/event/annie-wheelock-family-theatre/
LOCATION:Wheelock Family Theatre\, 200 The Riverway\, Boston\, MA\, 02215\, United States
CATEGORIES:Regional
ATTACH;FMTTYPE=image/jpeg:https://kids-on-tour.net/wp-content/uploads/2025/09/annie-wheelock-family-theatre-banner.jpg
END:VEVENT
BEGIN:VEVENT
DTSTART;VALUE=DATE:20251121
DTEND;VALUE=DATE:20251224
DTSTAMP:20260419T060903
CREATED:20251001T211222Z
LAST-MODIFIED:20251001T211222Z
UID:24976-1763683200-1766534399@kids-on-tour.net
SUMMARY:Frozen - Plaza Theater
DESCRIPTION:TICKETS  \n\n\n\nKeegan Gulledge\n(A Christmas Story)\nas Olaf  \n 
URL:https://kids-on-tour.net/event/frozen-plaza-theater/
LOCATION:Plaza Theatre Company – Dudley Hall\, 305 S. Anglin St\, Cleburne\, TX\, 76031\, United States
CATEGORIES:Regional
ATTACH;FMTTYPE=image/jpeg:https://kids-on-tour.net/wp-content/uploads/2025/06/frozen-musical-banner-2025.jpg
END:VEVENT
BEGIN:VEVENT
DTSTART;TZID=America/New_York:20251121T193000
DTEND;TZID=America/New_York:20251121T213000
DTSTAMP:20260419T060903
CREATED:20250805T161643Z
LAST-MODIFIED:20251017T223318Z
UID:24799-1763753400-1763760600@kids-on-tour.net
SUMMARY:MIRACLE ON 34TH STREET First Performance
DESCRIPTION:GET TICKETS
URL:https://kids-on-tour.net/event/miracle-on-34th-street-first-performance/
LOCATION:Roberts Wesleyan CLC\, 2301 Westside Dr\, Rochester\, NY\, 14624\, United States
CATEGORIES:Calendar
ATTACH;FMTTYPE=image/jpeg:https://kids-on-tour.net/wp-content/uploads/2025/08/miracle-on-34th-street-musical-banner.jpg
END:VEVENT
BEGIN:VEVENT
DTSTART;VALUE=DATE:20251126
DTEND;VALUE=DATE:20251127
DTSTAMP:20260419T060903
CREATED:20250602T212402Z
LAST-MODIFIED:20250602T212402Z
UID:24501-1764115200-1764201599@kids-on-tour.net
SUMMARY:"Stranger Things" Season 5 Volume 1 Begins Streaming
DESCRIPTION:MORE INFO \nFeaturing Gaten Matarazzo (Les Miserables)! 
URL:https://kids-on-tour.net/event/stranger-things-season-5-volume-1-begins-streaming/
LOCATION:Netflix
CATEGORIES:Calendar
ATTACH;FMTTYPE=image/webp:https://kids-on-tour.net/wp-content/uploads/2025/06/stranger-things-banner.webp
END:VEVENT
BEGIN:VEVENT
DTSTART;VALUE=DATE:20251126
DTEND;VALUE=DATE:20260112
DTSTAMP:20260419T060903
CREATED:20251023T162932Z
LAST-MODIFIED:20251023T162932Z
UID:25123-1764115200-1768175999@kids-on-tour.net
SUMMARY:Frozen - Papermill Playhouse
DESCRIPTION:TICKETS  \n\n\n\nHazel Vogel\n(Annie\, Les Miserables)\nas Young Elsa  \n 
URL:https://kids-on-tour.net/event/frozen-papermill-playhouse/
LOCATION:Papermill Playhouse\, 22 Brookside Dr\, Millburn\, NJ\, 07041\, United States
CATEGORIES:Regional
ATTACH;FMTTYPE=image/jpeg:https://kids-on-tour.net/wp-content/uploads/2025/06/frozen-musical-banner-2025.jpg
END:VEVENT
BEGIN:VEVENT
DTSTART;TZID=America/Los_Angeles:20251130T130000
DTEND;TZID=America/Los_Angeles:20251130T143000
DTSTAMP:20260419T060903
CREATED:20250630T211238Z
LAST-MODIFIED:20251006T205723Z
UID:24689-1764507600-1764513000@kids-on-tour.net
SUMMARY:Young Voices Against Brain Cancer (In-Person and Livestream)
DESCRIPTION:PURCHASE IN-PERSON TICKETS \nPURCHASE LIVESTREAM TICKETS \nFeaturing Trinity Vittoria DeVito (How the Grinch Stole Christmas) and Addison Valentino (Anastasia)! Music direction by Joshua Turchin (Forbidden Broadway). \nYoung Voices Against Brain Cancer (YVABC) is a biannual Fundraiser for the Memorial Sloan Kettering Cancer Center (MSK) Brain Cancer Research. It was founded in 2023 by Ariela Rozentul together with the MSK and has already raised over $13K in just over a year. Ariela has been in professional Theater and Film/TV industry for over 10 years and she unites together many of her friends from the industry in the fight against brain cancer. YVABC team includes the most amazing and talented young performers whose credits include shows like Matilda\, Annie\, On Your Feet\, Caroline or Change\, Tina\, Frozen\, etc plus TV shows like American Idol\, FBI\, Marvellous Mrs Maisel\, Sesame Street and many many more.
URL:https://kids-on-tour.net/event/young-voices-against-brain-cancer-in-person-and-livestream-2/
LOCATION:The Green Room 42\, 570 10th Ave\, New York\, NY\, 10036\, United States
CATEGORIES:Calendar,Livestreams
ATTACH;FMTTYPE=image/png:https://kids-on-tour.net/wp-content/uploads/2025/06/young-voices-against-brain-cancer-nov-2025-banner.png
END:VEVENT
END:VCALENDAR