BEGIN:VCALENDAR
VERSION:2.0
PRODID:-//Kids on Tour - ECPv6.2.6//NONSGML v1.0//EN
CALSCALE:GREGORIAN
METHOD:PUBLISH
X-WR-CALNAME:Kids on Tour
X-ORIGINAL-URL:https://kids-on-tour.net
X-WR-CALDESC:Events for Kids on Tour
REFRESH-INTERVAL;VALUE=DURATION:PT1H
X-Robots-Tag:noindex
X-PUBLISHED-TTL:PT1H
BEGIN:VTIMEZONE
TZID:America/Chicago
BEGIN:DAYLIGHT
TZOFFSETFROM:-0600
TZOFFSETTO:-0500
TZNAME:CDT
DTSTART:20250309T080000
END:DAYLIGHT
BEGIN:STANDARD
TZOFFSETFROM:-0500
TZOFFSETTO:-0600
TZNAME:CST
DTSTART:20251102T070000
END:STANDARD
TZID:America/New_York
BEGIN:DAYLIGHT
TZOFFSETFROM:-0500
TZOFFSETTO:-0400
TZNAME:EDT
DTSTART:20250309T070000
END:DAYLIGHT
BEGIN:STANDARD
TZOFFSETFROM:-0400
TZOFFSETTO:-0500
TZNAME:EST
DTSTART:20251102T060000
END:STANDARD
TZID:America/Los_Angeles
BEGIN:DAYLIGHT
TZOFFSETFROM:-0800
TZOFFSETTO:-0700
TZNAME:PDT
DTSTART:20250309T100000
END:DAYLIGHT
BEGIN:STANDARD
TZOFFSETFROM:-0700
TZOFFSETTO:-0800
TZNAME:PST
DTSTART:20251102T090000
END:STANDARD
END:VTIMEZONE
BEGIN:VEVENT
DTSTART;VALUE=DATE:20250904
DTEND;VALUE=DATE:20251013
DTSTAMP:20260421T050606
CREATED:20250902T063125Z
LAST-MODIFIED:20250902T063125Z
UID:24874-1756944000-1760313599@kids-on-tour.net
SUMMARY:Heartbreak Hotel - Beef & Boards Dinner Theatre
DESCRIPTION:TICKETS  \n\n\n\nHenry Kirk\n(Les Miserables)\nas Kid Elvis \n  \n 
URL:https://kids-on-tour.net/event/heartbreak-hotel-beef-and-boards/
LOCATION:Beef and Boards Dinner Theater\, 9301 Michigan Rd\, Indianapolis\, IN\, 46268\, United States
CATEGORIES:Regional
ATTACH;FMTTYPE=image/jpeg:https://kids-on-tour.net/wp-content/uploads/2025/09/heartbreak-hotel-banner.jpg
END:VEVENT
BEGIN:VEVENT
DTSTART;TZID=America/New_York:20250904T100000
DTEND;TZID=America/New_York:20250904T180000
DTSTAMP:20260421T050606
CREATED:20250813T164654Z
LAST-MODIFIED:20250813T164654Z
UID:24844-1756980000-1757008800@kids-on-tour.net
SUMMARY:LES MISERABLES Equity Principal Auditions 2025
DESCRIPTION:GET MORE INFO \nEquity actors for future replacements for roles in LES MISERABLES (Tour) (See breakdown). \nTouring Agreement $1164 weekly minimum (Level 6 – Post﻿ recoup) \nPlease prepare a short\, legit musical theatre song to sing. Opera\, Jazz\, Rhythm and Blues and Rock ‘n’ Roll are not appropriate styles for this production. Please bring sheet music and a stapled together headshot and resume. \nGAVROCHE: Male-Presenting Boy. Age 7-11. Entrance height 52” tall or less. Spunky street urchin. Lots of personality. Sings very well. This character can be Black\, Indigenous\, API\, Latine\, MENASA\, Mixed or White. \nLITTLE COSETTE AND LITTLE EPONINE: Female-Presenting Girls. Age 7-11. Entrance height 50” tall or less. Sweet innocent waifs. Pretty soprano voice. This character can be Black\, Indigenous\, API\, Latine\, MENASA\, Mixed or White. \nAll Equity talent will be seen first. Then\, time-permitting\, non-Equity talent may audition. For more information on how to attend an Equity audition as a non-Equity performer\, please visit ActorsAesthetic.com.
URL:https://kids-on-tour.net/event/les-miserables-equity-principal-auditions-2025/
LOCATION:Pearl Studios 519\, 519 8th Ave\, New York\, NY\, 10018\, United States
CATEGORIES:Auditions
ATTACH;FMTTYPE=image/jpeg:https://kids-on-tour.net/wp-content/uploads/2020/08/les-miz-banner-large.jpg
END:VEVENT
BEGIN:VEVENT
DTSTART;TZID=America/New_York:20250904T193000
DTEND;TZID=America/New_York:20250904T220000
DTSTAMP:20260421T050606
CREATED:20250702T230318Z
LAST-MODIFIED:20250702T230318Z
UID:24710-1757014200-1757023200@kids-on-tour.net
SUMMARY:Mrs. Doubtfire First Performance
DESCRIPTION:GET TICKETS
URL:https://kids-on-tour.net/event/mrs-doubtfire-first-performance-2025/
LOCATION:Clemens Center\, 207 Clemens Center Pkwy\, Elmira\, NY\, 14901\, United States
CATEGORIES:Calendar
ATTACH;FMTTYPE=image/png:https://kids-on-tour.net/wp-content/uploads/2023/02/Doubtfire-Banner.png
END:VEVENT
BEGIN:VEVENT
DTSTART;VALUE=DATE:20250905
DTEND;VALUE=DATE:20250915
DTSTAMP:20260421T050606
CREATED:20250609T211647Z
LAST-MODIFIED:20250612T172558Z
UID:24626-1757030400-1757894399@kids-on-tour.net
SUMMARY:Annie - OBC Theater
DESCRIPTION:TICKETS  \n\n\n\nElizabeth Last\n(Waitress)\nas Annie  \n  \n 
URL:https://kids-on-tour.net/event/annie-obc-theater/
LOCATION:Historic Civic Center Theater\, 815 W. 6th Street\, Corona\, CA\, 92882\, United States
CATEGORIES:Regional
ATTACH;FMTTYPE=image/jpeg:https://kids-on-tour.net/wp-content/uploads/annie-white-logo-banner.jpg
END:VEVENT
BEGIN:VEVENT
DTSTART;VALUE=DATE:20250905
DTEND;VALUE=DATE:20251006
DTSTAMP:20260421T050606
CREATED:20250718T165240Z
LAST-MODIFIED:20250718T165240Z
UID:24751-1757030400-1759708799@kids-on-tour.net
SUMMARY:The Addams Family - Berkeley Playhouse
DESCRIPTION:TICKETS  \n\n\n\nKeenan Thomas Moran\n(The Sound of Music)\nas Pugsley Addams (at certain performances)  \n 
URL:https://kids-on-tour.net/event/the-addams-family-berkeley-playhouse/
LOCATION:Julia Morgan Theater at Berkeley Playhouse\, 2640 College Avenue\, Berkeley\, CA\, 94704\, United States
CATEGORIES:Regional
ATTACH;FMTTYPE=image/jpeg:https://kids-on-tour.net/wp-content/uploads/2025/07/the-addams-family-bp-banner.jpg
END:VEVENT
BEGIN:VEVENT
DTSTART;TZID=America/New_York:20250905T193000
DTEND;TZID=America/New_York:20250905T220000
DTSTAMP:20260421T050606
CREATED:20250702T230857Z
LAST-MODIFIED:20250703T233043Z
UID:24715-1757100600-1757109600@kids-on-tour.net
SUMMARY:THE SOUND OF MUSIC First Performance
DESCRIPTION:GET TICKETS
URL:https://kids-on-tour.net/event/the-sound-of-music-first-performance/
LOCATION:Stanley Theater\, 259 Genesee St\, Utica\, NY\, 13501\, United States
CATEGORIES:Calendar
ATTACH;FMTTYPE=image/png:https://kids-on-tour.net/wp-content/uploads/2025/05/the-sound-of-music-banner-2025.png
END:VEVENT
BEGIN:VEVENT
DTSTART;TZID=America/Los_Angeles:20250908T190000
DTEND;TZID=America/Los_Angeles:20250908T203000
DTSTAMP:20260421T050606
CREATED:20250814T205746Z
LAST-MODIFIED:20250814T205746Z
UID:24847-1757358000-1757363400@kids-on-tour.net
SUMMARY:Young\, Gifted\, & Broadway: Back to School - Back to Broadway!
DESCRIPTION:PURCHASE TICKETS \nFeaturing performances by tour alumni Ayvah Johnson (Tina) and Walter Russell III (The Lion King)! \nYoung\, Gifted\, & Broadway are headed Back to School – Back to Broadway with a special night featuring your favorite songs from Broadway school musicals including Matilda\, School of Rock\, Mean Girls\, Be More Chill\, The Prom\, Bring it On\, and more! Performers will include your favorite Broadway youth from Disney’s The Lion King\, MJ The Musical\, Trevor the Musical\, Gypsy\, and Annie! It will be a night filled with great music and unbelievable performances\, so get your tickets now and join the fun because “We’re All in This Together!” \nYoung Gifted and Broadway is a community for young Broadway performers of color to be seen and heard\, providing guidance\, advocacy and unwavering encouragement for Broadway’s Best and Brightest. \nProduced by Angela Russell\, Young\, Gifted\, & Broadway Founder/Creative Director.
URL:https://kids-on-tour.net/event/young-gifted-broadway-back-to-school-back-to-broadway/
LOCATION:54 Below\, 254 W 54th St. Cellar\, New York\, NY\, 10019\, United States
CATEGORIES:Calendar
ATTACH;FMTTYPE=image/png:https://kids-on-tour.net/wp-content/uploads/2025/08/v3_site-image_Young-Gifted-Broadway.png
END:VEVENT
BEGIN:VEVENT
DTSTART;VALUE=DATE:20250912
DTEND;VALUE=DATE:20250913
DTSTAMP:20260421T050606
CREATED:20250904T184504Z
LAST-MODIFIED:20250904T184504Z
UID:24888-1757635200-1757721599@kids-on-tour.net
SUMMARY:"Sunfish (& Other Stories on Green Lake)" Release Date
DESCRIPTION:MORE INFO \nFeaturing Jim Kaplan (Matilda)!
URL:https://kids-on-tour.net/event/sunfish-other-stories-on-green-lake-release-date/
LOCATION:Movie Theaters
CATEGORIES:Calendar
ATTACH;FMTTYPE=image/webp:https://kids-on-tour.net/wp-content/uploads/2025/09/sunfish-movie-banner-scaled.webp
END:VEVENT
BEGIN:VEVENT
DTSTART;TZID=America/Los_Angeles:20250912T200000
DTEND;TZID=America/Los_Angeles:20250912T210000
DTSTAMP:20260421T050606
CREATED:20250812T181116Z
LAST-MODIFIED:20250812T181116Z
UID:24839-1757707200-1757710800@kids-on-tour.net
SUMMARY:"Vampirina: Teenage Vampire" Series Premiere
DESCRIPTION:MORE INFO \nFeaturing Milo Maharlika (Les Miserables)!
URL:https://kids-on-tour.net/event/vampirina-teenage-vampire-series-premiere/
LOCATION:Disney Channel
CATEGORIES:Calendar
ATTACH;FMTTYPE=image/jpeg:https://kids-on-tour.net/wp-content/uploads/2025/08/vampirina-banner-scaled.jpeg
END:VEVENT
BEGIN:VEVENT
DTSTART;VALUE=DATE:20250913
DTEND;VALUE=DATE:20250929
DTSTAMP:20260421T050606
CREATED:20250912T042430Z
LAST-MODIFIED:20250912T042430Z
UID:24892-1757721600-1759103999@kids-on-tour.net
SUMMARY:Annie - Rose Center Theater
DESCRIPTION:TICKETS  \n\n\n\nEmilie Ong\n(How the Grinch Stole Christmas)\nas Tessie (at certain performances)  \n 
URL:https://kids-on-tour.net/event/annie-rose-center-theater/
LOCATION:Rose Center Theater\, 14140 All American Way\, Westminster\, CA\, 92683\, United States
CATEGORIES:Regional
ATTACH;FMTTYPE=image/png:https://kids-on-tour.net/wp-content/uploads/2025/09/annie-rose-center-theater-banner.png
END:VEVENT
BEGIN:VEVENT
DTSTART;TZID=America/New_York:20250913T100000
DTEND;TZID=America/New_York:20250913T180000
DTSTAMP:20260421T050606
CREATED:20250815T172431Z
LAST-MODIFIED:20250815T172431Z
UID:24857-1757757600-1757786400@kids-on-tour.net
SUMMARY:THE LION KING Open Call for Young Simba and Young Nala in Atlanta
DESCRIPTION:GET MORE INFO \nThe Broadway and national tour productions of The Lion King are holding an open call for the roles of Young Simba and Young Nala! Check out the requirements and additional information below.  \nThe open call will conclude when we have seen everyone who signed up between 9AM and 11AM. For this reason\, we cannot guarantee an end time as the day ends upon completion of seeing all who signed up during the designated sign-in hours. \n$2638 weekly minimum – Broadway $2599 weekly minimum (level 1) – Tour Payments subject to applicable state laws regarding trust funds for minors \nYoung Simba – He/Him. 8 – 12 years old. An African lion cub. Mufasa’s son. A lion cub that eventually becomes the King of the Pridelands. Looking for a young singer with natural talent\, charm\, and charisma. Moves well and holds the stage on his own with confidence and truth. MUST BE UNDER56 INCHES. \nYoung Nala – She/Her. 8 – 12 years old. An African lion cub. She eventually becomes the Queen of the Pridelands. She keeps Simba in his place. Looking for a young singer with natural talent\, charm\, and charisma. Moves well and holds the stage on her own with confidence and truth. MUST BE UNDER 56 INCHES. \nBe prepared to be taught the last verse of “I Just Can’t Wait to be King.” All children must be accompanied by a parent or guardian. \nParents or guardians must remain present at the audition site at all times. Please be prepared to wait. It’s always best to audition in person\, but if you are unable to attend this call\, please see the following link for instructions on how to submit a video audition at disneyonbroadway.com/casting.
URL:https://kids-on-tour.net/event/the-lion-king-open-call-for-young-simba-and-young-nala-in-atlanta/
LOCATION:Atlanta Dance and Music Academy\, 524 Plasters Ave\, Atlanta\, GA\, 30324\, United States
CATEGORIES:Auditions
ATTACH;FMTTYPE=image/jpeg:https://kids-on-tour.net/wp-content/uploads/2023/08/the-lion-king-new-banner-2021.jpg
END:VEVENT
BEGIN:VEVENT
DTSTART;VALUE=DATE:20250917
DTEND;VALUE=DATE:20250918
DTSTAMP:20260421T050606
CREATED:20250606T025412Z
LAST-MODIFIED:20250606T025412Z
UID:24520-1758067200-1758153599@kids-on-tour.net
SUMMARY:"Electric Bloom" Begins Streaming on Disney+
DESCRIPTION:MORE INFO \nFeaturing Carmen Sanchez (On Your Feet)!
URL:https://kids-on-tour.net/event/electric-bloom-begins-streaming-on-disney-plus/
LOCATION:Disney Channel
CATEGORIES:Calendar
ATTACH;FMTTYPE=image/webp:https://kids-on-tour.net/wp-content/uploads/2025/06/electric-bloom-banner.webp
END:VEVENT
BEGIN:VEVENT
DTSTART;VALUE=DATE:20250919
DTEND;VALUE=DATE:20250920
DTSTAMP:20260421T050606
CREATED:20250902T061819Z
LAST-MODIFIED:20250902T061819Z
UID:24869-1758240000-1758326399@kids-on-tour.net
SUMMARY:"Brownsville Bred" Release Date
DESCRIPTION:MORE INFO \nFeaturing Gloria Manning (The Lion King\, Tina)!
URL:https://kids-on-tour.net/event/brownsville-bred-release-date/
LOCATION:Movie Theaters
CATEGORIES:Calendar
ATTACH;FMTTYPE=image/jpeg:https://kids-on-tour.net/wp-content/uploads/2025/09/brownsville-bred-banner.jpg
END:VEVENT
BEGIN:VEVENT
DTSTART;VALUE=DATE:20250920
DTEND;VALUE=DATE:20251020
DTSTAMP:20260421T050606
CREATED:20250722T162208Z
LAST-MODIFIED:20250722T162208Z
UID:24764-1758326400-1760918399@kids-on-tour.net
SUMMARY:Mythic - Cincinnati Playhouse in the Park
DESCRIPTION:TICKETS  \n\n\n\nAnalise Scarpaci\n(Matilda)\nas Persephone  \n  \n 
URL:https://kids-on-tour.net/event/mythic-cincinnati-playhouse-in-the-park/
LOCATION:Cincinnati Playhouse in the Park\, 962 Mt Adams Cir\, Cincinnati\, OH\, 45202\, United States
CATEGORIES:Regional
ATTACH;FMTTYPE=image/jpeg:https://kids-on-tour.net/wp-content/uploads/2025/07/mythic-musical-banner.jpg
END:VEVENT
BEGIN:VEVENT
DTSTART;VALUE=DATE:20250926
DTEND;VALUE=DATE:20251019
DTSTAMP:20260421T050606
CREATED:20250818T210233Z
LAST-MODIFIED:20250818T210233Z
UID:24863-1758844800-1760831999@kids-on-tour.net
SUMMARY:The Sound of Music - South Bay Musical Theatre
DESCRIPTION:TICKETS  \n\n\n\n\nMaddie Schneider\n(Waitress)\nas Marta (Crisp Apple Streudels Cast)
URL:https://kids-on-tour.net/event/the-sound-of-music-south-bay-musical-theatre/
LOCATION:Saratoga Civic Theater\, 13777 Fruitvale Ave\, Saratoga\, CA\, 95070\, United States
CATEGORIES:Regional
ATTACH;FMTTYPE=image/jpeg:https://kids-on-tour.net/wp-content/uploads/2025/08/sound-of-music-banner-sbmt.jpg
END:VEVENT
BEGIN:VEVENT
DTSTART;VALUE=DATE:20250926
DTEND;VALUE=DATE:20251203
DTSTAMP:20260421T050606
CREATED:20250919T185843Z
LAST-MODIFIED:20250919T185843Z
UID:24916-1758844800-1764719999@kids-on-tour.net
SUMMARY:In the Land of Oz - Columbus Children's Theatre
DESCRIPTION:TICKETS  \n\n\n\nOwen Suarez\n(Peter Pan)\nas Tip  \n 
URL:https://kids-on-tour.net/event/in-the-land-of-oz-cct/
LOCATION:Columbus Children’s Theater\, 1165 Dublin Road\, Columbus\, OH\, United States
CATEGORIES:Regional
ATTACH;FMTTYPE=image/png:https://kids-on-tour.net/wp-content/uploads/2025/09/in-the-land-of-oz-banner.png
END:VEVENT
BEGIN:VEVENT
DTSTART;TZID=America/Los_Angeles:20250928T130000
DTEND;TZID=America/Los_Angeles:20250928T143000
DTSTAMP:20260421T050606
CREATED:20250902T063652Z
LAST-MODIFIED:20250902T063652Z
UID:24877-1759064400-1759069800@kids-on-tour.net
SUMMARY:Saint Stephen & The Children's Crusade
DESCRIPTION:PURCHASE IN-PERSON TICKETS \nPURCHASE LIVESTREAM TICKETS \nFeaturing performances by Keegan Gulledge (A Christmas Story) and Annabel Cole (Les Miserables)!  \nHear ye\, hear ye! Com and see Saint Stephen & the Children’s Crusade in concert at The Green Room 42 featuring a fantastic cast of young performers and a live band!
URL:https://kids-on-tour.net/event/saint-stephen-the-childrens-crusade/
LOCATION:The Green Room 42\, 570 10th Ave\, New York\, NY\, 10036\, United States
CATEGORIES:Calendar
ATTACH;FMTTYPE=image/jpeg:https://kids-on-tour.net/wp-content/uploads/2025/09/saint-stephen-banner.jpg
END:VEVENT
END:VCALENDAR