BEGIN:VCALENDAR
VERSION:2.0
PRODID:-//Kids on Tour - ECPv6.2.6//NONSGML v1.0//EN
CALSCALE:GREGORIAN
METHOD:PUBLISH
X-ORIGINAL-URL:https://kids-on-tour.net
X-WR-CALDESC:Events for Kids on Tour
REFRESH-INTERVAL;VALUE=DURATION:PT1H
X-Robots-Tag:noindex
X-PUBLISHED-TTL:PT1H
BEGIN:VTIMEZONE
TZID:America/New_York
BEGIN:DAYLIGHT
TZOFFSETFROM:-0500
TZOFFSETTO:-0400
TZNAME:EDT
DTSTART:20250309T070000
END:DAYLIGHT
BEGIN:STANDARD
TZOFFSETFROM:-0400
TZOFFSETTO:-0500
TZNAME:EST
DTSTART:20251102T060000
END:STANDARD
TZID:America/New_York
BEGIN:DAYLIGHT
TZOFFSETFROM:-0500
TZOFFSETTO:-0400
TZNAME:EDT
DTSTART:20250309T070000
END:DAYLIGHT
BEGIN:STANDARD
TZOFFSETFROM:-0400
TZOFFSETTO:-0500
TZNAME:EST
DTSTART:20251102T060000
END:STANDARD
TZID:America/Chicago
BEGIN:DAYLIGHT
TZOFFSETFROM:-0600
TZOFFSETTO:-0500
TZNAME:CDT
DTSTART:20250309T080000
END:DAYLIGHT
BEGIN:STANDARD
TZOFFSETFROM:-0500
TZOFFSETTO:-0600
TZNAME:CST
DTSTART:20251102T070000
END:STANDARD
TZID:Europe/London
BEGIN:DAYLIGHT
TZOFFSETFROM:+0000
TZOFFSETTO:+0100
TZNAME:BST
DTSTART:20250330T010000
END:DAYLIGHT
BEGIN:STANDARD
TZOFFSETFROM:+0100
TZOFFSETTO:+0000
TZNAME:GMT
DTSTART:20251026T010000
END:STANDARD
TZID:America/Los_Angeles
BEGIN:DAYLIGHT
TZOFFSETFROM:-0800
TZOFFSETTO:-0700
TZNAME:PDT
DTSTART:20250309T100000
END:DAYLIGHT
BEGIN:STANDARD
TZOFFSETFROM:-0700
TZOFFSETTO:-0800
TZNAME:PST
DTSTART:20251102T090000
END:STANDARD
END:VTIMEZONE
BEGIN:VEVENT
DTSTART;VALUE=DATE:20250703
DTEND;VALUE=DATE:20250810
DTSTAMP:20260421T065551
CREATED:20250618T234952Z
LAST-MODIFIED:20250618T235003Z
UID:24651-1751500800-1754783999@kids-on-tour.net
SUMMARY:Annie - Broadway Palm Dinner Theatre
DESCRIPTION:TICKETS  \n\n\n\nAddie Jaymes\n(Annie)\nas Annie  \n  \n\n\nSofie Nesanelis\n(Les Miserables\, How the Grinch Stole Christmas)\nas Annie  \n 
URL:https://kids-on-tour.net/event/annie-broadway-palm-dinner-theatre/
LOCATION:Broadway Palm Dinner Theatre\, 1380 Colonial Blvd\, Fort Myers\, FL\, 33907\, United States
CATEGORIES:Regional
ATTACH;FMTTYPE=image/jpeg:https://kids-on-tour.net/wp-content/uploads/2025/06/annie-broadway-palm-banner.jpg
END:VEVENT
BEGIN:VEVENT
DTSTART;VALUE=DATE:20250718
DTEND;VALUE=DATE:20250901
DTSTAMP:20260421T065551
CREATED:20250508T034103Z
LAST-MODIFIED:20250608T021432Z
UID:24388-1752796800-1756684799@kids-on-tour.net
SUMMARY:Dolly: An Original Musical - Fisher Center
DESCRIPTION:TICKETS  \n\n\n\nQuinn Titcomb\n(Les Miserables\, Waitress\, The Sound of Music\, How the Grinch Stole Christmas)\nas Little Dolly \n  \n\n\nNorah Nunes\n(Frozen)\nas Understudy \n 
URL:https://kids-on-tour.net/event/dolly-an-original-musical-fisher-center/
LOCATION:Fisher Center\, 2020 Belmont Blvd\, Nashville\, TN\, United States
CATEGORIES:Regional
ATTACH;FMTTYPE=image/jpeg:https://kids-on-tour.net/wp-content/uploads/2025/05/dolly-musical-banner.jpg
END:VEVENT
BEGIN:VEVENT
DTSTART;VALUE=DATE:20250719
DTEND;VALUE=DATE:20250806
DTSTAMP:20260421T065551
CREATED:20250708T160607Z
LAST-MODIFIED:20250708T160607Z
UID:24723-1752883200-1754438399@kids-on-tour.net
SUMMARY:The Turn of the Screw - Santa Fe Opera
DESCRIPTION:TICKETS  \n\n\n\nEverett Baumgarten\n(The Sound of Music)\nas Miles  \n 
URL:https://kids-on-tour.net/event/the-turn-of-the-screw-santa-fe-opera/
LOCATION:Santa Fe Opera\, 301 Opera Dr\, Santa Fe\, NM\, 87506\, United States
CATEGORIES:Regional
ATTACH;FMTTYPE=image/jpeg:https://kids-on-tour.net/wp-content/uploads/2025/07/the-turn-of-the-screw-banner.jpg
END:VEVENT
BEGIN:VEVENT
DTSTART;VALUE=DATE:20250726
DTEND;VALUE=DATE:20250811
DTSTAMP:20260421T065551
CREATED:20250630T211544Z
LAST-MODIFIED:20250630T211544Z
UID:24692-1753488000-1754870399@kids-on-tour.net
SUMMARY:Annie - Sharon Playhouse
DESCRIPTION:TICKETS  \n\n\n\nAvery Hope\n(Annie)\nas Annie  \n  \n 
URL:https://kids-on-tour.net/event/annie-sharon-playhouse/
LOCATION:Sharon Playhouse\, 49 Amenia Road\, Sharon\, CT\, 06069\, United States
CATEGORIES:Regional
ATTACH;FMTTYPE=image/jpeg:https://kids-on-tour.net/wp-content/uploads/annie-white-logo-banner.jpg
END:VEVENT
BEGIN:VEVENT
DTSTART;VALUE=DATE:20250730
DTEND;VALUE=DATE:20250804
DTSTAMP:20260421T065551
CREATED:20250711T173348Z
LAST-MODIFIED:20250711T173348Z
UID:24733-1753833600-1754265599@kids-on-tour.net
SUMMARY:Newsies - Music Theatre Wichita
DESCRIPTION:TICKETS  \n\n\n\nArick Brooks\n(The Sound of Music\, A Christmas Story)\nas TBA  \n  \n 
URL:https://kids-on-tour.net/event/newsies-music-theatre-wichita/
LOCATION:Music Theatre Wichita\, 225 W Douglas Ave\, Wichita\, KS\, 67202\, United States
CATEGORIES:Regional
ATTACH;FMTTYPE=image/jpeg:https://kids-on-tour.net/wp-content/uploads/2025/07/newsies-music-theatre-wichita-banner-cropped.jpg
END:VEVENT
BEGIN:VEVENT
DTSTART;VALUE=DATE:20250801
DTEND;VALUE=DATE:20250804
DTSTAMP:20260421T065551
CREATED:20250509T223410Z
LAST-MODIFIED:20250608T020724Z
UID:24396-1754006400-1754265599@kids-on-tour.net
SUMMARY:Annie - Variety KC
DESCRIPTION:TICKETS  \n\n\n\nIvy Kate Sollenberger\n(How the Grinch Stole Christmas)\nas Kate \n  \n 
URL:https://kids-on-tour.net/event/annie-variety-kc/
LOCATION:Kauffman Center\, 1601 Broadway Blvd\, Kansas City\, MO\, 64108\, United States
CATEGORIES:Regional
ATTACH;FMTTYPE=image/jpeg:https://kids-on-tour.net/wp-content/uploads/annie-white-logo-banner.jpg
END:VEVENT
BEGIN:VEVENT
DTSTART;VALUE=DATE:20250801
DTEND;VALUE=DATE:20250803
DTSTAMP:20260421T065551
CREATED:20250714T224337Z
LAST-MODIFIED:20250729T224331Z
UID:24742-1754006400-1754179199@kids-on-tour.net
SUMMARY:New Voices 2025: Groundbreakers
DESCRIPTION:PURCHASE HERE \nFeaturing Annie Piper Braverman (Frozen)\, Cate Elefante (Les Miserables)\, and Luli Mitchell (A Christmas Story)!  \nA Paper Mill Playhouse show unlike any other\, this New Voices special concert features 120 of New Jersey’s most talented young performers – including Rising Star Award winners and nominees – celebrating Paper Mill’s 85 Seasons!
URL:https://kids-on-tour.net/event/new-voices-2025-groundbreakers/
LOCATION:Papermill Playhouse\, 22 Brookside Dr\, Millburn\, NJ\, 07041\, United States
CATEGORIES:Calendar
ATTACH;FMTTYPE=image/jpeg:https://kids-on-tour.net/wp-content/uploads/2025/07/groundbreakers-banner.jpg
END:VEVENT
BEGIN:VEVENT
DTSTART;VALUE=DATE:20250806
DTEND;VALUE=DATE:20250901
DTSTAMP:20260421T065551
CREATED:20250623T215425Z
LAST-MODIFIED:20250623T215731Z
UID:24663-1754438400-1756684799@kids-on-tour.net
SUMMARY:Be More Chill - The Old Joint Stock Theatre
DESCRIPTION:TICKETS  \n\n\n\nMaya Jade Frank\n(Les Miserables)\nas Chloe  \n 
URL:https://kids-on-tour.net/event/be-more-chill-the-old-join-stock-theatre/
LOCATION:The Old Joint Stock\, 4 Temple Row W\, Birmingham\, B2 5NY\, United Kingdom
CATEGORIES:Regional
ATTACH;FMTTYPE=image/png:https://kids-on-tour.net/wp-content/uploads/2025/06/be-more-chill-old-joint.png
END:VEVENT
BEGIN:VEVENT
DTSTART;VALUE=DATE:20250807
DTEND;VALUE=DATE:20250809
DTSTAMP:20260421T065551
CREATED:20250728T164224Z
LAST-MODIFIED:20250728T164224Z
UID:24771-1754524800-1754697599@kids-on-tour.net
SUMMARY:Matilda - Next Step Broadway
DESCRIPTION:TICKETS  \n\n\n\nSunny Lauren Hoder\n(Mrs. Doubtfire)\nas Matilda  \n 
URL:https://kids-on-tour.net/event/matilda-next-step-broadway/
LOCATION:Coral Springs Center for the Arts\, 2855 Coral Springs Drive\, Coral Springs\, FL\, 33065\, United States
CATEGORIES:Regional
ATTACH;FMTTYPE=image/jpeg:https://kids-on-tour.net/wp-content/uploads/matilda-banner-general.jpg
END:VEVENT
BEGIN:VEVENT
DTSTART;VALUE=DATE:20250810
DTEND;VALUE=DATE:20250811
DTSTAMP:20260421T065551
CREATED:20250807T184050Z
LAST-MODIFIED:20250807T184050Z
UID:24816-1754784000-1754870399@kids-on-tour.net
SUMMARY:Shrek Jr - PTW Productions
DESCRIPTION:TICKETS  \n\n\n\nRitisha Chakraborty\n(The Lion King)\nas Donkey  \n  \n 
URL:https://kids-on-tour.net/event/shrek-jr-ptw-productions/
LOCATION:JCC MetroWest\, 760 Northfield Ave\, West Orange\, NJ\, 07052\, United States
CATEGORIES:Regional
ATTACH;FMTTYPE=image/jpeg:https://kids-on-tour.net/wp-content/uploads/shrek-jr-broadway-workshop.jpg
END:VEVENT
BEGIN:VEVENT
DTSTART;TZID=America/New_York:20250810T130000
DTEND;TZID=America/New_York:20250810T143000
DTSTAMP:20260421T065551
CREATED:20250721T233035Z
LAST-MODIFIED:20250721T233105Z
UID:24757-1754830800-1754836200@kids-on-tour.net
SUMMARY:Voices to End Hunger: Class of 2025 Cabaret
DESCRIPTION:PURCHASE IN-PERSON TICKETS \nPURCHASE LIVESTREAM TICKETS \nFeaturing performances by Jacob Morrell (Kinky Boots)\, Alexa Lasanta (The Sound of Music)\, Jordan Cole (School of Rock)\, and Edward Turner (The Sound of Music\, A Christmas Story)! Co-hosted by Scarlett London Diviney (The Lion King).  \nMark your calendars for August 10 at 1:00 PM and join us at The Green Room 42 for an unforgettable afternoon of music\, meaning\, and heart! \nDirected by Scarlett London Diviney\, Layla Capers\, and Jolie Rose Wasserman\, Voices to End Hunger proudly features Kaylin Hedges as musical director. This inspiring cabaret shines a spotlight on artistry\, compassion\, and collective accomplishments\, all for a powerful cause. \nThe event showcases the phenomenal graduating class of 2025\, including founder Jolie Rose\, who will all take the stage one final time before heading off to college. Expect soulful performances\, emotional tributes\, and a vibrant atmosphere filled with hope and community spirit. \n100% of proceeds go to charity\, helping fight hunger and bring nourishment and hope to those who need it most. \nLet’s raise our voices\, uplift hearts\, and create change—one song at a time.
URL:https://kids-on-tour.net/event/voices-to-end-hunger-class-of-2025-cabaret/
LOCATION:The Green Room 42\, 570 10th Ave\, New York\, NY\, 10036\, United States
CATEGORIES:Calendar,Livestreams
ATTACH;FMTTYPE=image/png:https://kids-on-tour.net/wp-content/uploads/2025/07/voices-to-end-hunger-class-of-2025-cabaret-banner.png
END:VEVENT
BEGIN:VEVENT
DTSTART;TZID=America/Los_Angeles:20250810T190000
DTEND;TZID=America/Los_Angeles:20250810T203000
DTSTAMP:20260421T065551
CREATED:20250805T162528Z
LAST-MODIFIED:20250806T163802Z
UID:24807-1754852400-1754857800@kids-on-tour.net
SUMMARY:Spotlight Kidz Cabaret
DESCRIPTION:PURCHASE TICKETS \nFeaturing performances by Ava Rose Doty (Mrs. Doubtfire)\, Avril Kagan (Annie\, The Sound of Music)\, and Emilie Ong (How the Grinch Stole Christmas)! \nYouth & Teens from the Broadway\, National Tour Community and more! \nProducer/Director – Sandy Kost-Sterner \nMusical Director – Jason Wetzel \n$20.00 cover charge and a $20 Minimum (must include 2 drinks) per person
URL:https://kids-on-tour.net/event/spotlight-kidz-cabaret/
LOCATION:Don’t Tell Mama\, 343 W 46th St\, New York\, NY\, 10036\, United States
CATEGORIES:Calendar
ATTACH;FMTTYPE=image/jpeg:https://kids-on-tour.net/wp-content/uploads/2025/08/spotlight-kidz-cabaret-banner.jpg
END:VEVENT
BEGIN:VEVENT
DTSTART;VALUE=DATE:20250815
DTEND;VALUE=DATE:20250825
DTSTAMP:20260421T065551
CREATED:20250714T223855Z
LAST-MODIFIED:20250804T183618Z
UID:24696-1755216000-1756079999@kids-on-tour.net
SUMMARY:13 - Royal Theatre Academy
DESCRIPTION:TICKETS  \n\n\n\nKylie Noelle Patterson\n(Annie)\nas Patrice (Both Casts)  \n  \n\n\nBridget Virginia Werner\n(Waitress)\nas Molly (Indiana Cast)  \n 
URL:https://kids-on-tour.net/event/13-royal-theatre-academy/
LOCATION:HUSD Performing Arts Center\, 2390 Panama St\, Hayward\, CA\, 94545\, United States
CATEGORIES:Regional
ATTACH;FMTTYPE=image/jpeg:https://kids-on-tour.net/wp-content/uploads/2020/10/13-creative-theater-logo-banner.jpg
END:VEVENT
BEGIN:VEVENT
DTSTART;TZID=America/New_York:20250818T213000
DTEND;TZID=America/New_York:20250818T230000
DTSTAMP:20260421T065551
CREATED:20250814T210155Z
LAST-MODIFIED:20250814T210203Z
UID:24850-1755552600-1755558000@kids-on-tour.net
SUMMARY:54 Sings Phineas & Ferb: 104 Days of Summer Vacation
DESCRIPTION:PURCHASE TICKETS \nPURCHASE LIVESTREAM TICKETS \nFeaturing a performance Mitchell Sink (A Christmas Story)!  \nWe know what you’re gonna do today! Come see Broadway’s Basement turn into Broadway’s Backyard as we celebrate the hit songs from everyone’s favorite TV Show about two step brothers who have built a rocket\, fought a mummy\, and climbed the Eiffel Tower. Featuring songs like “Busted\,” “Gitchee Gitchee Goo\,” and “S.I.M.P. (Squirrels In My Pants)\,” we are certain that this will be the best night of your summer vacation ever. \nProduced by Molly Heller and Cara Weglarz. \nMusic Direction by James Stryska.
URL:https://kids-on-tour.net/event/54-sings-phineas-ferb-104-days-of-summer-vacation/
LOCATION:54 Below\, 254 W 54th St. Cellar\, New York\, NY\, 10019\, United States
CATEGORIES:Calendar,Livestreams
ATTACH;FMTTYPE=image/webp:https://kids-on-tour.net/wp-content/uploads/2025/08/v2_54-Sings-Phineas-and-Ferb-Summer-site-image-25.webp
END:VEVENT
BEGIN:VEVENT
DTSTART;TZID=America/New_York:20250819T213000
DTEND;TZID=America/New_York:20250819T230000
DTSTAMP:20260421T065551
CREATED:20250630T205819Z
LAST-MODIFIED:20250630T205819Z
UID:24683-1755639000-1755644400@kids-on-tour.net
SUMMARY:"Duels Volume 1: The Genre Game"
DESCRIPTION:PURCHASE TICKETS \nFeaturing performances by Sydney Chan (A Christmas Story\, The King and I) and Noah Marlowe (Elf\, The Book of Mormon on Broadway)! \nBroadway’s about to be changed “For Good.” Get ready for Volume I of 54 Below DUELS\, where some of the brightest lights on Broadway will be put head to head to belt iconic songs! Hosted by dueling music directors and pianists Joshua Turchin and Julia Schade\, this edition will feature exciting renditions of theatrical classics in entirely new genres\, most of which have never been seen (and will never be heard from again)! There’s “A Whole New World” to discover\, so grab your tickets and get ready to duel!
URL:https://kids-on-tour.net/event/duels-volume-1-the-genre-game/
LOCATION:54 Below\, 254 W 54th St. Cellar\, New York\, NY\, 10019\, United States
CATEGORIES:Calendar
ATTACH;FMTTYPE=image/webp:https://kids-on-tour.net/wp-content/uploads/2025/06/v1_site-image-25_54-Below-Duels-copy.webp
END:VEVENT
BEGIN:VEVENT
DTSTART;TZID=America/New_York:20250821T193000
DTEND;TZID=America/New_York:20250821T203000
DTSTAMP:20260421T065551
CREATED:20250808T220528Z
LAST-MODIFIED:20250808T220528Z
UID:24822-1755804600-1755808200@kids-on-tour.net
SUMMARY:The Naperville Men's Glee Club Presents "Under the Stars"
DESCRIPTION:Featuring a performance by Emerson Mae Chan (Les Miserables\, Mrs. Doubtfire)!  \nThe Naperville Men’s Glee Club presents a free concert at the Naperville Community Concert Center!
URL:https://kids-on-tour.net/event/the-naperville-mens-glee-club-presents-under-the-stars/
LOCATION:Naperville Community Concert Center “The Bandshell”\, 55 Concert Lane\, Naperville\, IL\, 60540\, United States
CATEGORIES:Calendar
ATTACH;FMTTYPE=image/jpeg:https://kids-on-tour.net/wp-content/uploads/2025/08/NMGC-Concert.jpg
END:VEVENT
BEGIN:VEVENT
DTSTART;TZID=America/New_York:20250823T110000
DTEND;TZID=America/New_York:20250823T140000
DTSTAMP:20260421T065551
CREATED:20250807T184535Z
LAST-MODIFIED:20250807T184619Z
UID:24818-1755946800-1755957600@kids-on-tour.net
SUMMARY:MJ Open Call in Las Vegas
DESCRIPTION:MORE INFO \nMJ is seeking future replacements for the Broadway and national tour productions of MJ for the role of Little Michael! \nPlease prepare your favorite Michael Jackson or Jackson 5 song. \nIf you can’t make it in person you can email a video!\nQuestions?\nReach out at auditions@mjthemusical.com \nROLE OF LITTLE MICHAEL- Michael Jackson at age 10
URL:https://kids-on-tour.net/event/mj-open-call-in-las-vegas/
LOCATION:The Rock Center for Dance\, 18210 S. Maryland Pkway\, Las Vegas\, NV\, 89123\, United States
CATEGORIES:Auditions
ATTACH;FMTTYPE=image/png:https://kids-on-tour.net/wp-content/uploads/2023/08/mj-musical-banner.png
END:VEVENT
BEGIN:VEVENT
DTSTART;TZID=America/New_York:20250825T190000
DTEND;TZID=America/New_York:20250825T230000
DTSTAMP:20260421T065551
CREATED:20250805T163010Z
LAST-MODIFIED:20250805T163010Z
UID:24811-1756148400-1756162800@kids-on-tour.net
SUMMARY:54 Sings Lin-Manuel Miranda (In-Person and Livestream)
DESCRIPTION:PURCHASE IN-PERSON TICKETS \nPURCHASE LIVESTREAM TICKETS \nTwo performances – 7pm and 9:30pm \nLivestream is available only at the 7pm performance. \nMusic direction by Joshua Turchin (A Christmas Story)!  \nBack by popular demand! Join us for 54 Sings Lin-Manuel Miranda as we sing through the beloved composer’s extensive repertoire from stage to screen and beyond! Lin-Manuel Miranda has revolutionized theatre since the late 2000s. Tonight\, we pay homage and tribute to this iconic composer from In The Heights to Hamilton\, from his work with Disney to some of his newest songs!
URL:https://kids-on-tour.net/event/54-sings-lin-manuel-miranda-in-person-and-livestream/
LOCATION:54 Below\, 254 W 54th St. Cellar\, New York\, NY\, 10019\, United States
CATEGORIES:Calendar,Livestreams
ATTACH;FMTTYPE=image/webp:https://kids-on-tour.net/wp-content/uploads/2025/03/v1_site-image_54-Sings-Lin-Manuel-Miranda.webp
END:VEVENT
BEGIN:VEVENT
DTSTART;VALUE=DATE:20250829
DTEND;VALUE=DATE:20250830
DTSTAMP:20260421T065551
CREATED:20250626T163124Z
LAST-MODIFIED:20250725T143043Z
UID:24673-1756425600-1756511999@kids-on-tour.net
SUMMARY:"The Short Game" Release Date
DESCRIPTION:MORE INFO \nFeaturing Ben Krieger (The Sound of Music\, Pippin\, Finding Neverland)!
URL:https://kids-on-tour.net/event/the-short-game-release-date/
LOCATION:Movie Theaters
CATEGORIES:Calendar
ATTACH;FMTTYPE=image/jpeg:https://kids-on-tour.net/wp-content/uploads/2025/06/the-short-game-banner.jpg
END:VEVENT
END:VCALENDAR