BEGIN:VCALENDAR
VERSION:2.0
PRODID:-//Kids on Tour - ECPv6.2.6//NONSGML v1.0//EN
CALSCALE:GREGORIAN
METHOD:PUBLISH
X-ORIGINAL-URL:https://kids-on-tour.net
X-WR-CALDESC:Events for Kids on Tour
REFRESH-INTERVAL;VALUE=DURATION:PT1H
X-Robots-Tag:noindex
X-PUBLISHED-TTL:PT1H
BEGIN:VTIMEZONE
TZID:America/Chicago
BEGIN:DAYLIGHT
TZOFFSETFROM:-0600
TZOFFSETTO:-0500
TZNAME:CDT
DTSTART:20250309T080000
END:DAYLIGHT
BEGIN:STANDARD
TZOFFSETFROM:-0500
TZOFFSETTO:-0600
TZNAME:CST
DTSTART:20251102T070000
END:STANDARD
TZID:America/New_York
BEGIN:DAYLIGHT
TZOFFSETFROM:-0500
TZOFFSETTO:-0400
TZNAME:EDT
DTSTART:20250309T070000
END:DAYLIGHT
BEGIN:STANDARD
TZOFFSETFROM:-0400
TZOFFSETTO:-0500
TZNAME:EST
DTSTART:20251102T060000
END:STANDARD
TZID:America/Los_Angeles
BEGIN:DAYLIGHT
TZOFFSETFROM:-0800
TZOFFSETTO:-0700
TZNAME:PDT
DTSTART:20250309T100000
END:DAYLIGHT
BEGIN:STANDARD
TZOFFSETFROM:-0700
TZOFFSETTO:-0800
TZNAME:PST
DTSTART:20251102T090000
END:STANDARD
TZID:America/New_York
BEGIN:DAYLIGHT
TZOFFSETFROM:-0500
TZOFFSETTO:-0400
TZNAME:EDT
DTSTART:20250309T070000
END:DAYLIGHT
BEGIN:STANDARD
TZOFFSETFROM:-0400
TZOFFSETTO:-0500
TZNAME:EST
DTSTART:20251102T060000
END:STANDARD
END:VTIMEZONE
BEGIN:VEVENT
DTSTART;VALUE=DATE:20250328
DTEND;VALUE=DATE:20250407
DTSTAMP:20260421T140429
CREATED:20250114T023323Z
LAST-MODIFIED:20250114T023523Z
UID:24134-1743120000-1743983999@kids-on-tour.net
SUMMARY:Billy Elliot - Jefferson Performing Arts Society
DESCRIPTION:TICKETS  \n  \n\n\n\n\nCharlie Stover\n(The Sound of Music)\nas Billy Elliot
URL:https://kids-on-tour.net/event/billy-elliot-jpas/
LOCATION:Jefferson Performing Arts Center\, 6400 Airline Dr\, Metairie\, LA\, 70003\, United States
CATEGORIES:Regional
ATTACH;FMTTYPE=image/png:https://kids-on-tour.net/wp-content/uploads/2025/01/billy-elliot-jpas.png
END:VEVENT
BEGIN:VEVENT
DTSTART;VALUE=DATE:20250404
DTEND;VALUE=DATE:20250407
DTSTAMP:20260421T140429
CREATED:20250321T193430Z
LAST-MODIFIED:20250321T193442Z
UID:24292-1743724800-1743983999@kids-on-tour.net
SUMMARY:The Prom - West Orange High School
DESCRIPTION:TICKETS  \n\n\n\n\nColeman Simmons\n(Charlie and the Chocolate Factory)\nas TBA
URL:https://kids-on-tour.net/event/the-prom-west-orange-high-school/
LOCATION:West Orange High School\, 51 Conforti Ave\, West Orange\, NJ\, 07052\, United States
CATEGORIES:Regional
ATTACH;FMTTYPE=image/jpeg:https://kids-on-tour.net/wp-content/uploads/2025/01/the-prom-banner.jpg
END:VEVENT
BEGIN:VEVENT
DTSTART;VALUE=DATE:20250404
DTEND;VALUE=DATE:20250405
DTSTAMP:20260421T140429
CREATED:20250218T233053Z
LAST-MODIFIED:20250218T233053Z
UID:24221-1743724800-1743811199@kids-on-tour.net
SUMMARY:"Freaky Tales" Release Date
DESCRIPTION:PURCHASE TICKETS \nFeaturing Armand Munoz (A Christmas Story)!
URL:https://kids-on-tour.net/event/freaky-tales-release-date/
LOCATION:Movie Theaters
CATEGORIES:Calendar
ATTACH;FMTTYPE=image/png:https://kids-on-tour.net/wp-content/uploads/2025/02/freaky-tales-banner.png
END:VEVENT
BEGIN:VEVENT
DTSTART;VALUE=DATE:20250410
DTEND;VALUE=DATE:20250421
DTSTAMP:20260421T140429
CREATED:20250329T185726Z
LAST-MODIFIED:20250329T185726Z
UID:24321-1744243200-1745193599@kids-on-tour.net
SUMMARY:Smile - J2 Spotlight Musical Theater Company
DESCRIPTION:TICKETS  \n\n\n\n\nGloria Manning\n(The Lion King)\nas TBA
URL:https://kids-on-tour.net/event/smile-j2-spotlight-musical-theater-company/
LOCATION:AMT Theater\, 354 West 45th St\, New York\, NY\, 10036\, United States
CATEGORIES:Regional
ATTACH;FMTTYPE=image/jpeg:https://kids-on-tour.net/wp-content/uploads/2025/03/smile-j2-spotlight-banner.jpg
END:VEVENT
BEGIN:VEVENT
DTSTART;VALUE=DATE:20250411
DTEND;VALUE=DATE:20250504
DTSTAMP:20260421T140429
CREATED:20250307T024754Z
LAST-MODIFIED:20250307T024754Z
UID:24254-1744329600-1746316799@kids-on-tour.net
SUMMARY:Happy Days - Plaza Theatre Company
DESCRIPTION:TICKETS  \n\n\n\n\nKeegan Gulledge\n(A Christmas Story)\nas Richie Cunningham
URL:https://kids-on-tour.net/event/happy-days-plaza-theatre-company/
LOCATION:Plaza Theatre Company – Dudley Hall\, 305 S. Anglin St\, Cleburne\, TX\, 76031\, United States
CATEGORIES:Regional
ATTACH;FMTTYPE=image/png:https://kids-on-tour.net/wp-content/uploads/2025/03/happy-days-musical-banner.png
END:VEVENT
BEGIN:VEVENT
DTSTART;VALUE=DATE:20250411
DTEND;VALUE=DATE:20250414
DTSTAMP:20260421T140429
CREATED:20250404T221726Z
LAST-MODIFIED:20250404T221726Z
UID:24339-1744329600-1744588799@kids-on-tour.net
SUMMARY:The Lightning Thief - Clark Musical Theatre
DESCRIPTION:TICKETS  \n\n\n\n\nBella May Mordus\n(How the Grinch Stole Christmas)\nas Annabeth Chase
URL:https://kids-on-tour.net/event/the-lightning-thief-clark-musical-theatre/
LOCATION:Daniels Theater at Clark University\, 950 Main St\, Worcester\, MA\, 01610\, United States
CATEGORIES:Regional
ATTACH;FMTTYPE=image/png:https://kids-on-tour.net/wp-content/uploads/2025/04/the-lightning-thief-clark-university-banner.png
END:VEVENT
BEGIN:VEVENT
DTSTART;TZID=America/New_York:20250419T120000
DTEND;TZID=America/New_York:20250419T170000
DTSTAMP:20260421T140429
CREATED:20250321T192807Z
LAST-MODIFIED:20250321T192807Z
UID:24289-1745064000-1745082000@kids-on-tour.net
SUMMARY:Broadway Kids
DESCRIPTION:PURCHASE TICKETS \nFeaturing Addie Jaymes (Annie) and Iris Davies (The Sound of Music)! \nBROADWAY KIDS NYC brings together a talented ensemble of young performers poised to become the stars of tomorrow. This dynamic musical revue showcases an electrifying mix of beloved Broadway hits and contemporary favorites\, all performed with youthful energy and show-stopping talent in the heart of New York City. \nTwo Performances – 12pm and 3:30pm. \nBefore purchasing a ticket\, please refer to the Cast List.  \nA portion of the proceeds will benefit Looking Ahead\, a program of the Entertainment Community Fund\, tailored to help professional young performers and their families to build community\, gain education and support while navigating the unique challenges associated with working in the entertainment industry.    \nwww.lookingaheadprogram.org.
URL:https://kids-on-tour.net/event/broadway-kids/
LOCATION:The Triad\, 158 West 72nd Street\, 2nd floor\, New York\, NY\, 10023\, United States
CATEGORIES:Calendar
ATTACH;FMTTYPE=image/png:https://kids-on-tour.net/wp-content/uploads/2025/03/Broadway-Kids-Banner.png
END:VEVENT
BEGIN:VEVENT
DTSTART;VALUE=DATE:20250425
DTEND;VALUE=DATE:20250511
DTSTAMP:20260421T140429
CREATED:20250314T051437Z
LAST-MODIFIED:20250314T051437Z
UID:24268-1745539200-1746921599@kids-on-tour.net
SUMMARY:Joseph and the Amazing Technicolor Dreamcoat - Civic Theatre
DESCRIPTION:TICKETS  \n  \n\n\n\n\nAllie Stacy\n(Waitress)\nas Children’s Choir
URL:https://kids-on-tour.net/event/joseph-dreamcoat-civic-theatre/
LOCATION:Civic Theatre\, 3 Carter Green\, Carmel\, IN\, 46032\, United States
CATEGORIES:Regional
ATTACH;FMTTYPE=image/png:https://kids-on-tour.net/wp-content/uploads/2025/03/Joseph-Technicolor-1.png
END:VEVENT
BEGIN:VEVENT
DTSTART;VALUE=DATE:20250425
DTEND;VALUE=DATE:20250505
DTSTAMP:20260421T140429
CREATED:20250314T051901Z
LAST-MODIFIED:20250314T051901Z
UID:24273-1745539200-1746403199@kids-on-tour.net
SUMMARY:The Secret Garden - Golden West College
DESCRIPTION:TICKETS \n\n\n\n\nElizabeth Last\n(Waitress)\nas Mary Lennox
URL:https://kids-on-tour.net/event/the-secret-garden-golden-west-college/
LOCATION:GWC Theater at Golden West College\, 15751 Gothard St\, Huntington Beach\, CA\, 92647\, United States
CATEGORIES:Regional
ATTACH;FMTTYPE=image/jpeg:https://kids-on-tour.net/wp-content/uploads/2025/03/secret-garden-gwc-banner.jpg
END:VEVENT
BEGIN:VEVENT
DTSTART;VALUE=DATE:20250425
DTEND;VALUE=DATE:20250616
DTSTAMP:20260421T140429
CREATED:20250317T010338Z
LAST-MODIFIED:20250608T023027Z
UID:24277-1745539200-1750031999@kids-on-tour.net
SUMMARY:Ragtime - Goodspeed Musicals
DESCRIPTION:TICKETS  \n\n\n\nSofie Nesanelis\n(Les Miserables\, How the Grinch Stole Christmas)\nas Little Girl \n  \n 
URL:https://kids-on-tour.net/event/ragtime-goodspeed-musicals/
LOCATION:Goodspeed Opera House\, 6 Main St\, East Haddam\, CT\, 06423\, United States
CATEGORIES:Regional
ATTACH;FMTTYPE=image/jpeg:https://kids-on-tour.net/wp-content/uploads/2025/03/ragtime-goodspeed-banner.jpg
END:VEVENT
BEGIN:VEVENT
DTSTART;VALUE=DATE:20250425
DTEND;VALUE=DATE:20250505
DTSTAMP:20260421T140429
CREATED:20250401T182507Z
LAST-MODIFIED:20250401T182507Z
UID:24334-1745539200-1746403199@kids-on-tour.net
SUMMARY:The Last Romance - ACT of Davie
DESCRIPTION:TICKETS  \n\n\n\n\nJay Hendrix\n(A Christmas Story)\nas Young Ralph
URL:https://kids-on-tour.net/event/the-last-romance-act-of-davie/
LOCATION:Pine Island Park Multipurpose Center at Bamford Park\, 3801 S. Pine Island Road\, Davie\, FL\, 33328\, United States
CATEGORIES:Regional
ATTACH;FMTTYPE=image/png:https://kids-on-tour.net/wp-content/uploads/2025/04/the-last-romance-banner.png
END:VEVENT
BEGIN:VEVENT
DTSTART;VALUE=DATE:20250425
DTEND;VALUE=DATE:20250428
DTSTAMP:20260421T140429
CREATED:20250422T035132Z
LAST-MODIFIED:20250422T035132Z
UID:24359-1745539200-1745798399@kids-on-tour.net
SUMMARY:Once Upon A Mattress - CMT Rising Stars
DESCRIPTION:TICKETS  \n\n\n\n\nMaddie Schneider\n(Waitress)\nas TBA (Castle Cast)
URL:https://kids-on-tour.net/event/once-upon-a-mattress-cmt-rising-stars/
LOCATION:Montgomery Theater\, 271 S. Market St\, San Jose\, CA\, 95113\, United States
CATEGORIES:Regional
ATTACH;FMTTYPE=image/png:https://kids-on-tour.net/wp-content/uploads/2025/04/once-upon-a-mattress-cmtsj-banner.png
END:VEVENT
BEGIN:VEVENT
DTSTART;VALUE=DATE:20250426
DTEND;VALUE=DATE:20250427
DTSTAMP:20260421T140429
CREATED:20250324T222159Z
LAST-MODIFIED:20250324T222159Z
UID:24308-1745625600-1745711999@kids-on-tour.net
SUMMARY:Mary Poppins Jr - BAPA
DESCRIPTION:TICKETS  \n\n\n\n\nReed Epley\n(Peter Pan)\nas Michael Banks
URL:https://kids-on-tour.net/event/mary-poppins-jr-bapa/
LOCATION:J.T. Anderson Theatre\, 548 S. Marietta Pkwy\, Marietta\, GA\, 30060\, United States
CATEGORIES:Regional
ATTACH;FMTTYPE=image/png:https://kids-on-tour.net/wp-content/uploads/2025/03/mary-poppins-bapa-banner.png
END:VEVENT
BEGIN:VEVENT
DTSTART;VALUE=DATE:20250426
DTEND;VALUE=DATE:20250428
DTSTAMP:20260421T140429
CREATED:20250401T181725Z
LAST-MODIFIED:20250401T181725Z
UID:24326-1745625600-1745798399@kids-on-tour.net
SUMMARY:Sweeney Todd - From Stage 2 Screen
DESCRIPTION:TICKETS  \n\n\n\n\nLandon James Forlenza\n(Elf on a Shelf)\nas Sweeney Todd (April 26th at 7pm and April 27th at 12pm)
URL:https://kids-on-tour.net/event/sweeney-todd-from-stage-2-screen/
LOCATION:Bayway Arts Center\, 265 E. Main St\, East Islip\, NY\, 11730\, United States
CATEGORIES:Regional
ATTACH;FMTTYPE=image/jpeg:https://kids-on-tour.net/wp-content/uploads/2025/04/sweeney-todd-banner.jpg
END:VEVENT
BEGIN:VEVENT
DTSTART;VALUE=DATE:20250430
DTEND;VALUE=DATE:20250519
DTSTAMP:20260421T140429
CREATED:20250415T042224Z
LAST-MODIFIED:20250415T042224Z
UID:24351-1745971200-1747612799@kids-on-tour.net
SUMMARY:Bonnie & Clyde - Rubicon Theatre Company
DESCRIPTION:TICKETS  \n\n\n\n\nChance Challen\n(The Sound of Music)\nas Young Clyde
URL:https://kids-on-tour.net/event/bonnie-and-clye-rubicon-theatre-company/
LOCATION:Rubicon Theatre Company\, 1006 E. Main St.\, Ventura\, CA\, 93001\, United States
CATEGORIES:Regional
ATTACH;FMTTYPE=image/webp:https://kids-on-tour.net/wp-content/uploads/2025/04/bonnie-and-clyde-banner.webp
END:VEVENT
END:VCALENDAR