BEGIN:VCALENDAR
VERSION:2.0
PRODID:-//Kids on Tour - ECPv6.2.6//NONSGML v1.0//EN
CALSCALE:GREGORIAN
METHOD:PUBLISH
X-ORIGINAL-URL:https://kids-on-tour.net
X-WR-CALDESC:Events for Kids on Tour
REFRESH-INTERVAL;VALUE=DURATION:PT1H
X-Robots-Tag:noindex
X-PUBLISHED-TTL:PT1H
BEGIN:VTIMEZONE
TZID:America/Denver
BEGIN:DAYLIGHT
TZOFFSETFROM:-0700
TZOFFSETTO:-0600
TZNAME:MDT
DTSTART:20250309T090000
END:DAYLIGHT
BEGIN:STANDARD
TZOFFSETFROM:-0600
TZOFFSETTO:-0700
TZNAME:MST
DTSTART:20251102T080000
END:STANDARD
TZID:America/Los_Angeles
BEGIN:DAYLIGHT
TZOFFSETFROM:-0800
TZOFFSETTO:-0700
TZNAME:PDT
DTSTART:20250309T100000
END:DAYLIGHT
BEGIN:STANDARD
TZOFFSETFROM:-0700
TZOFFSETTO:-0800
TZNAME:PST
DTSTART:20251102T090000
END:STANDARD
TZID:America/New_York
BEGIN:DAYLIGHT
TZOFFSETFROM:-0500
TZOFFSETTO:-0400
TZNAME:EDT
DTSTART:20250309T070000
END:DAYLIGHT
BEGIN:STANDARD
TZOFFSETFROM:-0400
TZOFFSETTO:-0500
TZNAME:EST
DTSTART:20251102T060000
END:STANDARD
TZID:America/Chicago
BEGIN:DAYLIGHT
TZOFFSETFROM:-0600
TZOFFSETTO:-0500
TZNAME:CDT
DTSTART:20250309T080000
END:DAYLIGHT
BEGIN:STANDARD
TZOFFSETFROM:-0500
TZOFFSETTO:-0600
TZNAME:CST
DTSTART:20251102T070000
END:STANDARD
END:VTIMEZONE
BEGIN:VEVENT
DTSTART;VALUE=DATE:20250103
DTEND;VALUE=DATE:20250309
DTSTAMP:20260421T154146
CREATED:20241001T185034Z
LAST-MODIFIED:20241001T185034Z
UID:23828-1735862400-1741478399@kids-on-tour.net
SUMMARY:Ragtime - The Ruth
DESCRIPTION:TICKETS  \n\n\n\n\nHailey Burnham\n(How the Grinch Stole Christmas)\nas Little Girl (MWF evening performances)
URL:https://kids-on-tour.net/event/ragtime-the-ruth/
LOCATION:The Ruth\, 401 S Pleasant Grove Blvd\, Pleasant Grove\, CA\, 84062\, United States
CATEGORIES:Regional
ATTACH;FMTTYPE=image/jpeg:https://kids-on-tour.net/wp-content/uploads/2024/10/ragtime-the-ruth-banner.jpg
END:VEVENT
BEGIN:VEVENT
DTSTART;VALUE=DATE:20250131
DTEND;VALUE=DATE:20250310
DTSTAMP:20260421T154146
CREATED:20241220T192434Z
LAST-MODIFIED:20241220T192434Z
UID:24104-1738281600-1741564799@kids-on-tour.net
SUMMARY:The Thing About Jellyfish - Berkeley Rep Theatre
DESCRIPTION:TICKETS  \n  \n\n\n\n\nKayla Teruel\n(The King and I)\nas TBA
URL:https://kids-on-tour.net/event/the-thing-about-jellyfish-berkeley-rep-theatre/
LOCATION:Roda Theatre at Berkeley Rep Theatre\, 2015 Addison St\, Berkeley\, CA\, 94704\, United States
CATEGORIES:Regional
ATTACH;FMTTYPE=image/jpeg:https://kids-on-tour.net/wp-content/uploads/2024/12/the-thing-about-jellyfish2.jpg
END:VEVENT
BEGIN:VEVENT
DTSTART;VALUE=DATE:20250204
DTEND;VALUE=DATE:20250317
DTSTAMP:20260421T154146
CREATED:20250114T023709Z
LAST-MODIFIED:20250114T023709Z
UID:24138-1738627200-1742169599@kids-on-tour.net
SUMMARY:The Bedwetter - Arena Stage
DESCRIPTION:TICKETS  \n  \n\n\n\n\nAria Kane\n(Frozen)\nas Sarah
URL:https://kids-on-tour.net/event/the-bedwetter-arena-stage/
LOCATION:Arena Stage\, 1101 6th St SW\, Washington\, DC\, 20024\, United States
CATEGORIES:Regional
ATTACH;FMTTYPE=image/jpeg:https://kids-on-tour.net/wp-content/uploads/2025/01/the-bedwetter-musical-banner.jpg
END:VEVENT
BEGIN:VEVENT
DTSTART;VALUE=DATE:20250205
DTEND;VALUE=DATE:20250331
DTSTAMP:20260421T154146
CREATED:20250117T202047Z
LAST-MODIFIED:20250117T202047Z
UID:24171-1738713600-1743379199@kids-on-tour.net
SUMMARY:Joseph and the Amazing Technicolor Dreamcoat - Marriott Theatre
DESCRIPTION:TICKETS  \n  \n\n\n\n\nAvelyn Choi\n(Frozen)\nas Children’s Choir (All shows except Weds and Thurs evenings beginning Feb 26th)
URL:https://kids-on-tour.net/event/joseph-dreamcoat-marriott-theatre/
LOCATION:Marriott Theatre\, 10 Marriott Dr\, Lincolnshire\, IL\, 60069\, United States
CATEGORIES:Regional
ATTACH;FMTTYPE=image/jpeg:https://kids-on-tour.net/wp-content/uploads/2025/01/joseph-dreamcoat-marriott.jpg
END:VEVENT
BEGIN:VEVENT
DTSTART;VALUE=DATE:20250227
DTEND;VALUE=DATE:20250302
DTSTAMP:20260421T154146
CREATED:20250225T193527Z
LAST-MODIFIED:20250225T193527Z
UID:24233-1740614400-1740873599@kids-on-tour.net
SUMMARY:The Drowsy Chaperone - Bergen County Academies
DESCRIPTION:TICKETS \n\n\n\n\nEdward Turner\n(Sound of Music\, A Christmas Story)\nas Robert Martin
URL:https://kids-on-tour.net/event/the-drowsy-chaperone-bergen-county-academies/
LOCATION:Bergen County Academies\, 200 Hackensack Ave\, Hackensack\, NJ\, 07601\, United States
CATEGORIES:Regional
ATTACH;FMTTYPE=image/png:https://kids-on-tour.net/wp-content/uploads/2025/02/drowsy-chaperone-bca-banner.png
END:VEVENT
BEGIN:VEVENT
DTSTART;TZID=America/New_York:20250301T130000
DTEND;TZID=America/New_York:20250301T143000
DTSTAMP:20260421T154146
CREATED:20250208T175728Z
LAST-MODIFIED:20250208T175728Z
UID:24184-1740834000-1740839400@kids-on-tour.net
SUMMARY:Curtains Up Cabaret: Applause for a Cause
DESCRIPTION:PURCHASE IN-PERSON TICKETS HERE \nPURCHASE LIVESTREAM TICKETS HERE \nFeaturing Grady Miranda (Elf)\, Ben Sadowsky (A Christmas Story)\, and Jack Sobolewski (Elf on a Shelf)! \n“Curtains Up: Applause For A Cause” is excited to be making its debut appearance at The Green Room 42 with the most talented young performers! Produced by Grady Miranda and Maya Marcus\, this fundraiser will be supporting two incredibly important charities; The Hancock-French Woods Arts Alliance and Project Broadway. As both of these organizations continue to play a vital role in making the Arts accessible to all communities\, these talented performers feel so honored to support the Arts and give back to a community that has given them so much. Get ready for a show that will leave you wanting more!
URL:https://kids-on-tour.net/event/curtains-up-cabaret-applause-for-a-cause/
LOCATION:The Green Room 42\, 570 10th Ave\, New York\, NY\, 10036\, United States
CATEGORIES:Calendar
ATTACH;FMTTYPE=image/png:https://kids-on-tour.net/wp-content/uploads/2025/02/curtains-up-banner.png
END:VEVENT
BEGIN:VEVENT
DTSTART;TZID=America/Los_Angeles:20250301T200000
DTEND;TZID=America/Los_Angeles:20250301T220000
DTSTAMP:20260421T154146
CREATED:20250215T211632Z
LAST-MODIFIED:20250215T211632Z
UID:24218-1740859200-1740866400@kids-on-tour.net
SUMMARY:“Killing the Competition” Release Date
DESCRIPTION:Featuring Lily Brooks O’Briant (Matilda\, “The Young and the Restless”)!
URL:https://kids-on-tour.net/event/killing-the-competition/
LOCATION:Lifetime
CATEGORIES:Calendar
ATTACH;FMTTYPE=image/jpeg:https://kids-on-tour.net/wp-content/uploads/2025/02/IMG_9862.jpeg
END:VEVENT
BEGIN:VEVENT
DTSTART;VALUE=DATE:20250305
DTEND;VALUE=DATE:20250309
DTSTAMP:20260421T154146
CREATED:20250304T055514Z
LAST-MODIFIED:20250304T055514Z
UID:24237-1741132800-1741478399@kids-on-tour.net
SUMMARY:Natasha\, Pierre\, and the Great Comet of 1812 - Professional Performing Arts School
DESCRIPTION:TICKETS  \n\n\n\n\nGloria Manning\n(The Lion King)\nas Natasha\n\n\nSammy Dell\n(School of Rock)\nas Anatole\n\n\nJohn Michael Pitera\n(Newsies\, School of Rock)\nas Bolkonsky
URL:https://kids-on-tour.net/event/natasha-pierra-great-comet-of-1812-ppas/
LOCATION:Jackie Kennedy Onassis High School Auditorium\, 120 West 46th Street\, New York\, NY\, 10036\, United States
CATEGORIES:Regional
ATTACH;FMTTYPE=image/png:https://kids-on-tour.net/wp-content/uploads/2025/03/Natasha-Pierre-PPAS.png
END:VEVENT
BEGIN:VEVENT
DTSTART;VALUE=DATE:20250315
DTEND;VALUE=DATE:20250316
DTSTAMP:20260421T154146
CREATED:20250225T193210Z
LAST-MODIFIED:20250225T193210Z
UID:24230-1741996800-1742083199@kids-on-tour.net
SUMMARY:Elephant & Piggie's "We Are In A Play"
DESCRIPTION:TICKETS  \n\n\n\n\nJay Hendrix\n(A Christmas Story)\nas Elephant Gerald
URL:https://kids-on-tour.net/event/elephant-and-piggies-we-are-in-a-play/
LOCATION:Broward Center\, 201 SW 5th Ave\, Fort Lauderdale\, FL\, 33312\, United States
CATEGORIES:Regional
ATTACH;FMTTYPE=image/jpeg:https://kids-on-tour.net/wp-content/uploads/2025/02/elephant-and-piggies.jpg
END:VEVENT
BEGIN:VEVENT
DTSTART;TZID=America/New_York:20250315T190000
DTEND;TZID=America/New_York:20250315T203000
DTSTAMP:20260421T154146
CREATED:20250307T025017Z
LAST-MODIFIED:20250314T045713Z
UID:24257-1742065200-1742070600@kids-on-tour.net
SUMMARY:The Broadway Star Project's Spring Playlist
DESCRIPTION:PURCHASE IN-PERSON TICKETS \nPURCHASE LIVESTREAM TICKETS \nFeaturing Isabel Medina (The Lion King) and Anthony Cipolla (A Bronx Tale)! \n SPRING PLAYLIST – A Night of Unstoppable Talent! \nStep into the spring season with a high-energy\, show-stopping night of music\, featuring the insanely talented young artists from The Broadway Star Project! From Broadway hits to chart-topping favorites\, this concert is packed with electrifying performances\, unforgettable moments\, and pure musical magic that only BSP can deliver. \nDon’t miss the ultimate SPRING PLAYLIST! Grab your tickets now and get ready for a night that will leave you singing all the way home!
URL:https://kids-on-tour.net/event/the-broadway-star-project-spring-playlist/
LOCATION:The Green Room 42\, 570 10th Ave\, New York\, NY\, 10036\, United States
CATEGORIES:Calendar
ATTACH;FMTTYPE=image/jpeg:https://kids-on-tour.net/wp-content/uploads/2025/03/spring-playlist-banner.jpeg
END:VEVENT
BEGIN:VEVENT
DTSTART;TZID=America/New_York:20250324T213000
DTEND;TZID=America/New_York:20250324T230000
DTSTAMP:20260421T154146
CREATED:20250314T050924Z
LAST-MODIFIED:20250314T050924Z
UID:24265-1742851800-1742857200@kids-on-tour.net
SUMMARY:54 Sings Lin-Manuel Miranda
DESCRIPTION:PURCHASE IN-PERSON TICKETS HERE \nPURCHASE LIVESTREAM TICKETS HERE \nFeaturing Joshua Turchin (A Christmas Story) as the musical director! \nJoin us for 54 Sings Lin-Manuel Miranda as we sing through the beloved composer’s extensive repertoire from stage to screen and beyond! Lin-Manuel Miranda has revolutionized theatre since the late 2000s. Tonight\, we pay homage and tribute to this iconic composer from In The Heights to Hamilton\, from his work with Disney to some of his newest songs!
URL:https://kids-on-tour.net/event/54-sings-lin-manuel-miranda/
LOCATION:54 Below\, 254 W 54th St. Cellar\, New York\, NY\, 10019\, United States
CATEGORIES:Regional
ATTACH;FMTTYPE=image/webp:https://kids-on-tour.net/wp-content/uploads/2025/03/v1_site-image_54-Sings-Lin-Manuel-Miranda.webp
END:VEVENT
BEGIN:VEVENT
DTSTART;VALUE=DATE:20250328
DTEND;VALUE=DATE:20250407
DTSTAMP:20260421T154146
CREATED:20250114T023323Z
LAST-MODIFIED:20250114T023523Z
UID:24134-1743120000-1743983999@kids-on-tour.net
SUMMARY:Billy Elliot - Jefferson Performing Arts Society
DESCRIPTION:TICKETS  \n  \n\n\n\n\nCharlie Stover\n(The Sound of Music)\nas Billy Elliot
URL:https://kids-on-tour.net/event/billy-elliot-jpas/
LOCATION:Jefferson Performing Arts Center\, 6400 Airline Dr\, Metairie\, LA\, 70003\, United States
CATEGORIES:Regional
ATTACH;FMTTYPE=image/png:https://kids-on-tour.net/wp-content/uploads/2025/01/billy-elliot-jpas.png
END:VEVENT
END:VCALENDAR