BEGIN:VCALENDAR
VERSION:2.0
PRODID:-//Kids on Tour - ECPv6.2.6//NONSGML v1.0//EN
CALSCALE:GREGORIAN
METHOD:PUBLISH
X-ORIGINAL-URL:https://kids-on-tour.net
X-WR-CALDESC:Events for Kids on Tour
REFRESH-INTERVAL;VALUE=DURATION:PT1H
X-Robots-Tag:noindex
X-PUBLISHED-TTL:PT1H
BEGIN:VTIMEZONE
TZID:America/Denver
BEGIN:DAYLIGHT
TZOFFSETFROM:-0700
TZOFFSETTO:-0600
TZNAME:MDT
DTSTART:20250309T090000
END:DAYLIGHT
BEGIN:STANDARD
TZOFFSETFROM:-0600
TZOFFSETTO:-0700
TZNAME:MST
DTSTART:20251102T080000
END:STANDARD
TZID:America/New_York
BEGIN:DAYLIGHT
TZOFFSETFROM:-0500
TZOFFSETTO:-0400
TZNAME:EDT
DTSTART:20250309T070000
END:DAYLIGHT
BEGIN:STANDARD
TZOFFSETFROM:-0400
TZOFFSETTO:-0500
TZNAME:EST
DTSTART:20251102T060000
END:STANDARD
TZID:America/Phoenix
BEGIN:STANDARD
TZOFFSETFROM:-0700
TZOFFSETTO:-0700
TZNAME:MST
DTSTART:20250101T000000
END:STANDARD
TZID:America/Los_Angeles
BEGIN:DAYLIGHT
TZOFFSETFROM:-0800
TZOFFSETTO:-0700
TZNAME:PDT
DTSTART:20250309T100000
END:DAYLIGHT
BEGIN:STANDARD
TZOFFSETFROM:-0700
TZOFFSETTO:-0800
TZNAME:PST
DTSTART:20251102T090000
END:STANDARD
TZID:America/Chicago
BEGIN:DAYLIGHT
TZOFFSETFROM:-0600
TZOFFSETTO:-0500
TZNAME:CDT
DTSTART:20250309T080000
END:DAYLIGHT
BEGIN:STANDARD
TZOFFSETFROM:-0500
TZOFFSETTO:-0600
TZNAME:CST
DTSTART:20251102T070000
END:STANDARD
END:VTIMEZONE
BEGIN:VEVENT
DTSTART;VALUE=DATE:20250103
DTEND;VALUE=DATE:20250309
DTSTAMP:20260423T032226
CREATED:20241001T185034Z
LAST-MODIFIED:20241001T185034Z
UID:23828-1735862400-1741478399@kids-on-tour.net
SUMMARY:Ragtime - The Ruth
DESCRIPTION:TICKETS  \n\n\n\n\nHailey Burnham\n(How the Grinch Stole Christmas)\nas Little Girl (MWF evening performances)
URL:https://kids-on-tour.net/event/ragtime-the-ruth/
LOCATION:The Ruth\, 401 S Pleasant Grove Blvd\, Pleasant Grove\, CA\, 84062\, United States
CATEGORIES:Regional
ATTACH;FMTTYPE=image/jpeg:https://kids-on-tour.net/wp-content/uploads/2024/10/ragtime-the-ruth-banner.jpg
END:VEVENT
BEGIN:VEVENT
DTSTART;VALUE=DATE:20250116
DTEND;VALUE=DATE:20250203
DTSTAMP:20260423T032226
CREATED:20241217T174015Z
LAST-MODIFIED:20241217T174015Z
UID:24091-1736985600-1738540799@kids-on-tour.net
SUMMARY:9 to 5: The Musical - Lauderhill Performing Arts Center
DESCRIPTION:TICKETS  \n\n\n\n\nJay Hendrix\n(A Christmas Story)\nas Josh/Ensemble
URL:https://kids-on-tour.net/event/9-to-5-the-musical-lauderhill-performing-arts-center/
LOCATION:Lauderhill Performing Arts Center\, 3800 NW 11th Pl\, Lauderhill\, FL\, 33311\, United States
CATEGORIES:Regional
ATTACH;FMTTYPE=image/png:https://kids-on-tour.net/wp-content/uploads/2024/12/9-to-5-lauderhill.png
END:VEVENT
BEGIN:VEVENT
DTSTART;VALUE=DATE:20250117
DTEND;VALUE=DATE:20250222
DTSTAMP:20260423T032226
CREATED:20250102T192748Z
LAST-MODIFIED:20250102T192748Z
UID:24120-1737072000-1740182399@kids-on-tour.net
SUMMARY:Hello\, Dolly! - Arizona Broadway Theatre
DESCRIPTION:TICKETS  \n  \n\n\n\n\nDylan Loraw\n(Finding Neverland)\nas Ensemble
URL:https://kids-on-tour.net/event/hello-dolly-arizona-broadway-theatre/
LOCATION:Arizona Broadway Theatre\, 7701 W Paradise Ln\, Peoria\, AZ\, 85382\, United States
CATEGORIES:Regional
ATTACH;FMTTYPE=image/jpeg:https://kids-on-tour.net/wp-content/uploads/2025/01/hello-dolly-abt.jpg
END:VEVENT
BEGIN:VEVENT
DTSTART;VALUE=DATE:20250118
DTEND;VALUE=DATE:20250203
DTSTAMP:20260423T032226
CREATED:20250117T202750Z
LAST-MODIFIED:20250117T202757Z
UID:24174-1737158400-1738540799@kids-on-tour.net
SUMMARY:Paradise Lost - Elon University
DESCRIPTION:TICKETS  \n  \n\n\n\n\nCarter Sindelar\n(The Sound of Music)\nas Adam
URL:https://kids-on-tour.net/event/paradise-lost-elon-university/
LOCATION:Roberts Studio Theatre at Elon University\, 100 Campus dr\, Elon\, NC\, 27244\, United States
CATEGORIES:Regional
ATTACH;FMTTYPE=image/jpeg:https://kids-on-tour.net/wp-content/uploads/2025/01/paradise-lost-banner-scaled.jpg
END:VEVENT
BEGIN:VEVENT
DTSTART;VALUE=DATE:20250131
DTEND;VALUE=DATE:20250310
DTSTAMP:20260423T032226
CREATED:20241220T192434Z
LAST-MODIFIED:20241220T192434Z
UID:24104-1738281600-1741564799@kids-on-tour.net
SUMMARY:The Thing About Jellyfish - Berkeley Rep Theatre
DESCRIPTION:TICKETS  \n  \n\n\n\n\nKayla Teruel\n(The King and I)\nas TBA
URL:https://kids-on-tour.net/event/the-thing-about-jellyfish-berkeley-rep-theatre/
LOCATION:Roda Theatre at Berkeley Rep Theatre\, 2015 Addison St\, Berkeley\, CA\, 94704\, United States
CATEGORIES:Regional
ATTACH;FMTTYPE=image/jpeg:https://kids-on-tour.net/wp-content/uploads/2024/12/the-thing-about-jellyfish2.jpg
END:VEVENT
BEGIN:VEVENT
DTSTART;VALUE=DATE:20250131
DTEND;VALUE=DATE:20250203
DTSTAMP:20260423T032226
CREATED:20250114T060842Z
LAST-MODIFIED:20250114T060842Z
UID:24152-1738281600-1738540799@kids-on-tour.net
SUMMARY:The Prom - Random Farms Kids Theater
DESCRIPTION:TICKETS  \n  \n\n\n\n\nJack Sobolewski\n(Elf on a Shelf)\nas Barry (Cast B)
URL:https://kids-on-tour.net/event/the-prom-random-farms-kids-theater/
LOCATION:Paramount Hudson Valley Theater\, 1008 Brown St\, Peekskill\, NY\, 10566\, United States
CATEGORIES:Regional
ATTACH;FMTTYPE=image/jpeg:https://kids-on-tour.net/wp-content/uploads/2025/01/the-prom-banner.jpg
END:VEVENT
BEGIN:VEVENT
DTSTART;VALUE=DATE:20250201
DTEND;VALUE=DATE:20250203
DTSTAMP:20260423T032226
CREATED:20241004T173956Z
LAST-MODIFIED:20241004T173956Z
UID:23852-1738368000-1738540799@kids-on-tour.net
SUMMARY:Mean Girls Jr - Inside Out Theatre Company\, Inc
DESCRIPTION:TICKETS  \n\n\n\n\nNatalia Valentina\n(A Christmas Story)\nas Janis
URL:https://kids-on-tour.net/event/mean-girls-jr-inside-out-theatre-company-inc/
LOCATION:Sunrise Civic Center Theater\, 10610 W Oakland Park Blvd\, Sunrise\, FL\, 33351\, United States
CATEGORIES:Regional
ATTACH;FMTTYPE=image/jpeg:https://kids-on-tour.net/wp-content/uploads/2023/10/mean-girls-jr-banner.jpg
END:VEVENT
BEGIN:VEVENT
DTSTART;VALUE=DATE:20250204
DTEND;VALUE=DATE:20250317
DTSTAMP:20260423T032226
CREATED:20250114T023709Z
LAST-MODIFIED:20250114T023709Z
UID:24138-1738627200-1742169599@kids-on-tour.net
SUMMARY:The Bedwetter - Arena Stage
DESCRIPTION:TICKETS  \n  \n\n\n\n\nAria Kane\n(Frozen)\nas Sarah
URL:https://kids-on-tour.net/event/the-bedwetter-arena-stage/
LOCATION:Arena Stage\, 1101 6th St SW\, Washington\, DC\, 20024\, United States
CATEGORIES:Regional
ATTACH;FMTTYPE=image/jpeg:https://kids-on-tour.net/wp-content/uploads/2025/01/the-bedwetter-musical-banner.jpg
END:VEVENT
BEGIN:VEVENT
DTSTART;VALUE=DATE:20250205
DTEND;VALUE=DATE:20250331
DTSTAMP:20260423T032226
CREATED:20250117T202047Z
LAST-MODIFIED:20250117T202047Z
UID:24171-1738713600-1743379199@kids-on-tour.net
SUMMARY:Joseph and the Amazing Technicolor Dreamcoat - Marriott Theatre
DESCRIPTION:TICKETS  \n  \n\n\n\n\nAvelyn Choi\n(Frozen)\nas Children’s Choir (All shows except Weds and Thurs evenings beginning Feb 26th)
URL:https://kids-on-tour.net/event/joseph-dreamcoat-marriott-theatre/
LOCATION:Marriott Theatre\, 10 Marriott Dr\, Lincolnshire\, IL\, 60069\, United States
CATEGORIES:Regional
ATTACH;FMTTYPE=image/jpeg:https://kids-on-tour.net/wp-content/uploads/2025/01/joseph-dreamcoat-marriott.jpg
END:VEVENT
BEGIN:VEVENT
DTSTART;VALUE=DATE:20250207
DTEND;VALUE=DATE:20250210
DTSTAMP:20260423T032226
CREATED:20241211T014017Z
LAST-MODIFIED:20250114T022018Z
UID:24075-1738886400-1739145599@kids-on-tour.net
SUMMARY:BroadwayCon 2025
DESCRIPTION:MORE INFO \nGuests include Eli Tokash (A Christmas Story\, Mary Poppins) and Joshua Turchin (Forbidden Broadway)!  \nFor the most up to date schedule\, please visit BroadwayCon.com.
URL:https://kids-on-tour.net/event/broadwaycon-2025/
LOCATION:New York Hilton Midtown\, 1335 6th Ave\, New York\, NY\, 10019\, United States
CATEGORIES:Calendar
ATTACH;FMTTYPE=image/png:https://kids-on-tour.net/wp-content/uploads/2024/12/broadwaycon-2025-banner.png
END:VEVENT
BEGIN:VEVENT
DTSTART;VALUE=DATE:20250207
DTEND;VALUE=DATE:20250224
DTSTAMP:20260423T032226
CREATED:20250208T180334Z
LAST-MODIFIED:20250208T180334Z
UID:24187-1738886400-1740355199@kids-on-tour.net
SUMMARY:Fun Home - SHU Theatre Arts
DESCRIPTION:GET TICKETS \n\n\n\n\nMolly Glowacki\n(How the Grinch Stole Christmas)\nas Small Alison
URL:https://kids-on-tour.net/event/fun-home-shu-theatre-arts/
LOCATION:Edgerton Center for the Performing Arts\, 5151 Park Avenue\, Fairfield\, CT\, 06825\, United States
CATEGORIES:Regional
ATTACH;FMTTYPE=image/webp:https://kids-on-tour.net/wp-content/uploads/2025/02/fun-home-shu-scaled.webp
END:VEVENT
BEGIN:VEVENT
DTSTART;TZID=America/New_York:20250209T190000
DTEND;TZID=America/New_York:20250209T203000
DTSTAMP:20260423T032226
CREATED:20241219T185523Z
LAST-MODIFIED:20250114T022303Z
UID:24099-1739127600-1739133000@kids-on-tour.net
SUMMARY:Villaintine's
DESCRIPTION:IN-PERSON TICKETS \nLIVESTREAM TICKETS \nFeaturing Joshua Turchin (A Christmas Story)\, Mia Sinclair Jenness (Matilda\, Les Miserables)\, and Audrey Bennett (The Sound of Music) \nEvil is in the air at The Green Room 42! Produced by Joshua Turchin and Thomas Sanders\, “Villaintines at The Green Room 42” is a celebration of all the villains you love to hate! Featuring bewitching songs from Broadway musicals\, movies\, and television shows\, you won’t want to miss this wickedly good night out! Musical Direction by Joshua Turchin.
URL:https://kids-on-tour.net/event/villaintines/
LOCATION:The Green Room 42\, 570 10th Ave\, New York\, NY\, 10036\, United States
CATEGORIES:Calendar
ATTACH;FMTTYPE=image/png:https://kids-on-tour.net/wp-content/uploads/2024/12/villaintines-banner.png
END:VEVENT
BEGIN:VEVENT
DTSTART;TZID=America/New_York:20250213T213000
DTEND;TZID=America/New_York:20250213T230000
DTSTAMP:20260423T032226
CREATED:20250208T181900Z
LAST-MODIFIED:20250208T181900Z
UID:24205-1739482200-1739487600@kids-on-tour.net
SUMMARY:Doofyland
DESCRIPTION:PURCHASE HERE \nFeaturing Joshua Turchin (A Christmas Story) as the musical director! \n“Embrace the Enchanthood” with us at 54 Below for a raucous evening featuring the songs of writer/composer Mike Hadge’s new\, original award-winning theme park musical comedy DoofyLand. Backstage at a failing Florida theme park\, DoofyLand follows the folks under those giant character heads. Featuring an infectious\, Disney-esque soundtrack blending Sherman Brothers-like ditties with rock\, pop and old fashioned Broadway flavors. The result is a modern fable about how our “fantasy lands” can become our cages. \nIt will be a night lovingly ribbing all things Disney characters and theme parks\, featuring musical park character inner-monologues\, odes to making friends in your thirties\, furry love songs\, psychosexual carousels and more\, all performed by Broadway and Off-Broadway’s finest. Disney adults\, this is your Hamilton!
URL:https://kids-on-tour.net/event/doofyland/
LOCATION:54 Below\, 254 W 54th St. Cellar\, New York\, NY\, 10019\, United States
CATEGORIES:Calendar
ATTACH;FMTTYPE=image/webp:https://kids-on-tour.net/wp-content/uploads/2025/02/doofy-land-banner.webp
END:VEVENT
BEGIN:VEVENT
DTSTART;VALUE=DATE:20250214
DTEND;VALUE=DATE:20250224
DTSTAMP:20260423T032226
CREATED:20250208T182530Z
LAST-MODIFIED:20250208T182530Z
UID:24212-1739491200-1740355199@kids-on-tour.net
SUMMARY:The Adventures of Tom Sawyer - CMT Junior Talents
DESCRIPTION:TICKETS  \n\n\n\n\nMaddie Schneider\n(Waitress)\nas School Kid (Clemens Cast)
URL:https://kids-on-tour.net/event/the-adventures-of-tom-sawyer-cmt-junior-talents/
LOCATION:Montgomery Theater\, 271 S. Market St\, San Jose\, CA\, 95113\, United States
CATEGORIES:Regional
ATTACH;FMTTYPE=image/png:https://kids-on-tour.net/wp-content/uploads/2025/02/adventures-of-tom-sawyer-cmtsj-banner.png
END:VEVENT
BEGIN:VEVENT
DTSTART;TZID=America/New_York:20250217T190000
DTEND;TZID=America/New_York:20250217T203000
DTSTAMP:20260423T032226
CREATED:20250117T201811Z
LAST-MODIFIED:20250117T201818Z
UID:24168-1739818800-1739824200@kids-on-tour.net
SUMMARY:Young Gifted & Broadway Celebrates Black History Month: Lift Every Voice
DESCRIPTION:GET TICKETS \nLet’s lift our voices and celebrate Black History Month with Broadway’s best and brightest young stars! Join us at 54 Below for an evening where you will hear great songs from Broadway and beyond\, along with some historical facts you may have never known. Journey with us\, as we lift the voices of great historical figures of Black History! Featuring current and recent Broadway youth performers from MJ The Musical\, Gypsy\, Disney’s The Lion King\, and more! \nFeaturing Annabel Cole (Les Miserables)\, Mariama Diop (Once On This Island)\, Scarlett London Diviney (The Lion King)\, and Grammy Winner Walter Russell III (The Lion King)!
URL:https://kids-on-tour.net/event/young-gifted-broadway-celebrates-black-history-month-lift-every-voice/
LOCATION:54 Below\, 254 W 54th St. Cellar\, New York\, NY\, 10019\, United States
CATEGORIES:Calendar
ATTACH;FMTTYPE=image/png:https://kids-on-tour.net/wp-content/uploads/2025/01/Young-Gifted-Broadway-site-image-25.png
END:VEVENT
BEGIN:VEVENT
DTSTART;TZID=America/New_York:20250217T200000
DTEND;TZID=America/New_York:20250217T230000
DTSTAMP:20260423T032226
CREATED:20250208T182239Z
LAST-MODIFIED:20250208T182239Z
UID:24208-1739822400-1739833200@kids-on-tour.net
SUMMARY:ANASTASIA Concert
DESCRIPTION:PURCHASE TICKETS HERE \nFeaturing Emerson Mae Chan (Les Miserables\, Mrs. Doubtfire) and Leo Caravano (Les Miserables)! \nExperience the magic as Manhattan Concert Productions presents Anastasia: The Musical\, the latest in its Broadway Series! With an all-star creative team led by Sarah Hartmann (Stage Director) and Tom Murray (Music Director)\, this one-night-only event features a 400-voice chorus\, the New York City Chamber Orchestra\, and a stunning cast\, including Christy Altomare (Anya)\, John Bolton (Vlad)\, Jordan Donica (Gleb)\, Alex Joseph Grayson (Dmitry)\, Mary Beth Peil (Dowager Empress)\, and Rachel York (Countess Lily).
URL:https://kids-on-tour.net/event/anastasia-concert/
LOCATION:David Geffen Hall at Lincoln Center\, 10 Lincoln Center Plaza\, New York\, NY\, 10023\, United States
CATEGORIES:Calendar
ATTACH;FMTTYPE=image/png:https://kids-on-tour.net/wp-content/uploads/2025/02/anastasia-mcp-banner.png
END:VEVENT
BEGIN:VEVENT
DTSTART;VALUE=DATE:20250220
DTEND;VALUE=DATE:20250301
DTSTAMP:20260423T032226
CREATED:20250102T191530Z
LAST-MODIFIED:20250102T191530Z
UID:24116-1740009600-1740787199@kids-on-tour.net
SUMMARY:The Lightning Thief - PBA Theatre
DESCRIPTION:TICKETS  \n  \n\n\n\n\nJackson Greenspan\n(Charlie and the Chocolate Factory)\nas Percy Jackson
URL:https://kids-on-tour.net/event/the-lightning-thief-pba-theatre/
LOCATION:Fern Street Theatre\, 500 Fern St\, West Palm Beach\, FL\, 33401\, United States
CATEGORIES:Regional
ATTACH;FMTTYPE=image/jpeg:https://kids-on-tour.net/wp-content/uploads/2025/01/lightning-thief-musical-banner.jpg
END:VEVENT
BEGIN:VEVENT
DTSTART;VALUE=DATE:20250221
DTEND;VALUE=DATE:20250224
DTSTAMP:20260423T032226
CREATED:20250208T180712Z
LAST-MODIFIED:20250208T180712Z
UID:24192-1740096000-1740355199@kids-on-tour.net
SUMMARY:Annie - Virginia Musical Theatre
DESCRIPTION:TICKETS  \n  \n\n\n\n\nRainier Trevino\n(Annie)\nas Annie
URL:https://kids-on-tour.net/event/annie-virginia-musical-theatre/
LOCATION:Sandler Center\, 201 Market Street\, Virginia Beach\, VA\, 23462\, United States
CATEGORIES:Regional
ATTACH;FMTTYPE=image/jpeg:https://kids-on-tour.net/wp-content/uploads/2025/02/annie-virginia-musical-theatre-banner.jpg
END:VEVENT
BEGIN:VEVENT
DTSTART;TZID=America/New_York:20250221T180000
DTEND;TZID=America/New_York:20250221T193000
DTSTAMP:20260423T032226
CREATED:20250208T181741Z
LAST-MODIFIED:20250208T181747Z
UID:24202-1740160800-1740166200@kids-on-tour.net
SUMMARY:YAC Cabaret for LA: An Evening of Hope
DESCRIPTION:MORE INFO \nFeaturing Addie Jaymes (Annie) and Luli Mitchell (A Christmas Story)!  \nYoung Artists Concerts will present another event to benefit the California Community Foundation’s Wildlife Recovery Fund on February 21st at 6pm EST! Donate in the link above and then DM @youngartists.concerts with proof for access to the event. 
URL:https://kids-on-tour.net/event/yac-cabaret-for-la-an-evening-of-hope/
LOCATION:Internet
CATEGORIES:Calendar
ATTACH;FMTTYPE=image/png:https://kids-on-tour.net/wp-content/uploads/2025/02/yac-cabaret-for-la-banner.png
END:VEVENT
BEGIN:VEVENT
DTSTART;TZID=America/New_York:20250223T213000
DTEND;TZID=America/New_York:20250223T223000
DTSTAMP:20260423T032226
CREATED:20250218T233721Z
LAST-MODIFIED:20250218T233721Z
UID:24224-1740346200-1740349800@kids-on-tour.net
SUMMARY:Bachelorette Duets
DESCRIPTION:PURCHASE IN-PERSON TICKETS HERE \nPURCHASE LIVESTREAM TICKETS HERE \nFeaturing Joshua Turchin (A Christmas Story) as the musical director! \nJulie Biancheri selects bachelors to sing her favorite musical duets\, including The Phantom of the Opera\, Les Misérables\, Disney’s Frozen… and more. The audience votes for the final rose winner based on who has the best stage chemistry. From showmance to potential romance\, don’t miss a night of bachelorette duets!
URL:https://kids-on-tour.net/event/bachelorette-duets/
LOCATION:54 Below\, 254 W 54th St. Cellar\, New York\, NY\, 10019\, United States
CATEGORIES:Calendar
ATTACH;FMTTYPE=image/webp:https://kids-on-tour.net/wp-content/uploads/2025/02/Bachelorette-Duets-Show-Art.webp
END:VEVENT
BEGIN:VEVENT
DTSTART;TZID=America/New_York:20250224T190000
DTEND;TZID=America/New_York:20250224T200000
DTSTAMP:20260423T032226
CREATED:20250114T054738Z
LAST-MODIFIED:20250114T054738Z
UID:24143-1740423600-1740427200@kids-on-tour.net
SUMMARY:Analise Scarpaci: Where I Belong
DESCRIPTION:IN-PERSON AND LIVESTREAM TICKETS \nAnalise Scarpaci (known for her roles in Mrs. Doubtfire\, Matilda\, and A Christmas Story) is celebrating her 15th year in the professional theatre world with a joyful\, comedic\, and deeply personal show about self-discovery. In this heartfelt performance\, Analise reflects on the unique challenges and triumphs of transitioning from a child actor to an adult in a career full of surprises. From growing up in a small town to navigating the highs and lows of an unpredictable industry\, Analise’s story is one of resilience\, growth\, and passion. Featuring songs from beloved musicals and some of your favorite singer-songwriters\, join Analise as she embarks on a new chapter\, sharing the good\, the tough\, and the utterly unforgettable moments that have shaped her journey in the industry she loves. Special Guests to be announced soon!
URL:https://kids-on-tour.net/event/analise-scarpaci-where-i-belong/
LOCATION:Chelsea Table + Stage\, 152 W 26th St\, New York\, NY\, 10001\, United States
CATEGORIES:Calendar
ATTACH;FMTTYPE=image/jpeg:https://kids-on-tour.net/wp-content/uploads/2025/01/analise-scarpaci-where-i-belong.jpeg
END:VEVENT
BEGIN:VEVENT
DTSTART;VALUE=DATE:20250227
DTEND;VALUE=DATE:20250302
DTSTAMP:20260423T032226
CREATED:20250225T193527Z
LAST-MODIFIED:20250225T193527Z
UID:24233-1740614400-1740873599@kids-on-tour.net
SUMMARY:The Drowsy Chaperone - Bergen County Academies
DESCRIPTION:TICKETS \n\n\n\n\nEdward Turner\n(Sound of Music\, A Christmas Story)\nas Robert Martin
URL:https://kids-on-tour.net/event/the-drowsy-chaperone-bergen-county-academies/
LOCATION:Bergen County Academies\, 200 Hackensack Ave\, Hackensack\, NJ\, 07601\, United States
CATEGORIES:Regional
ATTACH;FMTTYPE=image/png:https://kids-on-tour.net/wp-content/uploads/2025/02/drowsy-chaperone-bca-banner.png
END:VEVENT
BEGIN:VEVENT
DTSTART;VALUE=DATE:20250228
DTEND;VALUE=DATE:20250301
DTSTAMP:20260423T032226
CREATED:20241011T191344Z
LAST-MODIFIED:20241011T191344Z
UID:23863-1740700800-1740787199@kids-on-tour.net
SUMMARY:"No Address" In Theaters
DESCRIPTION:PURCHASE TICKETS \nNote: This movie is playing for one night only. Showtime details coming soon. \nFeaturing Keenan Moran (The Sound of Music)!
URL:https://kids-on-tour.net/event/no-address-in-theaters/
LOCATION:Movie Theaters
CATEGORIES:Calendar
ATTACH;FMTTYPE=image/png:https://kids-on-tour.net/wp-content/uploads/2024/10/no-address-banner.png
END:VEVENT
END:VCALENDAR