BEGIN:VCALENDAR
VERSION:2.0
PRODID:-//Kids on Tour - ECPv6.2.6//NONSGML v1.0//EN
CALSCALE:GREGORIAN
METHOD:PUBLISH
X-ORIGINAL-URL:https://kids-on-tour.net
X-WR-CALDESC:Events for Kids on Tour
REFRESH-INTERVAL;VALUE=DURATION:PT1H
X-Robots-Tag:noindex
X-PUBLISHED-TTL:PT1H
BEGIN:VTIMEZONE
TZID:America/New_York
BEGIN:DAYLIGHT
TZOFFSETFROM:-0500
TZOFFSETTO:-0400
TZNAME:EDT
DTSTART:20240310T070000
END:DAYLIGHT
BEGIN:STANDARD
TZOFFSETFROM:-0400
TZOFFSETTO:-0500
TZNAME:EST
DTSTART:20241103T060000
END:STANDARD
TZID:America/Chicago
BEGIN:DAYLIGHT
TZOFFSETFROM:-0600
TZOFFSETTO:-0500
TZNAME:CDT
DTSTART:20240310T080000
END:DAYLIGHT
BEGIN:STANDARD
TZOFFSETFROM:-0500
TZOFFSETTO:-0600
TZNAME:CST
DTSTART:20241103T070000
END:STANDARD
TZID:America/North_Dakota/Beulah
BEGIN:DAYLIGHT
TZOFFSETFROM:-0600
TZOFFSETTO:-0500
TZNAME:CDT
DTSTART:20240310T080000
END:DAYLIGHT
BEGIN:STANDARD
TZOFFSETFROM:-0500
TZOFFSETTO:-0600
TZNAME:CST
DTSTART:20241103T070000
END:STANDARD
TZID:America/Phoenix
BEGIN:STANDARD
TZOFFSETFROM:-0700
TZOFFSETTO:-0700
TZNAME:MST
DTSTART:20240101T000000
END:STANDARD
TZID:America/Los_Angeles
BEGIN:DAYLIGHT
TZOFFSETFROM:-0800
TZOFFSETTO:-0700
TZNAME:PDT
DTSTART:20240310T100000
END:DAYLIGHT
BEGIN:STANDARD
TZOFFSETFROM:-0700
TZOFFSETTO:-0800
TZNAME:PST
DTSTART:20241103T090000
END:STANDARD
END:VTIMEZONE
BEGIN:VEVENT
DTSTART;VALUE=DATE:20240305
DTEND;VALUE=DATE:20240509
DTSTAMP:20260425T095751
CREATED:20240312T185333Z
LAST-MODIFIED:20240312T185333Z
UID:23303-1709596800-1715212799@kids-on-tour.net
SUMMARY:Richard III - Classical Studio at NYU Tisch
DESCRIPTION:TICKETS  \n\n\n\n\nAlexa Shae Niziak\n(Mary Poppins\, A Christmas Story)\nas Elizabeth / Hastings / Margaret
URL:https://kids-on-tour.net/event/richard-iii-classical-studio-at-nyu-tisch/
LOCATION:Paulson Center\, 181 Mercer St\, 5th Floor\, Studio A\, New York\, NY\, 10012\, United States
CATEGORIES:Regional
ATTACH;FMTTYPE=image/png:https://kids-on-tour.net/wp-content/uploads/2024/03/richard-iii-banner.png
END:VEVENT
BEGIN:VEVENT
DTSTART;VALUE=DATE:20240329
DTEND;VALUE=DATE:20240506
DTSTAMP:20260425T095751
CREATED:20240221T174404Z
LAST-MODIFIED:20240221T174404Z
UID:23212-1711670400-1714953599@kids-on-tour.net
SUMMARY:Unknown Soldier - Arena Stage
DESCRIPTION:TICKETS  \n\n\n\n\nRiglee Ruth Bryson\n(Annie)\nas Lucy Rabinowitz/Young Ellen
URL:https://kids-on-tour.net/event/unknown-soldier-arena-stage/
LOCATION:Arena Stage\, 1101 6th St SW\, Washington\, DC\, 20024\, United States
CATEGORIES:Regional
ATTACH;FMTTYPE=image/jpeg:https://kids-on-tour.net/wp-content/uploads/2024/02/unknownsoldier-1920x1080-1.jpg
END:VEVENT
BEGIN:VEVENT
DTSTART;VALUE=DATE:20240408
DTEND;VALUE=DATE:20240503
DTSTAMP:20260425T095751
CREATED:20240404T162734Z
LAST-MODIFIED:20240409T160553Z
UID:23375-1712534400-1714694399@kids-on-tour.net
SUMMARY:Fire Shut Up In My Bones - Metropolitan Opera - 2024
DESCRIPTION:TICKETS  \n\n\n\n\nEthan Joseph\n(MJ)\nas Char’es Baby\n\n\nJayden Guarneri\n(Peter Pan)\nas TBA
URL:https://kids-on-tour.net/event/fire-shut-up-in-my-bones-metropolitan-opera-2024/
LOCATION:Metropolitan Opera\, 30 Lincoln Center Plaza\, New York\, NY\, 10023\, United States
CATEGORIES:Regional
ATTACH;FMTTYPE=image/jpeg:https://kids-on-tour.net/wp-content/uploads/2024/04/fire-shut-up-in-my-bones-banner.jpg
END:VEVENT
BEGIN:VEVENT
DTSTART;VALUE=DATE:20240410
DTEND;VALUE=DATE:20240603
DTSTAMP:20260425T095751
CREATED:20240321T164355Z
LAST-MODIFIED:20240321T164355Z
UID:23332-1712707200-1717372799@kids-on-tour.net
SUMMARY:The Music Man - Marriott Theatre
DESCRIPTION:TICKETS  \n\n\n\n\nKai Joseph Edgar\n(Charlie and the Chocolate Factory)\nas Winthrop Paroo
URL:https://kids-on-tour.net/event/the-music-man-marriott-theatre/
LOCATION:Marriott Theatre\, 10 Marriott Dr\, Lincolnshire\, IL\, 60069\, United States
CATEGORIES:Regional
ATTACH;FMTTYPE=image/jpeg:https://kids-on-tour.net/wp-content/uploads/2024/03/the-music-man-marriott-theatre-banner.jpg
END:VEVENT
BEGIN:VEVENT
DTSTART;VALUE=DATE:20240426
DTEND;VALUE=DATE:20240506
DTSTAMP:20260425T095751
CREATED:20240212T164502Z
LAST-MODIFIED:20240212T164502Z
UID:23192-1714089600-1714953599@kids-on-tour.net
SUMMARY:Matilda Jr - Kaleidescope Productions
DESCRIPTION:TICKETS \n\n\n\n\nTrinity Vittoria DeVito\n(Grinch)\nas Matilda
URL:https://kids-on-tour.net/event/matilda-jr-kaleidescope-productions/
LOCATION:Thomas Planer Hall (Moravian Grange)\, 428 Hope-Great Meadows Rd (Rt 611)\, Hope Township\, NJ\, 07825\, United States
CATEGORIES:Regional
ATTACH;FMTTYPE=image/png:https://kids-on-tour.net/wp-content/uploads/matilda-jr.png
END:VEVENT
BEGIN:VEVENT
DTSTART;VALUE=DATE:20240426
DTEND;VALUE=DATE:20240506
DTSTAMP:20260425T095751
CREATED:20240401T155546Z
LAST-MODIFIED:20240401T155546Z
UID:23361-1714089600-1714953599@kids-on-tour.net
SUMMARY:Catch Me If You Can - Stepinac High School
DESCRIPTION:TICKETS \n\n\n\n\nAddison Valentino\n(Anastasia)\nas Ensemble
URL:https://kids-on-tour.net/event/catch-me-if-you-can-stepinac-high-school/
LOCATION:Stepinac High School\, 950 Mamaroneck Ave\, White Plains\, NY\, 10605\, United States
CATEGORIES:Regional
ATTACH;FMTTYPE=image/jpeg:https://kids-on-tour.net/wp-content/uploads/2024/04/catch-me-if-you-can-general-banner.jpg
END:VEVENT
BEGIN:VEVENT
DTSTART;VALUE=DATE:20240426
DTEND;VALUE=DATE:20240513
DTSTAMP:20260425T095751
CREATED:20240425T161801Z
LAST-MODIFIED:20240425T161801Z
UID:23436-1714089600-1715558399@kids-on-tour.net
SUMMARY:The Sound of Music - Houston Grand Opera
DESCRIPTION:TICKETS  \n\n\n\n\nDaniel Karash\n(The Sound of Music)\nas Friedrich cover
URL:https://kids-on-tour.net/event/the-sound-of-music-houston-grand-opera/
LOCATION:Houston Grand Opera\, 510 Preston St\, Houston\, TX\, 77002\, United States
CATEGORIES:Regional
ATTACH;FMTTYPE=image/jpeg:https://kids-on-tour.net/wp-content/uploads/2024/04/sound-of-music-houston-grand-opera.jpg
END:VEVENT
BEGIN:VEVENT
DTSTART;VALUE=DATE:20240501
DTEND;VALUE=DATE:20240520
DTSTAMP:20260425T095751
CREATED:20240404T164505Z
LAST-MODIFIED:20240404T164505Z
UID:23384-1714521600-1716163199@kids-on-tour.net
SUMMARY:Mad Hatter: The Musical - Herberger Theatre Center
DESCRIPTION:TICKETS  \n\n\n\n\nHailey Burnham\n(Frozen)\nas Primrose/Young Marybeth
URL:https://kids-on-tour.net/event/mad-hatter-the-musical-herberger-theater-center/
LOCATION:Herberger Theater Center\, 222 E Monroe St\, Phoenix\, AZ\, 85004\, United States
CATEGORIES:Regional
ATTACH;FMTTYPE=image/png:https://kids-on-tour.net/wp-content/uploads/2024/04/mad-hatter-banner.png
END:VEVENT
BEGIN:VEVENT
DTSTART;VALUE=DATE:20240502
DTEND;VALUE=DATE:20240503
DTSTAMP:20260425T095751
CREATED:20240307T190122Z
LAST-MODIFIED:20240307T190122Z
UID:23285-1714608000-1714694399@kids-on-tour.net
SUMMARY:"The Idea of You" Release Date
DESCRIPTION:MORE INFO \nFeaturing Jordan Aaron Hall (The Lion King\, Matilda\, Motown)!
URL:https://kids-on-tour.net/event/the-idea-of-you-release-date/
LOCATION:Amazon Prime
CATEGORIES:Calendar
ATTACH;FMTTYPE=image/png:https://kids-on-tour.net/wp-content/uploads/2024/03/the-idea-of-you-banner.png
END:VEVENT
BEGIN:VEVENT
DTSTART;VALUE=DATE:20240503
DTEND;VALUE=DATE:20240504
DTSTAMP:20260425T095751
CREATED:20240201T234104Z
LAST-MODIFIED:20240201T234104Z
UID:23177-1714694400-1714780799@kids-on-tour.net
SUMMARY:"Unfrosted" Movie Release
DESCRIPTION:MORE INFO \nFeaturing Catherine Last (Waitress)!
URL:https://kids-on-tour.net/event/unfrosted-movie-release/
LOCATION:Netflix
CATEGORIES:Calendar
ATTACH;FMTTYPE=image/png:https://kids-on-tour.net/wp-content/uploads/2024/02/Unfrosted-Netflix.png
END:VEVENT
BEGIN:VEVENT
DTSTART;VALUE=DATE:20240503
DTEND;VALUE=DATE:20240506
DTSTAMP:20260425T095751
CREATED:20240331T002104Z
LAST-MODIFIED:20240331T002104Z
UID:23352-1714694400-1714953599@kids-on-tour.net
SUMMARY:Head Over Heels - Broadway Workshop
DESCRIPTION:TICKETS  \n\n\n\n\nJohn Pitera\n(Newsies\, School of Rock)\nas Dametas (Cast A)\n\n\nBenjamin Sadowsky\n(Happy Birthday\, Wanda June)\nas Ensemble 4 (Cast B)
URL:https://kids-on-tour.net/event/head-over-heels-broadway-workshop/
LOCATION:The Baruch Performing Arts Center\, 55 Lexington Ave\, New York\, NY\, 10010\, United States
CATEGORIES:Regional
ATTACH;FMTTYPE=image/jpeg:https://kids-on-tour.net/wp-content/uploads/2024/03/head-over-heels-banner.jpg
END:VEVENT
BEGIN:VEVENT
DTSTART;VALUE=DATE:20240503
DTEND;VALUE=DATE:20240506
DTSTAMP:20260425T095751
CREATED:20240426T170141Z
LAST-MODIFIED:20240426T170141Z
UID:23453-1714694400-1714953599@kids-on-tour.net
SUMMARY:Matilda Jr. - Youth Inspirations Theatre
DESCRIPTION:TICKETS \n\n\n\n\nAllie Stacey\n(Waitress)\nas TBA
URL:https://kids-on-tour.net/event/matilda-jr-youth-inspirations-theatre/
LOCATION:Youth Inspirations Theatre\, 9625 E 150th Street #105\, Noblesville\, 46060\, United States
CATEGORIES:Regional
ATTACH;FMTTYPE=image/png:https://kids-on-tour.net/wp-content/uploads/2024/04/Matilda-Jr-Youth-Inspirations-Theater.png
END:VEVENT
BEGIN:VEVENT
DTSTART;VALUE=DATE:20240504
DTEND;VALUE=DATE:20240506
DTSTAMP:20260425T095751
CREATED:20240212T164017Z
LAST-MODIFIED:20240212T164017Z
UID:23189-1714780800-1714953599@kids-on-tour.net
SUMMARY:Annie Jr - James Earl Jones Theater
DESCRIPTION:TICKETS  \n\n\n\n\nMolly Glowacki\n(Grinch)\nas Annie
URL:https://kids-on-tour.net/event/annie-jr-james-earl-jones-theater/
LOCATION:James Earl Jones Theater at Poughkeepsie Day School\, 244 Boardman Theater\, Poughkeepsie\, NY\, 12603\, United States
CATEGORIES:Regional
ATTACH;FMTTYPE=image/jpeg:https://kids-on-tour.net/wp-content/uploads/annie-jr-white-background.jpg
END:VEVENT
BEGIN:VEVENT
DTSTART;TZID=America/Los_Angeles:20240504T213000
DTEND;TZID=America/Los_Angeles:20240504T230000
DTSTAMP:20260425T095751
CREATED:20240418T155049Z
LAST-MODIFIED:20240418T155049Z
UID:23421-1714858200-1714863600@kids-on-tour.net
SUMMARY:"54/54/54" Concert
DESCRIPTION:GET IN-PERSON TICKETS \nGET LIVESTREAM TICKETS \nFeaturing Joshua Turchin (A Christmas Story)! \n54 Songs. 54 Singers. 54 Seconds Each. \nAfter three long years\, it’s back. Come witness the longest setlist in Feinstein’s/54 Below’s history as 54 singers perform 54-second versions of their favorite songs\, ranging from musical theatre\, to pop\, to originals\, and everything in between.
URL:https://kids-on-tour.net/event/54-54-54-concert/
LOCATION:54 Below\, 254 W 54th St. Cellar\, New York\, NY\, 10019\, United States
CATEGORIES:Calendar
ATTACH;FMTTYPE=image/jpeg:https://kids-on-tour.net/wp-content/uploads/2024/04/54545424.jpg
END:VEVENT
BEGIN:VEVENT
DTSTART;TZID=America/New_York:20240508T193000
DTEND;TZID=America/New_York:20240508T213000
DTSTAMP:20260425T095751
CREATED:20240425T162604Z
LAST-MODIFIED:20240425T162604Z
UID:23445-1715196600-1715203800@kids-on-tour.net
SUMMARY:Amateur Night at the Apollo
DESCRIPTION:GET IN-PERSON AND LIVESTREAM TICKETS \nFeaturing Mackenzie Mercer (Frozen\, Les Miserables\, How the Grinch Stole Christmas)! \nBack by popular demand\, join The Apollo for a night of playful rivalry as artists from each borough (and maybe a few from Jersey…) bring their A-game to compete at Amateur Night at The Apollo. Will the birthplace of hip-hop aka the Boogie Down Bronx\, come out on top? Or will it be Brooklyn\, the Borough that gave birth to legendary artists such as Jay-Z and Maxwell? Manhattan\, home to Broadway and countless iconic theaters? Queens where Run DMC and Nas got their start? Or the never-to-be-forgotten Borough\, Staten Island? And\, perhaps\, a couple of hopefuls from New Jersey\, to keep things interesting.
URL:https://kids-on-tour.net/event/amateur-night-at-the-apollo/
LOCATION:Apollo Theater\, 253 W 125th St\, New York\, NY\, 10027\, United States
CATEGORIES:Calendar
ATTACH;FMTTYPE=image/png:https://kids-on-tour.net/wp-content/uploads/2024/04/Updated_BTOB1_Web.png
END:VEVENT
BEGIN:VEVENT
DTSTART;TZID=America/New_York:20240508T193000
DTEND;TZID=America/New_York:20240508T213000
DTSTAMP:20260425T095751
CREATED:20250321T193749Z
LAST-MODIFIED:20250321T193749Z
UID:24296-1715196600-1715203800@kids-on-tour.net
SUMMARY:Kids Amateur Night at the Apollo
DESCRIPTION:PURCHASE TICKETS \nFeaturing Jillian Paige Platero (The Lion King)!
URL:https://kids-on-tour.net/event/kids-amateur-night-at-the-apollo/
LOCATION:Apollo Theater\, 253 W 125th St\, New York\, NY\, 10027\, United States
CATEGORIES:Calendar
ATTACH;FMTTYPE=image/jpeg:https://kids-on-tour.net/wp-content/uploads/2025/03/amateur-night-banner.jpeg
END:VEVENT
BEGIN:VEVENT
DTSTART;VALUE=DATE:20240509
DTEND;VALUE=DATE:20240512
DTSTAMP:20260425T095751
CREATED:20240506T181023Z
LAST-MODIFIED:20240509T160245Z
UID:23466-1715212800-1715471999@kids-on-tour.net
SUMMARY:The Breakfast Club - From Stage 2 Screen
DESCRIPTION:TICKETS \n\n\n\n\nLandon James Forlenza\n(The Elf On The Shelf)\nDirector
URL:https://kids-on-tour.net/event/the-breakfast-club-from-stage-2-screen/
LOCATION:Bayway Arts Center\, 265 E. Main St\, East Islip\, NY\, 11730\, United States
CATEGORIES:Regional
ATTACH;FMTTYPE=image/jpeg:https://kids-on-tour.net/wp-content/uploads/2024/05/the-breakfast-club-play.jpg
END:VEVENT
BEGIN:VEVENT
DTSTART;VALUE=DATE:20240510
DTEND;VALUE=DATE:20240520
DTSTAMP:20260425T095751
CREATED:20240321T163840Z
LAST-MODIFIED:20240321T163840Z
UID:23328-1715299200-1716163199@kids-on-tour.net
SUMMARY:Oliver! - Tidewater Players
DESCRIPTION:TICKETS  \n\n\n\n\nHazel Vogel\n(Les Miserables)\nas Nipper (u/s Oliver)
URL:https://kids-on-tour.net/event/oliver-tidewater-players/
LOCATION:The Cultural Center at the Opera House\, 121 N. Union Ave.\, Havre de Grace\, MD\, 21078\, United States
CATEGORIES:Regional
ATTACH;FMTTYPE=image/jpeg:https://kids-on-tour.net/wp-content/uploads/2024/03/oliver-tidewater-players.jpg
END:VEVENT
BEGIN:VEVENT
DTSTART;VALUE=DATE:20240510
DTEND;VALUE=DATE:20240513
DTSTAMP:20260425T095751
CREATED:20240331T004409Z
LAST-MODIFIED:20240331T004409Z
UID:23357-1715299200-1715558399@kids-on-tour.net
SUMMARY:Beauty and the Beast Jr - Broadway Workshop
DESCRIPTION:TICKETS  \n\n\n\n\nRobbie Crandall\n(Les Miserables)\nas Gaston (Cast B)
URL:https://kids-on-tour.net/event/beauty-and-the-beast-jr-broadway-workshop/
LOCATION:The Baruch Performing Arts Center\, 55 Lexington Ave\, New York\, NY\, 10010\, United States
CATEGORIES:Regional
ATTACH;FMTTYPE=image/png:https://kids-on-tour.net/wp-content/uploads/2024/03/beauty-and-the-beast-jr-broadway-workshop-banner.png
END:VEVENT
BEGIN:VEVENT
DTSTART;TZID=America/Los_Angeles:20240512T130000
DTEND;TZID=America/Los_Angeles:20240512T143000
DTSTAMP:20260425T095751
CREATED:20240425T165452Z
LAST-MODIFIED:20240426T165749Z
UID:23448-1715518800-1715524200@kids-on-tour.net
SUMMARY:"Fables in Concert"
DESCRIPTION:GET IN-PERSON AND LIVESTREAM TICKETS \nFeaturing Sofie Nesanelis (Les Miserables\, How the Grinch Stole Christmas)\, Sadie Mae O’Sullivan (How the Grinch Stole Christmas)\, and Melodié Rose Romano (How The Grinch Stole Christmas)! \nFables is a new musical\, soon to be licensed by MTI- perfect for audiences of all ages! Fables debuted at Lincoln Center’s Summer for the City\, with development at The 92Y. Book and Lyrics by A. J. Freeman\, Music by Dimitri Landrain. Director: Rebecca Miller Kratzer; Music Director: Ben Covello.
URL:https://kids-on-tour.net/event/fables-in-concert/
LOCATION:The Green Room 42\, 570 10th Ave\, New York\, NY\, 10036\, United States
CATEGORIES:Calendar
ATTACH;FMTTYPE=image/png:https://kids-on-tour.net/wp-content/uploads/2024/04/fables-in-concert.png
END:VEVENT
BEGIN:VEVENT
DTSTART;VALUE=DATE:20240516
DTEND;VALUE=DATE:20240520
DTSTAMP:20260425T095751
CREATED:20240513T191135Z
LAST-MODIFIED:20240513T191135Z
UID:23491-1715817600-1716163199@kids-on-tour.net
SUMMARY:Trolls Jr - Pixie Dust Players
DESCRIPTION:TICKETS  \n\n\n\n\nLydia DeJesus\n(The Sound of Music)\nas Poppy (Sparkles Cast)\n\n\nDesmond Elyseev\n(The Sound of Music)\nas Branch (Sparkles cast)
URL:https://kids-on-tour.net/event/trolls-jr-pixie-dust-players/
LOCATION:Pixie Dust Players\, 760 Northfield Ave\, West Orange\, NJ\, 07052\, United States
CATEGORIES:Regional
ATTACH;FMTTYPE=image/png:https://kids-on-tour.net/wp-content/uploads/2024/05/trolls-jr-pixie-dust-players-banner.png
END:VEVENT
BEGIN:VEVENT
DTSTART;VALUE=DATE:20240517
DTEND;VALUE=DATE:20240526
DTSTAMP:20260425T095751
CREATED:20240425T162323Z
LAST-MODIFIED:20240425T162333Z
UID:23440-1715904000-1716681599@kids-on-tour.net
SUMMARY:Tuck Everlasting - Shine Theatre
DESCRIPTION:TICKETS  \n\n\n\n\nKailyn Sanders\n(A Christmas Story)\nas Ensemble
URL:https://kids-on-tour.net/event/tuck-everlasting-shine-theatre/
LOCATION:The Lin Family Performance Space at Warkentine Culture and Arts Center\, 4838 E. Butler Ave\, Fresno\, CA\, 93727\, United States
CATEGORIES:Regional
ATTACH;FMTTYPE=image/png:https://kids-on-tour.net/wp-content/uploads/2024/04/tuck-everlasting-shine-theatre-banner.png
END:VEVENT
BEGIN:VEVENT
DTSTART;VALUE=DATE:20240517
DTEND;VALUE=DATE:20240623
DTSTAMP:20260425T095751
CREATED:20240522T044954Z
LAST-MODIFIED:20240522T044954Z
UID:23517-1715904000-1719100799@kids-on-tour.net
SUMMARY:The Full Monty - Dutch Apple Dinner Theatre
DESCRIPTION:TICKETS  \n\n\n\n\nJack Ryan Packer\n(Finding Neverland)\nas Nathan Lukowski
URL:https://kids-on-tour.net/event/the-full-monty-dutch-apple-dinner-theatre/
LOCATION:Dutch Apple Dinner Theatre\, 510 Centerville Rd\, Lancaster\, PA\, 17601\, United States
CATEGORIES:Regional
ATTACH;FMTTYPE=image/jpeg:https://kids-on-tour.net/wp-content/uploads/2024/05/the-full-monty-banner.jpg
END:VEVENT
BEGIN:VEVENT
DTSTART;VALUE=DATE:20240521
DTEND;VALUE=DATE:20240603
DTSTAMP:20260425T095751
CREATED:20240412T212408Z
LAST-MODIFIED:20240412T212408Z
UID:23417-1716249600-1717372799@kids-on-tour.net
SUMMARY:Newsies - Theatre Under the Stars
DESCRIPTION:TICKETS  \n\n\n\n\nDaniel Karash\n(The Sound of Music)\nas Les\n\n\nEverett Baumgarten\n(The Sound of Music)\nas Les
URL:https://kids-on-tour.net/event/newsies-theatre-under-the-stars/
LOCATION:Hobby Center\, 800 Bagby St\, Houston\, TX\, 77002\, United States
CATEGORIES:Regional
ATTACH;FMTTYPE=image/jpeg:https://kids-on-tour.net/wp-content/uploads/2024/04/TUTS-WebImages-V1_042523_Newsies-banner.jpg
END:VEVENT
BEGIN:VEVENT
DTSTART;VALUE=DATE:20240523
DTEND;VALUE=DATE:20240525
DTSTAMP:20260425T095751
CREATED:20240409T161010Z
LAST-MODIFIED:20240508T174345Z
UID:23409-1716422400-1716595199@kids-on-tour.net
SUMMARY:Trolls Jr. - Broward Center
DESCRIPTION:TICKETS  \n\n\n\n\nJay Hendrix\n(A Christmas Story)\nas Biggie\n\n\nQuinn Titcomb\n(Waitress\, Les Miserables\, The Sound of Music\, How the Grinch Stole Christmas)\nas Poppy
URL:https://kids-on-tour.net/event/trolls-jr-broward-center/
LOCATION:Amaturo Theater at The Broward Center\, 201 SW 5th Ave\, Fort Lauderdale\, FL\, 33312\, United States
CATEGORIES:Regional
ATTACH;FMTTYPE=image/jpeg:https://kids-on-tour.net/wp-content/uploads/2024/04/Trolls-JR_955x500-11fa4c930d.jpg
END:VEVENT
BEGIN:VEVENT
DTSTART;VALUE=DATE:20240523
DTEND;VALUE=DATE:20240527
DTSTAMP:20260425T095751
CREATED:20240422T164350Z
LAST-MODIFIED:20240422T164350Z
UID:23432-1716422400-1716767999@kids-on-tour.net
SUMMARY:Finding Nemo Jr - Wonder Theatre Company
DESCRIPTION:TICKETS  \n\n\n\n\nValeria Velasco\n(Annie)\nas Nemo
URL:https://kids-on-tour.net/event/finding-nemo-jr-wonder-theatre-company/
LOCATION:Wonder Theatre\, 1920 Fredericksburg Rd\, San Antonio\, TX\, 78201
CATEGORIES:Regional
ATTACH;FMTTYPE=image/jpeg:https://kids-on-tour.net/wp-content/uploads/2024/04/finding-nemo-jr-banner.jpg
END:VEVENT
BEGIN:VEVENT
DTSTART;VALUE=DATE:20240523
DTEND;VALUE=DATE:20240524
DTSTAMP:20260425T095751
CREATED:20240522T045557Z
LAST-MODIFIED:20240522T045557Z
UID:23525-1716422400-1716508799@kids-on-tour.net
SUMMARY:"Evil" Final Season Premiere
DESCRIPTION:STREAM HERE \nFeaturing Dalya Knapp (Les Miserables)! 
URL:https://kids-on-tour.net/event/evil-final-season-premiere/
LOCATION:Paramount+
CATEGORIES:Calendar
ATTACH;FMTTYPE=image/jpeg:https://kids-on-tour.net/wp-content/uploads/2021/06/evil-banner.jpg
END:VEVENT
BEGIN:VEVENT
DTSTART;TZID=America/New_York:20240526T130000
DTEND;TZID=America/New_York:20240526T143000
DTSTAMP:20260425T095751
CREATED:20240510T234801Z
LAST-MODIFIED:20240510T234801Z
UID:23488-1716728400-1716733800@kids-on-tour.net
SUMMARY:Young Voices Against Brain Cancer
DESCRIPTION:GET IN-PERSON AND LIVESTREAM TICKETS \nFeaturing performances by Ana-Sofia Rodriguez (On Your Feet) and Joshua Turchin (A Christmas Story)!
URL:https://kids-on-tour.net/event/young-voices-against-brain-cancer-2024/
LOCATION:The Green Room 42\, 570 10th Ave\, New York\, NY\, 10036\, United States
CATEGORIES:Calendar
ATTACH;FMTTYPE=image/jpeg:https://kids-on-tour.net/wp-content/uploads/2024/05/youngbanner.jpg
END:VEVENT
BEGIN:VEVENT
DTSTART;TZID=America/New_York:20240526T183000
DTEND;TZID=America/New_York:20240526T200000
DTSTAMP:20260425T095751
CREATED:20240508T174230Z
LAST-MODIFIED:20240508T174230Z
UID:23471-1716748200-1716753600@kids-on-tour.net
SUMMARY:"Light Up The Night"
DESCRIPTION:GET TICKETS \nFeaturing Eli Tokash (Mary Poppins\, A Christmas Story) and Ana-Sofia Rodriguez (On Your Feet)! \nJoin us for “Light Up The Night\,” a concert that pays homage to Aidan Duver’s life\, celebrating his unwavering passion for the stage\, his fearless spirit\, and the lasting impact he had on those he touched. \nAs we gather one year after his passing\, Aidan’s Broadway Star Project family will come together on the stage where he grew as an artist. We’ll reminisce about Aidan’s extraordinary journey through shared songs\, cherished memories\, tears\, laughter\, and the kindness that defined him. \nHis presence left an indelible mark on the BSP family and countless others\, his legacy shining as a beacon of inspiration for all who knew him. \nThis evening will be filled with love and the sense of community that Aidan embodied. We invite you to join us in celebrating Aidan’s life\, his enduring legacy\, and the beautiful memories that unite us.
URL:https://kids-on-tour.net/event/light-up-the-night/
LOCATION:The Triad\, 158 West 72nd Street\, 2nd floor\, New York\, NY\, 10023\, United States
CATEGORIES:Calendar
ATTACH;FMTTYPE=image/png:https://kids-on-tour.net/wp-content/uploads/2024/05/Light-Up-the-Night-Banner.png
END:VEVENT
BEGIN:VEVENT
DTSTART;VALUE=DATE:20240531
DTEND;VALUE=DATE:20240617
DTSTAMP:20260425T095751
CREATED:20240522T041256Z
LAST-MODIFIED:20240522T041256Z
UID:23512-1717113600-1718582399@kids-on-tour.net
SUMMARY:Evita - Axelrod Performing Arts Center
DESCRIPTION:TICKETS  \n\n\n\n\nOlivia B. Jones\n(Frozen)\nas Child
URL:https://kids-on-tour.net/event/evita-axelrod-performing-arts-center/
LOCATION:Axelrod Performing Arts Center\, 100 Grant Ave\, Deal\, NJ\, 07723\, United States
CATEGORIES:Regional
ATTACH;FMTTYPE=image/jpeg:https://kids-on-tour.net/wp-content/uploads/2024/05/evita-banner.jpeg
END:VEVENT
END:VCALENDAR