BEGIN:VCALENDAR
VERSION:2.0
PRODID:-//Kids on Tour - ECPv6.2.6//NONSGML v1.0//EN
CALSCALE:GREGORIAN
METHOD:PUBLISH
X-WR-CALNAME:Kids on Tour
X-ORIGINAL-URL:https://kids-on-tour.net
X-WR-CALDESC:Events for Kids on Tour
REFRESH-INTERVAL;VALUE=DURATION:PT1H
X-Robots-Tag:noindex
X-PUBLISHED-TTL:PT1H
BEGIN:VTIMEZONE
TZID:America/New_York
BEGIN:DAYLIGHT
TZOFFSETFROM:-0500
TZOFFSETTO:-0400
TZNAME:EDT
DTSTART:20240310T070000
END:DAYLIGHT
BEGIN:STANDARD
TZOFFSETFROM:-0400
TZOFFSETTO:-0500
TZNAME:EST
DTSTART:20241103T060000
END:STANDARD
TZID:America/Los_Angeles
BEGIN:DAYLIGHT
TZOFFSETFROM:-0800
TZOFFSETTO:-0700
TZNAME:PDT
DTSTART:20240310T100000
END:DAYLIGHT
BEGIN:STANDARD
TZOFFSETFROM:-0700
TZOFFSETTO:-0800
TZNAME:PST
DTSTART:20241103T090000
END:STANDARD
TZID:America/North_Dakota/Center
BEGIN:DAYLIGHT
TZOFFSETFROM:-0600
TZOFFSETTO:-0500
TZNAME:CDT
DTSTART:20240310T080000
END:DAYLIGHT
BEGIN:STANDARD
TZOFFSETFROM:-0500
TZOFFSETTO:-0600
TZNAME:CST
DTSTART:20241103T070000
END:STANDARD
TZID:America/Chicago
BEGIN:DAYLIGHT
TZOFFSETFROM:-0600
TZOFFSETTO:-0500
TZNAME:CDT
DTSTART:20240310T080000
END:DAYLIGHT
BEGIN:STANDARD
TZOFFSETFROM:-0500
TZOFFSETTO:-0600
TZNAME:CST
DTSTART:20241103T070000
END:STANDARD
TZID:America/North_Dakota/Beulah
BEGIN:DAYLIGHT
TZOFFSETFROM:-0600
TZOFFSETTO:-0500
TZNAME:CDT
DTSTART:20240310T080000
END:DAYLIGHT
BEGIN:STANDARD
TZOFFSETFROM:-0500
TZOFFSETTO:-0600
TZNAME:CST
DTSTART:20241103T070000
END:STANDARD
TZID:America/Phoenix
BEGIN:STANDARD
TZOFFSETFROM:-0700
TZOFFSETTO:-0700
TZNAME:MST
DTSTART:20240101T000000
END:STANDARD
END:VTIMEZONE
BEGIN:VEVENT
DTSTART;VALUE=DATE:20240305
DTEND;VALUE=DATE:20240509
DTSTAMP:20260425T113325
CREATED:20240312T185333Z
LAST-MODIFIED:20240312T185333Z
UID:23303-1709596800-1715212799@kids-on-tour.net
SUMMARY:Richard III - Classical Studio at NYU Tisch
DESCRIPTION:TICKETS  \n\n\n\n\nAlexa Shae Niziak\n(Mary Poppins\, A Christmas Story)\nas Elizabeth / Hastings / Margaret
URL:https://kids-on-tour.net/event/richard-iii-classical-studio-at-nyu-tisch/
LOCATION:Paulson Center\, 181 Mercer St\, 5th Floor\, Studio A\, New York\, NY\, 10012\, United States
CATEGORIES:Regional
ATTACH;FMTTYPE=image/png:https://kids-on-tour.net/wp-content/uploads/2024/03/richard-iii-banner.png
END:VEVENT
BEGIN:VEVENT
DTSTART;VALUE=DATE:20240329
DTEND;VALUE=DATE:20240506
DTSTAMP:20260425T113325
CREATED:20240221T174404Z
LAST-MODIFIED:20240221T174404Z
UID:23212-1711670400-1714953599@kids-on-tour.net
SUMMARY:Unknown Soldier - Arena Stage
DESCRIPTION:TICKETS  \n\n\n\n\nRiglee Ruth Bryson\n(Annie)\nas Lucy Rabinowitz/Young Ellen
URL:https://kids-on-tour.net/event/unknown-soldier-arena-stage/
LOCATION:Arena Stage\, 1101 6th St SW\, Washington\, DC\, 20024\, United States
CATEGORIES:Regional
ATTACH;FMTTYPE=image/jpeg:https://kids-on-tour.net/wp-content/uploads/2024/02/unknownsoldier-1920x1080-1.jpg
END:VEVENT
BEGIN:VEVENT
DTSTART;VALUE=DATE:20240404
DTEND;VALUE=DATE:20240408
DTSTAMP:20260425T113325
CREATED:20240214T191543Z
LAST-MODIFIED:20240214T191543Z
UID:23203-1712188800-1712534399@kids-on-tour.net
SUMMARY:Spring Awakening - Breaking Borders
DESCRIPTION:TICKETS  \n  \n\n\n\n\nJake Kitchin\n(Billy Elliot)\nas Georg\n\n\nMaya Jade Frank\n(Les Miserables)\nas Anna\n\n\nScarlett Diaz\n(Shrek)\nas Ensemble
URL:https://kids-on-tour.net/event/spring-awakening-breaking-borders/
LOCATION:The Center at West Park\, 165 W. 86th St\, New York\, NY\, 10024\, United States
CATEGORIES:Regional
ATTACH;FMTTYPE=image/jpeg:https://kids-on-tour.net/wp-content/uploads/2024/02/spring-awakening-breaking-borders.jpg
END:VEVENT
BEGIN:VEVENT
DTSTART;VALUE=DATE:20240404
DTEND;VALUE=DATE:20240405
DTSTAMP:20260425T113325
CREATED:20240308T181022Z
LAST-MODIFIED:20240308T181022Z
UID:23290-1712188800-1712275199@kids-on-tour.net
SUMMARY:"The Greatest Ever" Release Date
DESCRIPTION:MORE INFO \nFeaturing Alexandra Bradley (The Sound Of Music) and Cate Elefante (Les Miserables)!
URL:https://kids-on-tour.net/event/the-greatest-ever-release-date/
LOCATION:Amazon Prime
CATEGORIES:Calendar
ATTACH;FMTTYPE=image/png:https://kids-on-tour.net/wp-content/uploads/2024/03/greatest-ever-movie-banner.png
END:VEVENT
BEGIN:VEVENT
DTSTART;VALUE=DATE:20240405
DTEND;VALUE=DATE:20240408
DTSTAMP:20260425T113325
CREATED:20240228T181547Z
LAST-MODIFIED:20240228T181547Z
UID:23222-1712275200-1712534399@kids-on-tour.net
SUMMARY:Mean Girls Jr - The Children's Ballet of San Antonio
DESCRIPTION:TICKETS \n\n\n\n\nValeria Velasco\n(Annie)\nas Regina
URL:https://kids-on-tour.net/event/mean-girls-childrens-ballet-of-san-antonio/
LOCATION:Children’s Ballet of San Antonio\, 126 W Rector Street\, Suite 120 A\, San Antonio\, TX\, 78216\, United States
CATEGORIES:Regional
ATTACH;FMTTYPE=image/png:https://kids-on-tour.net/wp-content/uploads/2024/02/mean-girls-san-antonio.png
END:VEVENT
BEGIN:VEVENT
DTSTART;VALUE=DATE:20240405
DTEND;VALUE=DATE:20240415
DTSTAMP:20260425T113325
CREATED:20240229T184258Z
LAST-MODIFIED:20240229T184258Z
UID:23250-1712275200-1713139199@kids-on-tour.net
SUMMARY:Rent - USC
DESCRIPTION:TICKETS  \n\n\n\n\nRoy Gantz\n(The Sound of Music)\nas Mark (April 5-8th only)
URL:https://kids-on-tour.net/event/rent-usc/
LOCATION:Bing Theater\, 3400 Watt Way\, Los Angeles\, CA\, 90007\, United States
CATEGORIES:Regional
ATTACH;FMTTYPE=image/png:https://kids-on-tour.net/wp-content/uploads/2024/02/rent-usc.png
END:VEVENT
BEGIN:VEVENT
DTSTART;TZID=America/Los_Angeles:20240407T143000
DTEND;TZID=America/Los_Angeles:20240407T163000
DTSTAMP:20260425T113325
CREATED:20240404T161559Z
LAST-MODIFIED:20240404T161559Z
UID:23367-1712500200-1712507400@kids-on-tour.net
SUMMARY:MJ Open Call in Los Angeles
DESCRIPTION:MJ is seeking future replacements for the Broadway and national tour productions of MJ for the role of Little Michael! \nPlease prepare your favorite Michael Jackson or Jackson 5 song. \nIf you can’t make it in person and would like to receive information on how to submit a video audition\, please send an email to audition@mjthemusical.com. \nLITTLE MICHAEL – Michael Jackson at age 10\, great singer/dancer/actor
URL:https://kids-on-tour.net/event/mj-open-call-in-los-angeles/
LOCATION:Screenland Studios\, 10501 Burbank Boulevard\, North Hollywood\, CA\, 91601\, United States
CATEGORIES:Auditions
ATTACH;FMTTYPE=image/png:https://kids-on-tour.net/wp-content/uploads/2023/08/mj-musical-banner.png
END:VEVENT
BEGIN:VEVENT
DTSTART;TZID=America/New_York:20240407T170000
DTEND;TZID=America/New_York:20240407T210000
DTSTAMP:20260425T113325
CREATED:20240331T001222Z
LAST-MODIFIED:20240331T001222Z
UID:23348-1712509200-1712523600@kids-on-tour.net
SUMMARY:"Evening with Friends": Be A Friend Project's Annual Fundraiser
DESCRIPTION:GET TICKETS \nFeaturing Mariama Diop (Once On This Island)!
URL:https://kids-on-tour.net/event/evening-with-friends-be-a-friend-projects-annual-fundraiser/
LOCATION:Ardsley Country Club\, 100 N Mountain Dr\, Dobbs Ferry\, NY\, 10522\, United States
CATEGORIES:Calendar
ATTACH;FMTTYPE=image/png:https://kids-on-tour.net/wp-content/uploads/2024/03/Evening-with-Friends-Banner.png
END:VEVENT
BEGIN:VEVENT
DTSTART;VALUE=DATE:20240408
DTEND;VALUE=DATE:20240503
DTSTAMP:20260425T113325
CREATED:20240404T162734Z
LAST-MODIFIED:20240409T160553Z
UID:23375-1712534400-1714694399@kids-on-tour.net
SUMMARY:Fire Shut Up In My Bones - Metropolitan Opera - 2024
DESCRIPTION:TICKETS  \n\n\n\n\nEthan Joseph\n(MJ)\nas Char’es Baby\n\n\nJayden Guarneri\n(Peter Pan)\nas TBA
URL:https://kids-on-tour.net/event/fire-shut-up-in-my-bones-metropolitan-opera-2024/
LOCATION:Metropolitan Opera\, 30 Lincoln Center Plaza\, New York\, NY\, 10023\, United States
CATEGORIES:Regional
ATTACH;FMTTYPE=image/jpeg:https://kids-on-tour.net/wp-content/uploads/2024/04/fire-shut-up-in-my-bones-banner.jpg
END:VEVENT
BEGIN:VEVENT
DTSTART;VALUE=DATE:20240410
DTEND;VALUE=DATE:20240603
DTSTAMP:20260425T113325
CREATED:20240321T164355Z
LAST-MODIFIED:20240321T164355Z
UID:23332-1712707200-1717372799@kids-on-tour.net
SUMMARY:The Music Man - Marriott Theatre
DESCRIPTION:TICKETS  \n\n\n\n\nKai Joseph Edgar\n(Charlie and the Chocolate Factory)\nas Winthrop Paroo
URL:https://kids-on-tour.net/event/the-music-man-marriott-theatre/
LOCATION:Marriott Theatre\, 10 Marriott Dr\, Lincolnshire\, IL\, 60069\, United States
CATEGORIES:Regional
ATTACH;FMTTYPE=image/jpeg:https://kids-on-tour.net/wp-content/uploads/2024/03/the-music-man-marriott-theatre-banner.jpg
END:VEVENT
BEGIN:VEVENT
DTSTART;VALUE=DATE:20240411
DTEND;VALUE=DATE:20240421
DTSTAMP:20260425T113326
CREATED:20240228T181847Z
LAST-MODIFIED:20240228T181847Z
UID:23227-1712793600-1713657599@kids-on-tour.net
SUMMARY:Fun Home - On The Fringe VAPA
DESCRIPTION:TICKETS \n\n\n\n\nCharlotte “Coco” Stats\n(Waitress)\nas Small Alison
URL:https://kids-on-tour.net/event/fun-home-on-the-fringe-vapa/
LOCATION:Vallejo Naval & Historical Museum\, 734 Marin Street\, Vallejo\, 94590\, United States
CATEGORIES:Regional
ATTACH;FMTTYPE=image/jpeg:https://kids-on-tour.net/wp-content/uploads/2024/02/fun-home-on-the-fringe-vapa.jpg
END:VEVENT
BEGIN:VEVENT
DTSTART;VALUE=DATE:20240411
DTEND;VALUE=DATE:20240422
DTSTAMP:20260425T113326
CREATED:20240404T172914Z
LAST-MODIFIED:20240404T172914Z
UID:23394-1712793600-1713743999@kids-on-tour.net
SUMMARY:The 25th Annual Putnam County Spelling Bee - North Texas Performing Arts
DESCRIPTION:TICKETS  \n\n\n\n\nKenzie Rees\n(Annie)\nas Olive Ostrovsky
URL:https://kids-on-tour.net/event/spelling-bee-ntpa/
LOCATION:NTPA Fairview Youth Theatre\, Mainstage\, 302 Town Place\, Fairview\, TX\, 75069\, United States
CATEGORIES:Regional
ATTACH;FMTTYPE=image/jpeg:https://kids-on-tour.net/wp-content/uploads/2024/04/spelling-bee-general-banner.jpg
END:VEVENT
BEGIN:VEVENT
DTSTART;VALUE=DATE:20240412
DTEND;VALUE=DATE:20240413
DTSTAMP:20260425T113326
CREATED:20240320T183318Z
LAST-MODIFIED:20240320T183318Z
UID:23325-1712880000-1712966399@kids-on-tour.net
SUMMARY:"The Long Game" Release Date
DESCRIPTION:MORE INFO \nFeaturing Gregory Diaz IV (Matilda\, “In The Heights” movie)!
URL:https://kids-on-tour.net/event/the-long-game-release-date/
LOCATION:Movie Theaters
CATEGORIES:Calendar
ATTACH;FMTTYPE=image/jpeg:https://kids-on-tour.net/wp-content/uploads/2024/03/the-long-game-movie-banner-scaled.jpg
END:VEVENT
BEGIN:VEVENT
DTSTART;VALUE=DATE:20240412
DTEND;VALUE=DATE:20240422
DTSTAMP:20260425T113326
CREATED:20240408T165122Z
LAST-MODIFIED:20240408T165122Z
UID:23403-1712880000-1713743999@kids-on-tour.net
SUMMARY:School of Rock - Children's Musical Theater of San Jose
DESCRIPTION:TICKETS  \n\n\n\n\nCJ Fernando\n(The King and I)\nas Lawrence
URL:https://kids-on-tour.net/event/school-of-rock-childrens-musical-theater-of-san-jose/
LOCATION:Montgomery Theater\, 271 S. Market St\, San Jose\, CA\, 95113\, United States
CATEGORIES:Regional
ATTACH;FMTTYPE=image/png:https://kids-on-tour.net/wp-content/uploads/2024/04/school-of-rock-cmtsj.png
END:VEVENT
BEGIN:VEVENT
DTSTART;TZID=America/New_York:20240413T153000
DTEND;TZID=America/New_York:20240413T170000
DTSTAMP:20260425T113326
CREATED:20240330T235849Z
LAST-MODIFIED:20240331T000521Z
UID:23342-1713022200-1713027600@kids-on-tour.net
SUMMARY:Extraordinary Young Singers & Musicians Raising Money + Awareness for NYC's Food Insecure
DESCRIPTION:GET TICKETS \nCo-hosted by Scarlett London Diviney (The Lion King) and featuring Mackenzie Mercer (Frozen\, Les Miserables\, How the Grinch Stole Christmas)! \nids Rock For Kids and Voices To End Hunger team up for a fundraising show featuring extraordinary\, young performers lending their voices and talents to raise awareness and money for NYC’s food insecure. Proceeds will be donated to NY Common Pantry.
URL:https://kids-on-tour.net/event/jump-a-90s-throwback/
LOCATION:The Bitter End\, 147 Bleecker St\, New York\, NY\, 10012\, United States
CATEGORIES:Calendar
ATTACH;FMTTYPE=image/png:https://kids-on-tour.net/wp-content/uploads/2024/03/voices-to-end-hunger-april-2024.png
END:VEVENT
BEGIN:VEVENT
DTSTART;TZID=America/New_York:20240418T213000
DTEND;TZID=America/New_York:20240418T230000
DTSTAMP:20260425T113326
CREATED:20240318T180641Z
LAST-MODIFIED:20240318T180641Z
UID:23316-1713475800-1713481200@kids-on-tour.net
SUMMARY:"54 Sings The Princess Diaries"
DESCRIPTION:PURCHASE HERE \nFeaturing Sam Primack (Dear Evan Hansen\, The Addams Family)!  \n“A queen is never late\, everyone else is simply early.” Well\, don’t be late for a night of 54 Sings The Princess Diaries! Join us for an evening as rising musical theatre artists enter the kingdom of Genovia\, the backdrop of the film series of our generation: The Princess Diaries. With a soundtrack from upbeat pop songs (“Breakaway”) to gorgeous ballads (“A Love That Will Last”) to musical theater gems (“Your Crowning Glory”)\, 54 Sings The Princess Diaries shines light on one of the most iconic soundtracks of the 2000s – and a story that speaks to the heart.
URL:https://kids-on-tour.net/event/54-sings-the-princess-diaries/
LOCATION:54 Below\, 254 W 54th St. Cellar\, New York\, NY\, 10019\, United States
CATEGORIES:Calendar
ATTACH;FMTTYPE=image/jpeg:https://kids-on-tour.net/wp-content/uploads/2024/03/54-Sings-the-Princess-Diaries-Show-Art.jpg
END:VEVENT
BEGIN:VEVENT
DTSTART;VALUE=DATE:20240419
DTEND;VALUE=DATE:20240421
DTSTAMP:20260425T113326
CREATED:20240405T171837Z
LAST-MODIFIED:20240405T171837Z
UID:23399-1713484800-1713657599@kids-on-tour.net
SUMMARY:James and the Giant Peach Jr - Musical Mayhem Productions
DESCRIPTION:TICKETS \n\n\n\n\nZoey Lack\n(Waitress)\nas James
URL:https://kids-on-tour.net/event/james-and-the-giant-peach-jr-musical-mayhem-productions/
LOCATION:24th Street Theatre\, 2791 24th St\, Sacramento\, CA\, 95818\, United States
CATEGORIES:Regional
ATTACH;FMTTYPE=image/jpeg:https://kids-on-tour.net/wp-content/uploads/2024/04/james-and-the-giant-peach-jr-banner.jpg
END:VEVENT
BEGIN:VEVENT
DTSTART;VALUE=DATE:20240419
DTEND;VALUE=DATE:20240429
DTSTAMP:20260425T113326
CREATED:20240422T164100Z
LAST-MODIFIED:20240422T164100Z
UID:23427-1713484800-1714348799@kids-on-tour.net
SUMMARY:The Secret Garden - Mills Masquers
DESCRIPTION:TICKETS  \n\n\n\n\nVienna Maas\n(Waitress)\nas Mary Lennox
URL:https://kids-on-tour.net/event/the-secret-garden-mills-masquers/
LOCATION:Mills Masquers\, 56543 221st Street\, Glenwood\, IA\, 51534\, United States
CATEGORIES:Regional
ATTACH;FMTTYPE=image/png:https://kids-on-tour.net/wp-content/uploads/2024/04/the-secret-garden-mills-masquers-banner.png
END:VEVENT
BEGIN:VEVENT
DTSTART;TZID=America/New_York:20240420T213000
DTEND;TZID=America/New_York:20240420T230000
DTSTAMP:20260425T113326
CREATED:20240308T185548Z
LAST-MODIFIED:20240308T185548Z
UID:23296-1713648600-1713654000@kids-on-tour.net
SUMMARY:"Songs for the States"
DESCRIPTION:GET IN-PERSON AND LIVESTREAM TICKETS \nCo-hosted by Jack Sobolewski (Elf on a Shelf\, “Theater Camp”)! \nSongs for the States is a compilation of young talent singing songs for a cause. Hosted by Leila Gross (Frozen on Broadway) and Jack Sobolewski (“Theater Camp”). The show features an ensemble of youth performers from TV\, film\, Broadway\, and more! Songs for the States will be donating to “Americans for the Arts” which is the leading nonprofit organization for advancing the arts and arts education in America!
URL:https://kids-on-tour.net/event/songs-for-the-states/
LOCATION:The Green Room 42\, 570 10th Ave\, New York\, NY\, 10036\, United States
CATEGORIES:Calendar
ATTACH;FMTTYPE=image/png:https://kids-on-tour.net/wp-content/uploads/2024/03/songs-for-the-states-banner.png
END:VEVENT
BEGIN:VEVENT
DTSTART;VALUE=DATE:20240426
DTEND;VALUE=DATE:20240506
DTSTAMP:20260425T113326
CREATED:20240212T164502Z
LAST-MODIFIED:20240212T164502Z
UID:23192-1714089600-1714953599@kids-on-tour.net
SUMMARY:Matilda Jr - Kaleidescope Productions
DESCRIPTION:TICKETS \n\n\n\n\nTrinity Vittoria DeVito\n(Grinch)\nas Matilda
URL:https://kids-on-tour.net/event/matilda-jr-kaleidescope-productions/
LOCATION:Thomas Planer Hall (Moravian Grange)\, 428 Hope-Great Meadows Rd (Rt 611)\, Hope Township\, NJ\, 07825\, United States
CATEGORIES:Regional
ATTACH;FMTTYPE=image/png:https://kids-on-tour.net/wp-content/uploads/matilda-jr.png
END:VEVENT
BEGIN:VEVENT
DTSTART;VALUE=DATE:20240426
DTEND;VALUE=DATE:20240427
DTSTAMP:20260425T113326
CREATED:20240223T170006Z
LAST-MODIFIED:20240223T170006Z
UID:23216-1714089600-1714175999@kids-on-tour.net
SUMMARY:"Boy Kills World" Release
DESCRIPTION:MORE INFO \nFeaturing Quinn Copeland (Waitress)!
URL:https://kids-on-tour.net/event/boy-kills-world-release/
LOCATION:Movie Theaters
CATEGORIES:Calendar
ATTACH;FMTTYPE=image/png:https://kids-on-tour.net/wp-content/uploads/2024/02/boy-kills-world-banner.png
END:VEVENT
BEGIN:VEVENT
DTSTART;VALUE=DATE:20240426
DTEND;VALUE=DATE:20240506
DTSTAMP:20260425T113326
CREATED:20240401T155546Z
LAST-MODIFIED:20240401T155546Z
UID:23361-1714089600-1714953599@kids-on-tour.net
SUMMARY:Catch Me If You Can - Stepinac High School
DESCRIPTION:TICKETS \n\n\n\n\nAddison Valentino\n(Anastasia)\nas Ensemble
URL:https://kids-on-tour.net/event/catch-me-if-you-can-stepinac-high-school/
LOCATION:Stepinac High School\, 950 Mamaroneck Ave\, White Plains\, NY\, 10605\, United States
CATEGORIES:Regional
ATTACH;FMTTYPE=image/jpeg:https://kids-on-tour.net/wp-content/uploads/2024/04/catch-me-if-you-can-general-banner.jpg
END:VEVENT
BEGIN:VEVENT
DTSTART;VALUE=DATE:20240426
DTEND;VALUE=DATE:20240513
DTSTAMP:20260425T113326
CREATED:20240425T161801Z
LAST-MODIFIED:20240425T161801Z
UID:23436-1714089600-1715558399@kids-on-tour.net
SUMMARY:The Sound of Music - Houston Grand Opera
DESCRIPTION:TICKETS  \n\n\n\n\nDaniel Karash\n(The Sound of Music)\nas Friedrich cover
URL:https://kids-on-tour.net/event/the-sound-of-music-houston-grand-opera/
LOCATION:Houston Grand Opera\, 510 Preston St\, Houston\, TX\, 77002\, United States
CATEGORIES:Regional
ATTACH;FMTTYPE=image/jpeg:https://kids-on-tour.net/wp-content/uploads/2024/04/sound-of-music-houston-grand-opera.jpg
END:VEVENT
END:VCALENDAR