BEGIN:VCALENDAR
VERSION:2.0
PRODID:-//Kids on Tour - ECPv6.2.6//NONSGML v1.0//EN
CALSCALE:GREGORIAN
METHOD:PUBLISH
X-ORIGINAL-URL:https://kids-on-tour.net
X-WR-CALDESC:Events for Kids on Tour
REFRESH-INTERVAL;VALUE=DURATION:PT1H
X-Robots-Tag:noindex
X-PUBLISHED-TTL:PT1H
BEGIN:VTIMEZONE
TZID:America/Phoenix
BEGIN:STANDARD
TZOFFSETFROM:-0700
TZOFFSETTO:-0700
TZNAME:MST
DTSTART:20240101T000000
END:STANDARD
TZID:America/Chicago
BEGIN:DAYLIGHT
TZOFFSETFROM:-0600
TZOFFSETTO:-0500
TZNAME:CDT
DTSTART:20240310T080000
END:DAYLIGHT
BEGIN:STANDARD
TZOFFSETFROM:-0500
TZOFFSETTO:-0600
TZNAME:CST
DTSTART:20241103T070000
END:STANDARD
TZID:America/New_York
BEGIN:DAYLIGHT
TZOFFSETFROM:-0500
TZOFFSETTO:-0400
TZNAME:EDT
DTSTART:20240310T070000
END:DAYLIGHT
BEGIN:STANDARD
TZOFFSETFROM:-0400
TZOFFSETTO:-0500
TZNAME:EST
DTSTART:20241103T060000
END:STANDARD
TZID:America/Boise
BEGIN:DAYLIGHT
TZOFFSETFROM:-0700
TZOFFSETTO:-0600
TZNAME:MDT
DTSTART:20240310T090000
END:DAYLIGHT
BEGIN:STANDARD
TZOFFSETFROM:-0600
TZOFFSETTO:-0700
TZNAME:MST
DTSTART:20241103T080000
END:STANDARD
TZID:America/Los_Angeles
BEGIN:DAYLIGHT
TZOFFSETFROM:-0800
TZOFFSETTO:-0700
TZNAME:PDT
DTSTART:20240310T100000
END:DAYLIGHT
BEGIN:STANDARD
TZOFFSETFROM:-0700
TZOFFSETTO:-0800
TZNAME:PST
DTSTART:20241103T090000
END:STANDARD
END:VTIMEZONE
BEGIN:VEVENT
DTSTART;VALUE=DATE:20240129
DTEND;VALUE=DATE:20240331
DTSTAMP:20260425T131502
CREATED:20231013T193310Z
LAST-MODIFIED:20231013T193310Z
UID:22967-1706486400-1711843199@kids-on-tour.net
SUMMARY:Fiddler on the Roof - Hale Centre Theatre
DESCRIPTION:TICKETS  \n\n\n\n\nHailey Burnham\n(Grinch)\nas Bielke
URL:https://kids-on-tour.net/event/fiddler-on-the-roof-hale-centre-theatre/
LOCATION:Hale Centre Theatre\, 9900 Monroe St\, Sandy\, UT\, 84070\, United States
CATEGORIES:Regional
ATTACH;FMTTYPE=image/jpeg:https://kids-on-tour.net/wp-content/uploads/2023/10/fiddler-on-the-roof-hale-centre-theatre.jpg
END:VEVENT
BEGIN:VEVENT
DTSTART;VALUE=DATE:20240207
DTEND;VALUE=DATE:20240325
DTSTAMP:20260425T131502
CREATED:20240130T221324Z
LAST-MODIFIED:20240130T221404Z
UID:23162-1707264000-1711324799@kids-on-tour.net
SUMMARY:Billy Elliot - Paramount Theater
DESCRIPTION:TICKETS  \n\n\n\n\nGabriel Lafazan\n(Les Miserables)\nas Michael\n\n\nAvelyn Choi\n(Frozen)\nas Keeley Gibson
URL:https://kids-on-tour.net/event/billy-elliot-paramount-theater/
LOCATION:Paramount Theatre\, 23 E Galena Blvd\, Aurora\, IL\, 60506\, United States
CATEGORIES:Regional
ATTACH;FMTTYPE=image/jpeg:https://kids-on-tour.net/wp-content/uploads/2024/01/billy-elliot-paramount-theater-banner.jpg
END:VEVENT
BEGIN:VEVENT
DTSTART;VALUE=DATE:20240215
DTEND;VALUE=DATE:20240304
DTSTAMP:20260425T131502
CREATED:20240130T215905Z
LAST-MODIFIED:20240130T215905Z
UID:23148-1707955200-1709510399@kids-on-tour.net
SUMMARY:Memphis - Lauderhill Performing Arts Center
DESCRIPTION:TICKETS  \n\n\n\n\nJay Hendrix\n(A Christmas Story)\nas Ensemble
URL:https://kids-on-tour.net/event/memphis-lauderhill-performing-arts-center/
LOCATION:Lauderhill Performing Arts Center\, 3800 NW 11th Pl\, Lauderhill\, FL\, 33311\, United States
CATEGORIES:Regional
ATTACH;FMTTYPE=image/jpeg:https://kids-on-tour.net/wp-content/uploads/2024/01/memphis_logo-scaled.jpg
END:VEVENT
BEGIN:VEVENT
DTSTART;VALUE=DATE:20240216
DTEND;VALUE=DATE:20240331
DTSTAMP:20260425T131502
CREATED:20240130T221103Z
LAST-MODIFIED:20240130T221103Z
UID:23159-1708041600-1711843199@kids-on-tour.net
SUMMARY:James and the Giant Peach - Marriott Theatre
DESCRIPTION:TICKETS  \n\n\n\n\nKai Joseph Edgar\n(Charlie and the Chocolate Factory)\nas James
URL:https://kids-on-tour.net/event/james-and-the-giant-peach-marriott-theatre/
LOCATION:Marriott Theatre\, 10 Marriott Dr\, Lincolnshire\, IL\, 60069\, United States
CATEGORIES:Regional
ATTACH;FMTTYPE=image/jpeg:https://kids-on-tour.net/wp-content/uploads/2024/01/james-and-the-giant-peach-banner-logo.jpg
END:VEVENT
BEGIN:VEVENT
DTSTART;VALUE=DATE:20240223
DTEND;VALUE=DATE:20240310
DTSTAMP:20260425T131502
CREATED:20240130T215621Z
LAST-MODIFIED:20240130T215621Z
UID:23143-1708646400-1710028799@kids-on-tour.net
SUMMARY:Bonnie & Clyde - Pioneer Theatre Company
DESCRIPTION:TICKETS  \n\n\n\n\nPenny Hodson\n(The Sound of Music)\nas Young Bonnie
URL:https://kids-on-tour.net/event/bonnie-and-clyde-pioneer-theatre-company/
LOCATION:Pioneer Theatre Company\, 300 1400 E\, Salt Lake City\, UT\, 84112\, United States
CATEGORIES:Regional
ATTACH;FMTTYPE=image/jpeg:https://kids-on-tour.net/wp-content/uploads/2024/01/bonnie-and-clyde-pioneer.jpeg
END:VEVENT
BEGIN:VEVENT
DTSTART;VALUE=DATE:20240229
DTEND;VALUE=DATE:20240303
DTSTAMP:20260425T131502
CREATED:20240228T182157Z
LAST-MODIFIED:20240228T182157Z
UID:23221-1709164800-1709423999@kids-on-tour.net
SUMMARY:Something Rotten - Bergen County Academies
DESCRIPTION:TICKETS \n\n\n\n\nEdward Turner\n(Sound of Music\, A Christmas Story)\nas Shakespeare
URL:https://kids-on-tour.net/event/something-rotten-bergen-county-academies/
LOCATION:Bergen County Academies\, 200 Hackensack Ave\, Hackensack\, NJ\, 07601\, United States
CATEGORIES:Regional
ATTACH;FMTTYPE=image/png:https://kids-on-tour.net/wp-content/uploads/2024/02/something-rotten-bergen-county.png
END:VEVENT
BEGIN:VEVENT
DTSTART;TZID=America/Los_Angeles:20240302T213000
DTEND;TZID=America/Los_Angeles:20240302T230000
DTSTAMP:20260425T131502
CREATED:20240229T183759Z
LAST-MODIFIED:20240229T183759Z
UID:23243-1709415000-1709420400@kids-on-tour.net
SUMMARY:"The Wright Way Does Country"
DESCRIPTION:GET IN-PERSON AND LIVESTREAM TICKETS \nFeaturing Natalia Valentine Jimenez (A Christmas Story)! \nChelsea Table + Stage is excited to celebrate country music with THE WRIGHT WAY GOES COUNTRY.  Join us as the ensemble of young professionals who are part of the national performance program\, THE WRIGHT WAY\,  take on some of the most iconic songs in country music.
URL:https://kids-on-tour.net/event/the-wright-way-does-country/
LOCATION:Chelsea Table + Stage\, 152 W 26th St\, New York\, NY\, 10001\, United States
CATEGORIES:Calendar
ATTACH;FMTTYPE=image/png:https://kids-on-tour.net/wp-content/uploads/2024/02/The-Wright-Way-Goes-Country-Banner.png
END:VEVENT
BEGIN:VEVENT
DTSTART;TZID=America/Los_Angeles:20240303T130000
DTEND;TZID=America/Los_Angeles:20240303T143000
DTSTAMP:20260425T131502
CREATED:20240229T183902Z
LAST-MODIFIED:20240229T183902Z
UID:23247-1709470800-1709476200@kids-on-tour.net
SUMMARY:"Here's Where I Stand"
DESCRIPTION:GET IN-PERSON AND LIVESTREAM TICKETS \nFeaturing Natalia Valentina Jimenez (A Christmas Story)! \nHere’s Where I Stand is a musical cabaret featuring the stars of tomorrow as they each take their own stand for what matters most to them.  The Wright Way is a national performance arts training program who’s students have been featured in Films\, Regional Theatre\, National Tours\, cruise ships Off-Broadway and on Broadway in works like\, Charlie and the Chocolate Factory: The Musical\, Leopoldstadt\, GreyHouse\, Book of Mormon\, Kinky Boots\, The Prom\, Parade\, Frozen\, Annie\, Mean Girls: The Musical\, Elf: The Musical\, Theatre Camp\, and so many more
URL:https://kids-on-tour.net/event/heres-where-i-stand/
LOCATION:The Green Room 42\, 570 10th Ave\, New York\, NY\, 10036\, United States
CATEGORIES:Calendar
ATTACH;FMTTYPE=image/png:https://kids-on-tour.net/wp-content/uploads/2024/02/Heres-Where-I-Stand.png
END:VEVENT
BEGIN:VEVENT
DTSTART;TZID=America/New_York:20240303T190000
DTEND;TZID=America/New_York:20240303T203000
DTSTAMP:20260425T131502
CREATED:20240212T164739Z
LAST-MODIFIED:20240212T164739Z
UID:23195-1709492400-1709497800@kids-on-tour.net
SUMMARY:"13: In Concert"
DESCRIPTION:TICKETS \nFeaturing Sam Primack (Dear Evan Hansen\, The Addams Family)! \nEver wanted to see professional Broadway adults in “13: the Musical?” Holy mackeroly\, oh\, it can’t be true. \nAndrew Barth Feldman\, Lawrence Woodmere Academy\, and Zneefrock Productions are proud to present “13: the Musical” as a benefit concert for the Barbra Barth Feldman Performing Arts Center! Featuring Andrew Barth Feldman as Evan Goldman alongside a soon-to-be-announced\, star-studded cast\, this gem of a musical has a little more homework to do (i.e. adults playing thirteen-year-olds).
URL:https://kids-on-tour.net/event/black-excellence-on-broadway-duplicate-1/
LOCATION:Lawrence Woodmere Academy\, 336 Woodmere Boulevard\, Woodmere\, 11598\, United States
CATEGORIES:Calendar
ATTACH;FMTTYPE=image/jpeg:https://kids-on-tour.net/wp-content/uploads/2024/02/13-in-concert-banner.jpg
END:VEVENT
BEGIN:VEVENT
DTSTART;TZID=America/Chicago:20240304T200000
DTEND;TZID=America/Chicago:20240304T213000
DTSTAMP:20260425T131502
CREATED:20240301T173942Z
LAST-MODIFIED:20240301T173942Z
UID:23255-1709582400-1709587800@kids-on-tour.net
SUMMARY:"Sincerely Yours - Love Letters from the Road" (Mrs. Doubtfire Cabaret)
DESCRIPTION:PURCHASE TICKETS \nFeaturing the kids of Mrs. Doubtfire! \nThe company of Mrs. Doubtfire the Musical presents Sincerely Yours: Love Letters From the Road an evening of cabaret entertainment aid of the philanthropic heart of our industry\, Broadway Cares/Equity Fights AIDS.
URL:https://kids-on-tour.net/event/sincerely-yours-love-letters-from-the-road-mrs-doubtfire-cabaret/
LOCATION:Venus Cabaret\, 3741 N Southport Ave\, Chicago\, IL\, United States
CATEGORIES:Calendar
ATTACH;FMTTYPE=image/png:https://kids-on-tour.net/wp-content/uploads/2024/03/Mrs-Doubtfire-Cabaret.png
END:VEVENT
BEGIN:VEVENT
DTSTART;VALUE=DATE:20240305
DTEND;VALUE=DATE:20240509
DTSTAMP:20260425T131503
CREATED:20240312T185333Z
LAST-MODIFIED:20240312T185333Z
UID:23303-1709596800-1715212799@kids-on-tour.net
SUMMARY:Richard III - Classical Studio at NYU Tisch
DESCRIPTION:TICKETS  \n\n\n\n\nAlexa Shae Niziak\n(Mary Poppins\, A Christmas Story)\nas Elizabeth / Hastings / Margaret
URL:https://kids-on-tour.net/event/richard-iii-classical-studio-at-nyu-tisch/
LOCATION:Paulson Center\, 181 Mercer St\, 5th Floor\, Studio A\, New York\, NY\, 10012\, United States
CATEGORIES:Regional
ATTACH;FMTTYPE=image/png:https://kids-on-tour.net/wp-content/uploads/2024/03/richard-iii-banner.png
END:VEVENT
BEGIN:VEVENT
DTSTART;VALUE=DATE:20240307
DTEND;VALUE=DATE:20240311
DTSTAMP:20260425T131503
CREATED:20240305T205140Z
LAST-MODIFIED:20240305T205140Z
UID:23281-1709769600-1710115199@kids-on-tour.net
SUMMARY:Beautiful: The Carole King Musical - SCAD
DESCRIPTION:TICKETS \n\n\n\n\nBridget Carly Marsh\n(Annie)\nas TBA
URL:https://kids-on-tour.net/event/beautiful-the-carole-king-musical-scad/
LOCATION:Lucas Theatre for the Arts\, 32 Abercorn St\, Savannah\, GA\, 31401\, United States
CATEGORIES:Regional
ATTACH;FMTTYPE=image/png:https://kids-on-tour.net/wp-content/uploads/2024/03/beautiful-scad.png
END:VEVENT
BEGIN:VEVENT
DTSTART;TZID=America/Los_Angeles:20240311T190000
DTEND;TZID=America/Los_Angeles:20240311T203000
DTSTAMP:20260425T131503
CREATED:20240304T193850Z
LAST-MODIFIED:20240304T193850Z
UID:23271-1710183600-1710189000@kids-on-tour.net
SUMMARY:Lily Brooks O'Briant at The Troubadour
DESCRIPTION:GET TICKETS
URL:https://kids-on-tour.net/event/lily-brooks-obriant-at-the-troubadour/
LOCATION:The Troubadour\, 9081 N Santa Monica Blvd\, West Hollywood\, 90069\, United States
CATEGORIES:Calendar
ATTACH;FMTTYPE=image/png:https://kids-on-tour.net/wp-content/uploads/2024/03/Lily-Brooks-O-Briant-at-the-Troubadour.png
END:VEVENT
BEGIN:VEVENT
DTSTART;VALUE=DATE:20240315
DTEND;VALUE=DATE:20240316
DTSTAMP:20260425T131503
CREATED:20240228T184024Z
LAST-MODIFIED:20240228T184024Z
UID:23236-1710460800-1710547199@kids-on-tour.net
SUMMARY:"Tiny Time Travel" Release Date
DESCRIPTION:WATCH HERE \nFeaturing Casey Renee (Annie)!
URL:https://kids-on-tour.net/event/tiny-time-travel-release-date/
LOCATION:PBS Kids
CATEGORIES:Calendar
ATTACH;FMTTYPE=image/jpeg:https://kids-on-tour.net/wp-content/uploads/2024/02/tiny-time-travel-banner.jpg
END:VEVENT
BEGIN:VEVENT
DTSTART;VALUE=DATE:20240315
DTEND;VALUE=DATE:20240317
DTSTAMP:20260425T131503
CREATED:20240301T174332Z
LAST-MODIFIED:20240301T174332Z
UID:23259-1710460800-1710633599@kids-on-tour.net
SUMMARY:Matilda Jr - White Plains Middle School - Highlands
DESCRIPTION:Tickets available at the door. \n\n\n\n\nMackenzie Mercer\n(Frozen\, Grinch\, Les Miserables)\nas Matilda
URL:https://kids-on-tour.net/event/matilda-jr-white-plains-middle-school-highlands/
LOCATION:White Plains Middle School – Highlands\, 128 Grandview Ave\, White Plains\, NY\, United States
CATEGORIES:Regional
ATTACH;FMTTYPE=image/png:https://kids-on-tour.net/wp-content/uploads/2024/03/Matilda-Jr-White-Plains-Middle-School.png
END:VEVENT
BEGIN:VEVENT
DTSTART;VALUE=DATE:20240320
DTEND;VALUE=DATE:20240324
DTSTAMP:20260425T131503
CREATED:20240313T173750Z
LAST-MODIFIED:20240313T173750Z
UID:23309-1710892800-1711238399@kids-on-tour.net
SUMMARY:High School Musical - Arroyo Vista Middle School
DESCRIPTION:TICKETS \n\n\n\n\nAmelija Hill\n(The Sound of Music)\nas Gabriella\nWednesday\, Friday\, and Saturday night cast
URL:https://kids-on-tour.net/event/high-school-musical-arroyo-vista-middle-school/
LOCATION:Arroyo Vista Middle School Theater\, 23371 Arroyo Vista\, Rancho Santa Margarita\, CA\, 92688\, United States
CATEGORIES:Regional
ATTACH;FMTTYPE=image/png:https://kids-on-tour.net/wp-content/uploads/2024/03/high-school-musical-arroyo-vista.png
END:VEVENT
BEGIN:VEVENT
DTSTART;VALUE=DATE:20240321
DTEND;VALUE=DATE:20240401
DTSTAMP:20260425T131503
CREATED:20240325T230104Z
LAST-MODIFIED:20240325T230104Z
UID:23335-1710979200-1711929599@kids-on-tour.net
SUMMARY:Fun Home - Lean Ensemble Theater
DESCRIPTION:GET TICKETS \n\n\n\n\nRiley Fincher-Foster\n(A Christmas Story)\nas Small Alison
URL:https://kids-on-tour.net/event/fun-home-lean-ensemble-theater/
LOCATION:HHPS Main Street Theatre\, 3000 Main Street\, Hilton Head Island\, SC\, 29926\, United States
CATEGORIES:Regional
ATTACH;FMTTYPE=image/png:https://kids-on-tour.net/wp-content/uploads/2024/03/fun-home-lean-ensemble-theater.png
END:VEVENT
BEGIN:VEVENT
DTSTART;TZID=America/Los_Angeles:20240321T213000
DTEND;TZID=America/Los_Angeles:20240321T230000
DTSTAMP:20260425T131503
CREATED:20240229T183623Z
LAST-MODIFIED:20240229T183655Z
UID:23240-1711056600-1711062000@kids-on-tour.net
SUMMARY:"54 Sings the Do Not Sing List"
DESCRIPTION:PURCHASE HERE \nFeaturing Joshua Turchin (A Christmas Story)!  \nJoin your favorite New York City performers at 54 Below for a night of Broadway music that we all know and love… maybe a little too much! Directed and produced by Annie Brown\, with music direction by Joshua Turchin\, 54 Sings The “Do Not Sing” List is bound to get your toes tapping and fingers snapping as you hear your favorite songs reimagined! Instead of wanting to spend the night “On My Own\,” join us as we revive some musical theater classics! Even if “Everybody Says Don’t\,” this will be an “Astonishing” evening you won’t want to miss!
URL:https://kids-on-tour.net/event/54-sings-the-do-not-sing-list/
LOCATION:54 Below\, 254 W 54th St. Cellar\, New York\, NY\, 10019\, United States
CATEGORIES:Calendar
ATTACH;FMTTYPE=image/png:https://kids-on-tour.net/wp-content/uploads/2024/02/54-Sings-The-Do-Not-Sing-List-site-image-23.png
END:VEVENT
BEGIN:VEVENT
DTSTART;VALUE=DATE:20240322
DTEND;VALUE=DATE:20240325
DTSTAMP:20260425T131503
CREATED:20240205T174748Z
LAST-MODIFIED:20240205T174748Z
UID:23184-1711065600-1711324799@kids-on-tour.net
SUMMARY:Annie Jr - Norris Performing Arts Center
DESCRIPTION:TICKETS  \n\n\n\n\nKensley Dibble\n(Waitress)\nas Annie
URL:https://kids-on-tour.net/event/annie-jr-norris-performing-arts-center/
LOCATION:Norris Performing Arts Center\, 25747 Jefferson Ave\, Murrieta\, CA\, 92562
CATEGORIES:Regional
ATTACH;FMTTYPE=image/jpeg:https://kids-on-tour.net/wp-content/uploads/annie-jr-white-background.jpg
END:VEVENT
BEGIN:VEVENT
DTSTART;TZID=America/New_York:20240323T183000
DTEND;TZID=America/New_York:20240323T200000
DTSTAMP:20260425T131503
CREATED:20240318T181610Z
LAST-MODIFIED:20240318T181610Z
UID:23319-1711218600-1711224000@kids-on-tour.net
SUMMARY:Broadway Star Project Presents "Hope On Stage" Cabaret
DESCRIPTION:GET TICKETS \nFeaturing Brigg Liberman (A Bronx Tale) and Ana-Sofia Rodriguez (On Your Feet)!  \nExperience the Magic: Join Us for a Night of Cabaret at the Legendary Triad Theatre in NYC! \nIndulge in an evening of enchantment as Broadway Artists and aspiring young performers grace the stage of the iconic Triad Theatre in the heart of New York City. This is your invitation to be a part of something truly extraordinary! \nPrepare to be dazzled by the exceptional talent on display as Broadway Artists and emerging stars come together for an unforgettable performance. From show-stopping numbers to heartfelt ballads\, each moment promises to captivate and inspire.
URL:https://kids-on-tour.net/event/broadway-star-project-presents-hope-on-stage-cabaret/
LOCATION:The Triad\, 158 West 72nd Street\, 2nd floor\, New York\, NY\, 10023\, United States
CATEGORIES:Calendar
ATTACH;FMTTYPE=image/png:https://kids-on-tour.net/wp-content/uploads/2024/03/Broadway-Star-Project-Hope-On-Stage-Concert.png
END:VEVENT
BEGIN:VEVENT
DTSTART;TZID=America/New_York:20240323T190000
DTEND;TZID=America/New_York:20240323T203000
DTSTAMP:20260425T131503
CREATED:20240228T183734Z
LAST-MODIFIED:20240228T183734Z
UID:23233-1711220400-1711225800@kids-on-tour.net
SUMMARY:Joshua Turchin's Composers at Green Room 42
DESCRIPTION:GET IN-PERSON AND LIVESTREAM TICKETS \nFeaturing A Christmas Story alum Joshua Turchin! \nComposers In The Green Room 42 is a special behind-the-scenes experience of songwriters\, singers\, and storytelling led by composer/actor/musician Joshua Turchin (The Marvelous Mrs. Maisel\, Forbidden Broadway\, 13: the Musical Movie\, Schmigadoon!) with viral sensations/guest composers Katherine Lynn-Rose\, August Greenwood\, Grace Yurchuk\, and More! Join us as we hear from some of TikTok and Instagram’s most successful composers\, with special guest performers. Who knows…maybe you’ll even hear unreleased songs before they go viral!
URL:https://kids-on-tour.net/event/joshua-turchins-composers-at-green-room-42/
LOCATION:The Green Room 42\, 570 10th Ave\, New York\, NY\, 10036\, United States
CATEGORIES:Calendar
ATTACH;FMTTYPE=image/png:https://kids-on-tour.net/wp-content/uploads/2024/02/composers-at-green-room-42.png
END:VEVENT
BEGIN:VEVENT
DTSTART;TZID=America/New_York:20240325T190000
DTEND;TZID=America/New_York:20240325T203000
DTSTAMP:20260425T131503
CREATED:20240304T193156Z
LAST-MODIFIED:20240304T193156Z
UID:23265-1711393200-1711398600@kids-on-tour.net
SUMMARY:Come Spirit\, Come Charm: A Tribute to the Life and Music of Lucy Simon
DESCRIPTION:GET TICKETS \nFeaturing Les Miserables alum Emily Jewel Hoder and her sister Sunny! \nPlease join us for an evening celebrating the life and music of Tony Nominated\, Grammy Award Winning Broadway composer Lucy Simon (The Secret Garden\, Dr. Zhivago). Lucy Simon\, only the third woman in history to compose for the Broadway stage\, spent her life making music – joining her sister Carly Simon recording several albums of folk music as The Simon Sisters\, writing and producing the Grammy Award winning In Harmony albums\, and bringing the incredible The Secret Garden and Dr. Zhivago to the Broadway.
URL:https://kids-on-tour.net/event/come-spirit-come-charm-a-tribute-to-the-life-and-music-of-lucy-simon/
LOCATION:Joe’s Pub\, 425 Lafayette St\, New York\, NY\, 10003\, United States
CATEGORIES:Calendar
ATTACH;FMTTYPE=image/png:https://kids-on-tour.net/wp-content/uploads/2024/03/celebrating-lucy-simon-banner.png
END:VEVENT
BEGIN:VEVENT
DTSTART;VALUE=DATE:20240326
DTEND;VALUE=DATE:20240327
DTSTAMP:20260425T131503
CREATED:20240308T181226Z
LAST-MODIFIED:20240308T181226Z
UID:23293-1711411200-1711497599@kids-on-tour.net
SUMMARY:"Bugs Bunny Builders" Season Premiere
DESCRIPTION:WATCH HERE \nFeaturing Catherine Last (Waitress) as Greta!
URL:https://kids-on-tour.net/event/bugs-bunny-builders-season-premiere/
LOCATION:HBO Max
CATEGORIES:Calendar
ATTACH;FMTTYPE=image/jpeg:https://kids-on-tour.net/wp-content/uploads/2024/03/bugs-bunny-builders-banner-scaled.jpg
END:VEVENT
BEGIN:VEVENT
DTSTART;VALUE=DATE:20240329
DTEND;VALUE=DATE:20240506
DTSTAMP:20260425T131503
CREATED:20240221T174404Z
LAST-MODIFIED:20240221T174404Z
UID:23212-1711670400-1714953599@kids-on-tour.net
SUMMARY:Unknown Soldier - Arena Stage
DESCRIPTION:TICKETS  \n\n\n\n\nRiglee Ruth Bryson\n(Annie)\nas Lucy Rabinowitz/Young Ellen
URL:https://kids-on-tour.net/event/unknown-soldier-arena-stage/
LOCATION:Arena Stage\, 1101 6th St SW\, Washington\, DC\, 20024\, United States
CATEGORIES:Regional
ATTACH;FMTTYPE=image/jpeg:https://kids-on-tour.net/wp-content/uploads/2024/02/unknownsoldier-1920x1080-1.jpg
END:VEVENT
BEGIN:VEVENT
DTSTART;TZID=America/New_York:20240330T190000
DTEND;TZID=America/New_York:20240330T203000
DTSTAMP:20260425T131503
CREATED:20240311T175646Z
LAST-MODIFIED:20240311T175646Z
UID:23299-1711825200-1711830600@kids-on-tour.net
SUMMARY:Diva Night at The Green Room 42
DESCRIPTION:GET IN-PERSON AND LIVESTREAM TICKETS \nFeaturing Jordan Cole (Finding Neverland\, Les Miserables)\, Olivia J. Lu (Les Miserables)\, Sofie Nesanelis (Les Miserables\, How the Grinch Stole Christmas)\, and Jillian Paige Platero (The Lion King)! \nBubble\, bubble\, toil and trouble! After a year away\, Cabaret on the Couch Live flies back in to haunt The Green Room 42 and all who inhabit it. As always\, we’ll be serving up a simmering brew of rising star talent\, and friendly faces from Broadway and beyond for an “all treats\, no tricks” celebration of the spookiest season. Don your wings\, mount your brooms\, and hurry on in for a frightfully fun night! Cabaret on the Couch debuted in March 2020\, to benefit New York arts organizations in a time of need. Since then\, over 200 artists have joined our stage\, including rising stars and special guests from Wicked\, Hadestown\, Company\, Kinky Boots\, Diana\, The Book of Mormon\, and more. Along the way\, we’ve brought our support to incredible organizations\, including Broadway Green Alliance\, National Queer Theater\, SheNYC Arts\, and Broadway for Arts Education. The Cabaret on the Couch team includes Ian McQueen\, Tori Vitucci\, Elizabeth Fahsbender\, Raynner Garcia\, and Hannah Hall.
URL:https://kids-on-tour.net/event/diva-night-at-the-green-room-42/
LOCATION:The Green Room 42\, 570 10th Ave\, New York\, NY\, 10036\, United States
CATEGORIES:Calendar
ATTACH;FMTTYPE=image/jpeg:https://kids-on-tour.net/wp-content/uploads/2024/03/diva-night-banner.jpg
END:VEVENT
END:VCALENDAR