BEGIN:VCALENDAR
VERSION:2.0
PRODID:-//Kids on Tour - ECPv6.2.6//NONSGML v1.0//EN
CALSCALE:GREGORIAN
METHOD:PUBLISH
X-ORIGINAL-URL:https://kids-on-tour.net
X-WR-CALDESC:Events for Kids on Tour
REFRESH-INTERVAL;VALUE=DURATION:PT1H
X-Robots-Tag:noindex
X-PUBLISHED-TTL:PT1H
BEGIN:VTIMEZONE
TZID:America/New_York
BEGIN:DAYLIGHT
TZOFFSETFROM:-0500
TZOFFSETTO:-0400
TZNAME:EDT
DTSTART:20230312T070000
END:DAYLIGHT
BEGIN:STANDARD
TZOFFSETFROM:-0400
TZOFFSETTO:-0500
TZNAME:EST
DTSTART:20231105T060000
END:STANDARD
BEGIN:DAYLIGHT
TZOFFSETFROM:-0500
TZOFFSETTO:-0400
TZNAME:EDT
DTSTART:20240310T070000
END:DAYLIGHT
BEGIN:STANDARD
TZOFFSETFROM:-0400
TZOFFSETTO:-0500
TZNAME:EST
DTSTART:20241103T060000
END:STANDARD
TZID:America/Chicago
BEGIN:DAYLIGHT
TZOFFSETFROM:-0600
TZOFFSETTO:-0500
TZNAME:CDT
DTSTART:20230312T080000
END:DAYLIGHT
BEGIN:STANDARD
TZOFFSETFROM:-0500
TZOFFSETTO:-0600
TZNAME:CST
DTSTART:20231105T070000
END:STANDARD
TZID:America/Los_Angeles
BEGIN:DAYLIGHT
TZOFFSETFROM:-0800
TZOFFSETTO:-0700
TZNAME:PDT
DTSTART:20230312T100000
END:DAYLIGHT
BEGIN:STANDARD
TZOFFSETFROM:-0700
TZOFFSETTO:-0800
TZNAME:PST
DTSTART:20231105T090000
END:STANDARD
BEGIN:DAYLIGHT
TZOFFSETFROM:-0800
TZOFFSETTO:-0700
TZNAME:PDT
DTSTART:20240310T100000
END:DAYLIGHT
BEGIN:STANDARD
TZOFFSETFROM:-0700
TZOFFSETTO:-0800
TZNAME:PST
DTSTART:20241103T090000
END:STANDARD
TZID:America/Phoenix
BEGIN:STANDARD
TZOFFSETFROM:-0700
TZOFFSETTO:-0700
TZNAME:MST
DTSTART:20230101T000000
END:STANDARD
TZID:America/Boise
BEGIN:DAYLIGHT
TZOFFSETFROM:-0700
TZOFFSETTO:-0600
TZNAME:MDT
DTSTART:20230312T090000
END:DAYLIGHT
BEGIN:STANDARD
TZOFFSETFROM:-0600
TZOFFSETTO:-0700
TZNAME:MST
DTSTART:20231105T080000
END:STANDARD
END:VTIMEZONE
BEGIN:VEVENT
DTSTART;VALUE=DATE:20231101
DTEND;VALUE=DATE:20231231
DTSTAMP:20260425T191543
CREATED:20230925T174628Z
LAST-MODIFIED:20231016T174240Z
UID:22865-1698796800-1703980799@kids-on-tour.net
SUMMARY:The Polar Express Train Ride - Whippany\, NJ
DESCRIPTION:TICKETS \n\n\n\n\nDesmond Elyseev\n(The Sound Of Music)\nas Hero Child\n\n\nAddison Valentino\n(Anastasia)\nas Hero Child
URL:https://kids-on-tour.net/event/polar-express-train-ride-whippany-2023/
LOCATION:Whippany Station\, 1 Railroad Plz\, Whippany\, NJ\, 07981\, United States
CATEGORIES:Regional
ATTACH;FMTTYPE=image/jpeg:https://kids-on-tour.net/wp-content/uploads/2022/10/The-Polar-Express-Train-Ride-Whippany.jpg
END:VEVENT
BEGIN:VEVENT
DTSTART;VALUE=DATE:20231103
DTEND;VALUE=DATE:20231203
DTSTAMP:20260425T191543
CREATED:20231002T170543Z
LAST-MODIFIED:20231002T170543Z
UID:22915-1698969600-1701561599@kids-on-tour.net
SUMMARY:X: The Life and Times of Malcolm X - Metropolitan Opera
DESCRIPTION:TICKETS \n\n\n\n\nScarlett London Diviney\n(The Lion King)\nas Young Malcolm’s sister
URL:https://kids-on-tour.net/event/x-the-life-and-times-of-malcolm-x-metropolitan-opera/
LOCATION:Metropolitan Opera\, 30 Lincoln Center Plaza\, New York\, NY\, 10023\, United States
CATEGORIES:Regional
ATTACH;FMTTYPE=image/jpeg:https://kids-on-tour.net/wp-content/uploads/2023/10/x-life-and-times-of-malcolm-x.jpg
END:VEVENT
BEGIN:VEVENT
DTSTART;VALUE=DATE:20231107
DTEND;VALUE=DATE:20240101
DTSTAMP:20260425T191543
CREATED:20231106T182216Z
LAST-MODIFIED:20231106T182216Z
UID:23110-1699315200-1704067199@kids-on-tour.net
SUMMARY:Rudolph the Red Nosed Reindeer - The Coterie
DESCRIPTION:TICKETS \n\n\n\n\nDelilah Rose Pellow\n(Anastasia)\nas Clarice
URL:https://kids-on-tour.net/event/rudolph-the-red-nosed-reindeer-the-coterie/
LOCATION:Crown Center\, 2450 Grand Blvd\, Suite 144\, Kansas City\, MO\, 64108\, United States
CATEGORIES:Regional
ATTACH;FMTTYPE=image/jpeg:https://kids-on-tour.net/wp-content/uploads/2023/11/rudolph-2023-coterie.jpg
END:VEVENT
BEGIN:VEVENT
DTSTART;VALUE=DATE:20231109
DTEND;VALUE=DATE:20240108
DTSTAMP:20260425T191543
CREATED:20231031T173155Z
LAST-MODIFIED:20231031T173155Z
UID:23081-1699488000-1704671999@kids-on-tour.net
SUMMARY:A Christmas Story - Roger Rocka's Dinner Theater
DESCRIPTION:TICKETS \n\n\n\n\nKailyn Sanders\n(A Christmas Story)\nChildren’s Ensemble
URL:https://kids-on-tour.net/event/a-christmas-story-roger-rockas-dinner-theater/
LOCATION:Roger Rocka’s Dinner Theater\, 1226 N Wishon Ave\, Fresno\, CA\, 93728\, United States
CATEGORIES:Regional
ATTACH;FMTTYPE=image/jpeg:https://kids-on-tour.net/wp-content/uploads/2023/10/a-christmas-story-roger-rockas-banner.jpg
END:VEVENT
BEGIN:VEVENT
DTSTART;VALUE=DATE:20231109
DTEND;VALUE=DATE:20240112
DTSTAMP:20260425T191543
CREATED:20231103T174808Z
LAST-MODIFIED:20231103T174808Z
UID:23099-1699488000-1705017599@kids-on-tour.net
SUMMARY:John & Jen Act 1 - Playwrights Horizons Theatre School
DESCRIPTION:TICKETS  \n\n\n\n\nJoshua Turchin\n(A Christmas Story)\nMusic Director
URL:https://kids-on-tour.net/event/john-and-jen-act-1-playwrights-horizons-theatre-school/
LOCATION:Robert Moss Theater at Playwrights Dowtown\, 440 Lafayette Street\, #4\, New York\, NY\, 10003
CATEGORIES:Regional
ATTACH;FMTTYPE=image/jpeg:https://kids-on-tour.net/wp-content/uploads/2023/11/john-and-jen.jpg
END:VEVENT
BEGIN:VEVENT
DTSTART;VALUE=DATE:20231110
DTEND;VALUE=DATE:20240108
DTSTAMP:20260425T191543
CREATED:20230908T190315Z
LAST-MODIFIED:20230908T190315Z
UID:22823-1699574400-1704671999@kids-on-tour.net
SUMMARY:Miracle On 34th Street: The Musical - Toby's Dinner Theatre
DESCRIPTION:TICKETS \n\n\n\n\nHazel Vogel\n(Les Miserables)\nas Susan Walker
URL:https://kids-on-tour.net/event/miracle-on-34th-street-the-musical-tobys-dinner-theatre/
LOCATION:Toby’s Dinner Theatre\, 5900 Symphony Woods Rd\, Columbia\, MD\, 21044\, United States
CATEGORIES:Regional
ATTACH;FMTTYPE=image/jpeg:https://kids-on-tour.net/wp-content/uploads/2023/09/miracle-on-34th-st-tobys-dinner-theatre.jpg
END:VEVENT
BEGIN:VEVENT
DTSTART;VALUE=DATE:20231110
DTEND;VALUE=DATE:20231224
DTSTAMP:20260425T191543
CREATED:20231013T184417Z
LAST-MODIFIED:20231013T184417Z
UID:22952-1699574400-1703375999@kids-on-tour.net
SUMMARY:Matilda - Seacoast Repertory Theatre
DESCRIPTION:TICKETS  \n\n\n\n\nSofie Nesanelis\n(Grinch\, Les Miserables)\nas Matilda
URL:https://kids-on-tour.net/event/matilda-seacoast-repertory-theatre/
LOCATION:Seacoast Repertory Theatre\, 125 Bow St\, Portsmouth\, NH\, 03801\, United States
CATEGORIES:Regional
ATTACH;FMTTYPE=image/jpeg:https://kids-on-tour.net/wp-content/uploads/2023/10/matilda-seacoast.jpg
END:VEVENT
BEGIN:VEVENT
DTSTART;VALUE=DATE:20231117
DTEND;VALUE=DATE:20240101
DTSTAMP:20260425T191543
CREATED:20231013T185332Z
LAST-MODIFIED:20231103T180538Z
UID:22959-1700179200-1704067199@kids-on-tour.net
SUMMARY:A Christmas Carol - Ford's Theater
DESCRIPTION:TICKETS \n\n\n\n\nRiglee Ruth Bryson\n(Annie)\nas Belinda Cratchit/Rich Daughter/School Kid
URL:https://kids-on-tour.net/event/a-christmas-carol-fords-theater/
LOCATION:Ford’s Theater\, 511 Tenth Street\, NW\, Washington\, DC\, 20004
CATEGORIES:Regional
ATTACH;FMTTYPE=image/jpeg:https://kids-on-tour.net/wp-content/uploads/2023/10/a-christmas-carol-fords-theater-scaled.jpeg
END:VEVENT
BEGIN:VEVENT
DTSTART;VALUE=DATE:20231117
DTEND;VALUE=DATE:20231224
DTSTAMP:20260425T191543
CREATED:20231106T182548Z
LAST-MODIFIED:20231106T182548Z
UID:23115-1700179200-1703375999@kids-on-tour.net
SUMMARY:Meet Me in St Louis - Myers Dinner Theater
DESCRIPTION:TICKETS \n\n\n\n\nAllie Stacey\n(Waitress)\nas Tootie
URL:https://kids-on-tour.net/event/meet-me-in-st-louis-myers-dinner-theater/
LOCATION:Myers Dinner Theater\, 108 N Water St\, Hillsboro\, IN\, 47949\, United States
CATEGORIES:Regional
ATTACH;FMTTYPE=image/jpeg:https://kids-on-tour.net/wp-content/uploads/2023/11/meet-me-in-st-louis-myers-dinner-theater.jpg
END:VEVENT
BEGIN:VEVENT
DTSTART;VALUE=DATE:20231124
DTEND;VALUE=DATE:20231229
DTSTAMP:20260425T191543
CREATED:20231013T193111Z
LAST-MODIFIED:20231016T173220Z
UID:22963-1700784000-1703807999@kids-on-tour.net
SUMMARY:A Christmas Carol - Hale Centre Theatre
DESCRIPTION:TICKETS  \n\n\n\n\nHailey Burnham\n(Grinch)\nas Little Fan/Harriet Cratchit/Want/Carol Girl\n\n\nParker Burnham\n(A Christmas Story)\nas TBA
URL:https://kids-on-tour.net/event/a-christmas-carol-hale-centre-theatre-2023/
LOCATION:Hale Centre Theatre\, 9900 Monroe St\, Sandy\, UT\, 84070\, United States
CATEGORIES:Regional
ATTACH;FMTTYPE=image/jpeg:https://kids-on-tour.net/wp-content/uploads/2023/10/a-christmas-carol-hale-centre-theatre.jpg
END:VEVENT
BEGIN:VEVENT
DTSTART;VALUE=DATE:20231124
DTEND;VALUE=DATE:20231224
DTSTAMP:20260425T191543
CREATED:20231017T165723Z
LAST-MODIFIED:20231024T173736Z
UID:23003-1700784000-1703375999@kids-on-tour.net
SUMMARY:The Secret Garden - Chance Theater
DESCRIPTION:TICKETS \n\n\n\n\nCatherine Last\n(Waitress)\nas Mary Lennox\n\n\nElizabeth Last\n(Waitress)\nas Mary Lennox
URL:https://kids-on-tour.net/event/the-secret-garden-chance-theater/
LOCATION:Bette Aitken Theater Arts Center\, 5522 E La Palma Ave\, Anaheim\, 92807
CATEGORIES:Regional
ATTACH;FMTTYPE=image/png:https://kids-on-tour.net/wp-content/uploads/2023/10/the-secret-garden-chance-theater.png
END:VEVENT
BEGIN:VEVENT
DTSTART;VALUE=DATE:20231125
DTEND;VALUE=DATE:20231224
DTSTAMP:20260425T191543
CREATED:20230927T173037Z
LAST-MODIFIED:20230927T173037Z
UID:22902-1700870400-1703375999@kids-on-tour.net
SUMMARY:A Christmas Carol - Hale Center Theater Orem
DESCRIPTION:TICKETS \n\n\n\n\nPenny Hodson\n(The Sound of Music)\nas TBA
URL:https://kids-on-tour.net/event/a-christmas-carol-hale-center-theater-orem/
LOCATION:Hale Center Theater (Orem)\, 225 West 400 North\, Orem\, UT\, 84057
CATEGORIES:Regional
ATTACH;FMTTYPE=image/jpeg:https://kids-on-tour.net/wp-content/uploads/2023/09/a-christmas-carol-hale-orem.jpg
END:VEVENT
BEGIN:VEVENT
DTSTART;VALUE=DATE:20231130
DTEND;VALUE=DATE:20231218
DTSTAMP:20260425T191543
CREATED:20231108T172341Z
LAST-MODIFIED:20231108T172341Z
UID:23122-1701302400-1702857599@kids-on-tour.net
SUMMARY:A Christmas Story - Temple Theatre
DESCRIPTION:TICKETS  \n\n\n\n\nScarlett Unger\n(Days of Wine and Roses)\nas TBA
URL:https://kids-on-tour.net/event/a-christmas-story-temple-theatre/
LOCATION:Temple Theatre\, 120 Carthage St\, Sanford\, NC\, 27330\, United States
CATEGORIES:Regional
ATTACH;FMTTYPE=image/jpeg:https://kids-on-tour.net/wp-content/uploads/2023/11/a-christmas-story-temple-theatre.jpg
END:VEVENT
BEGIN:VEVENT
DTSTART;VALUE=DATE:20231201
DTEND;VALUE=DATE:20231218
DTSTAMP:20260425T191543
CREATED:20231009T181716Z
LAST-MODIFIED:20231009T181716Z
UID:22933-1701388800-1702857599@kids-on-tour.net
SUMMARY:White Christmas - Bellevue Little Theatre
DESCRIPTION:TICKETS  \n\n\n\n\nVienna Maas\n(Waitress)\nas Susan Waverly
URL:https://kids-on-tour.net/event/white-christmas-bellevue-little-theatre/
LOCATION:Bellevue Little Theatre\, 203 W Mission Ave\, Bellevue\, NE\, 68005
CATEGORIES:Regional
ATTACH;FMTTYPE=image/jpeg:https://kids-on-tour.net/wp-content/uploads/2023/10/white-christmas-bellevue.jpg
END:VEVENT
BEGIN:VEVENT
DTSTART;VALUE=DATE:20231201
DTEND;VALUE=DATE:20231204
DTSTAMP:20260425T191543
CREATED:20231016T174145Z
LAST-MODIFIED:20231016T174145Z
UID:22976-1701388800-1701647999@kids-on-tour.net
SUMMARY:Frozen Jr - Norris Performing Arts Center
DESCRIPTION:TICKETS  \n\n\n\n\nKensley Dibble\n(Waitress)\nas Young Anna
URL:https://kids-on-tour.net/event/frozen-jr-norris-performing-arts-center/
LOCATION:Norris Performing Arts Center\, 25747 Jefferson Ave\, Murrieta\, CA\, 92562
CATEGORIES:Regional
ATTACH;FMTTYPE=image/jpeg:https://kids-on-tour.net/wp-content/uploads/2023/10/frozen-jr-banner.jpg
END:VEVENT
BEGIN:VEVENT
DTSTART;VALUE=DATE:20231202
DTEND;VALUE=DATE:20231211
DTSTAMP:20260425T191543
CREATED:20231024T174115Z
LAST-MODIFIED:20231024T174115Z
UID:23057-1701475200-1702252799@kids-on-tour.net
SUMMARY:School of Rock - Royal Theater Academy
DESCRIPTION:TICKETS  \n\n\n\n\nBridget Virginia Werner\n(Waitress)\nas Lead Dance Student (AC/DC Cast)
URL:https://kids-on-tour.net/event/school-of-rock-royal-theater-academy/
LOCATION:Livermore High School\, 600 Maple St\, Livermore\, CA\, 94550\, United States
CATEGORIES:Regional
ATTACH;FMTTYPE=image/jpeg:https://kids-on-tour.net/wp-content/uploads/2023/10/school-of-rock-rta.jpg
END:VEVENT
BEGIN:VEVENT
DTSTART;TZID=America/Los_Angeles:20231203T190000
DTEND;TZID=America/Los_Angeles:20231203T203000
DTSTAMP:20260425T191543
CREATED:20231020T170156Z
LAST-MODIFIED:20231020T170156Z
UID:23041-1701630000-1701635400@kids-on-tour.net
SUMMARY:The Cast of Sweeney Todd
DESCRIPTION:GET TICKETS \nFeaturing Gaten Matarazzo (Les Miserables\, “Stranger Things” on Netflix)! \nTickets will go on sale to Patrons on Fri\, Oct 20 at 12pm\nTickets will go on sale to Supporter+ and Club 54 on Mon\, Oct 23 at 12pm\nTickets will go on sale to Supporters on Tue\, Oct 24 at 12pm\nTickets will go on sale to Friends on Wed\, Oct 25 at 12pm\nTickets will go on sale to the General Public on Thur\, Oct 26 at 12pm \nThe Cast of Sweeney Todd on Broadway is coming together at 54 Below for a night of music! Taking a slight detour from Fleet Street\, they are excited to sing songs from a variety of styles. From pop music to jazz to musical theater to original material\, they cannot wait to sing the house down at 54 Below. A portion of the proceeds will benefit the Entertainment Community Fund\, which has been a pivotal organization helping so many artists during the strikes and the pandemic.
URL:https://kids-on-tour.net/event/the-cast-of-sweeney-todd-54-below/
LOCATION:54 Below\, 254 W 54th St. Cellar\, New York\, NY\, 10019\, United States
CATEGORIES:Calendar
ATTACH;FMTTYPE=image/jpeg:https://kids-on-tour.net/wp-content/uploads/2023/10/The-Cast-of-Sweeney-Todd-site-image-23-1.jpg
END:VEVENT
BEGIN:VEVENT
DTSTART;VALUE=DATE:20231205
DTEND;VALUE=DATE:20240101
DTSTAMP:20260425T191543
CREATED:20231009T181101Z
LAST-MODIFIED:20231009T181101Z
UID:22929-1701734400-1704067199@kids-on-tour.net
SUMMARY:A Christmas Story - Center Theatre Group
DESCRIPTION:TICKETS \n\n\n\n\nKai Edgar\n(Charlie and the Chocolate Factory)\nas Ralphie Parker\n\n\nIzzy Pike\n(Annie)\nas Mary Beth
URL:https://kids-on-tour.net/event/a-christmas-story-center-theatre-group/
LOCATION:Ahmanson Theater\, 135 N Grand Ave\, Los Angeles\, CA\, 90021\, United States
CATEGORIES:Regional
ATTACH;FMTTYPE=image/jpeg:https://kids-on-tour.net/wp-content/uploads/2021/09/christmas-story-banner-lrg.jpg
END:VEVENT
BEGIN:VEVENT
DTSTART;TZID=America/Chicago:20231205T193000
DTEND;TZID=America/Chicago:20231205T220000
DTSTAMP:20260425T191543
CREATED:20230822T002157Z
LAST-MODIFIED:20231024T202232Z
UID:22772-1701804600-1701813600@kids-on-tour.net
SUMMARY:Peter Pan First Performance
DESCRIPTION:GET TICKETS
URL:https://kids-on-tour.net/event/peter-pan-first-performance/
LOCATION:Ordway Center\, 345 Washington St\, St. Paul\, MN\, 55102\, United States
CATEGORIES:Calendar
ATTACH;FMTTYPE=image/jpeg:https://kids-on-tour.net/wp-content/uploads/2023/08/peter-pan-musical-banner.jpg
END:VEVENT
BEGIN:VEVENT
DTSTART;VALUE=DATE:20231206
DTEND;VALUE=DATE:20231225
DTSTAMP:20260425T191543
CREATED:20231017T170311Z
LAST-MODIFIED:20231017T170311Z
UID:23008-1701820800-1703462399@kids-on-tour.net
SUMMARY:A Christmas Carol - McCarter Theatre Center
DESCRIPTION:TICKETS  \n\n\n\n\nAdriella Goncalves\n(Anastasia)\nas Fan/Young Ensemble
URL:https://kids-on-tour.net/event/a-christmas-carol-mccarter-theatre-center/
LOCATION:McCarter Theatre Center\, 91 University Pl\, Princeton\, NJ\, 08540
CATEGORIES:Regional
ATTACH;FMTTYPE=image/jpeg:https://kids-on-tour.net/wp-content/uploads/2023/10/a-christmas-carol-mccarter-cropped.jpg
END:VEVENT
BEGIN:VEVENT
DTSTART;VALUE=DATE:20231208
DTEND;VALUE=DATE:20231231
DTSTAMP:20260425T191543
CREATED:20231023T222307Z
LAST-MODIFIED:20231023T222828Z
UID:23044-1701993600-1703980799@kids-on-tour.net
SUMMARY:The Nutcracker - National Ballet of Canada
DESCRIPTION:TICKETS \n\n\n\n\nSloane Boyko\n(Waitress)\nas TBA
URL:https://kids-on-tour.net/event/the-nutcracker-national-ballet-of-canada/
LOCATION:Four Seasons Centre for the Performing Arts\, 145 Queen Street West\, Toronto\, Ontario\, M5H 4G1\, Canada
CATEGORIES:Regional
ATTACH;FMTTYPE=image/jpeg:https://kids-on-tour.net/wp-content/uploads/2023/10/the-nutcracker-national-ballet-of-canada.jpg
END:VEVENT
BEGIN:VEVENT
DTSTART;VALUE=DATE:20231208
DTEND;VALUE=DATE:20231231
DTSTAMP:20260425T191543
CREATED:20231023T222805Z
LAST-MODIFIED:20231023T222805Z
UID:23048-1701993600-1703980799@kids-on-tour.net
SUMMARY:The Phantom of the Opera (Young Performers Edition) - Ephrata Performing Arts Center
DESCRIPTION:TICKETS  \n\n\n\n\nJack Ryan Packer\n(Finding Neverland)\nas Raoul
URL:https://kids-on-tour.net/event/phantom-of-the-opera-young-performers-edition-ephrata-performing-arts-center/
LOCATION:Ephrata Performing Arts Center\, 320 Cocalico St\, Ephrata\, PA\, 17522\, United States
CATEGORIES:Regional
ATTACH;FMTTYPE=image/png:https://kids-on-tour.net/wp-content/uploads/2023/10/phantom-ypp.png
END:VEVENT
BEGIN:VEVENT
DTSTART;TZID=America/New_York:20231216T190000
DTEND;TZID=America/New_York:20231216T203000
DTSTAMP:20260425T191543
CREATED:20231009T182122Z
LAST-MODIFIED:20231009T182122Z
UID:22938-1702753200-1702758600@kids-on-tour.net
SUMMARY:Deck the Halls with Holly
DESCRIPTION:MAKE RESERVATIONS \nFeaturing Mackenzie Mercer (Frozen\, Les Miserables\, How the Grinch Stole Christmas)! \nHolly Block and Friends are bringing you back to the golden age of Christmas and Musical Theater! \n‘Tis the season for giving and this show will be raising money for a non-for profit called The Youth Mental Health Project!!  \nBring your Christmas spirit and get ready for a night of 1940s delight!
URL:https://kids-on-tour.net/event/deck-the-halls-with-holly/
LOCATION:Don’t Tell Mama\, 343 W 46th St\, New York\, NY\, 10036\, United States
CATEGORIES:Calendar
ATTACH;FMTTYPE=image/jpeg:https://kids-on-tour.net/wp-content/uploads/2023/10/deck-the-halls-with-holly.jpg
END:VEVENT
BEGIN:VEVENT
DTSTART;TZID=America/New_York:20231219T213000
DTEND;TZID=America/New_York:20231219T230000
DTSTAMP:20260425T191543
CREATED:20231107T175339Z
LAST-MODIFIED:20231107T175339Z
UID:23119-1703021400-1703026800@kids-on-tour.net
SUMMARY:54 Sings Alice in Wonderland Musicals
DESCRIPTION:GET TICKETS \nFeaturing Joshua Turchin (A Christmas Story)! \nAre you ready to go down the rabbit hole? Joshua Turchin\, Kaden Potak\, and their ensemble of Broadway performers and musicians are so excited to bring their celebration of Alice in Wonderland musicals to 54 Below! Produced by Joshua Turchin and Kaden Potak\, 54 Celebrates Alice in Wonderland Musicals features tunes from long-forgotten adaptations\, modern reimaginings\, and Broadway-bound phenomena inspired by Alice in Wonderland! Including songs from Disney’s Alice in Wonderland\, Alice By Heart\, Wonderland\, Wonder.land\, and more\, there’s plenty of reasons to go MAD with excitement! This is one unforgettable evening you won’t want to miss\, so don’t wait until you’re late! Musical direction by Joshua Turchin.
URL:https://kids-on-tour.net/event/54-sings-alice-in-wonderland-musicals/
LOCATION:54 Below\, 254 W 54th St. Cellar\, New York\, NY\, 10019\, United States
CATEGORIES:Calendar
ATTACH;FMTTYPE=image/jpeg:https://kids-on-tour.net/wp-content/uploads/2023/11/54-Celebrates-Alice-in-Wonderland-Musicals-site-image-23.jpg
END:VEVENT
BEGIN:VEVENT
DTSTART;TZID=America/Chicago:20231231T130000
DTEND;TZID=America/Chicago:20231231T143000
DTSTAMP:20260425T191543
CREATED:20230822T002729Z
LAST-MODIFIED:20230822T002729Z
UID:22779-1704027600-1704033000@kids-on-tour.net
SUMMARY:How the Grinch Stole Christmas East Coast Tour Closing Performance
DESCRIPTION:GET TICKETS
URL:https://kids-on-tour.net/event/how-the-grinch-stole-christmas-east-coast-tour-closing-performance/
LOCATION:Cadillac Palace Theatre\, 151 W Randolph St\, Chicago\, IL\, 60601\, United States
CATEGORIES:Calendar
ATTACH;FMTTYPE=image/jpeg:https://kids-on-tour.net/wp-content/uploads/2020/08/grinch-banner-large.jpg
END:VEVENT
BEGIN:VEVENT
DTSTART;TZID=America/Los_Angeles:20231231T133000
DTEND;TZID=America/Los_Angeles:20231231T150000
DTSTAMP:20260425T191543
CREATED:20230822T002608Z
LAST-MODIFIED:20230822T002608Z
UID:22776-1704029400-1704034800@kids-on-tour.net
SUMMARY:How the Grinch Stole Christmas West Coast Tour Closing Performance
DESCRIPTION:GET TICKETS
URL:https://kids-on-tour.net/event/how-the-grinch-stole-christmas-west-coast-tour-closing-performance/
LOCATION:SAFE Credit Union Performing Arts Center\, 1301 L St\, Sacramento\, CA\, 95814\, United States
CATEGORIES:Calendar
ATTACH;FMTTYPE=image/jpeg:https://kids-on-tour.net/wp-content/uploads/2020/08/grinch-banner-large.jpg
END:VEVENT
END:VCALENDAR